BEGIN:VCALENDAR
VERSION:2.0
PRODID:-//Evangelische Kirchengemeinde Mainz-Hechtsheim - ECPv6.15.20//NONSGML v1.0//EN
CALSCALE:GREGORIAN
METHOD:PUBLISH
X-WR-CALNAME:Evangelische Kirchengemeinde Mainz-Hechtsheim
X-ORIGINAL-URL:https://www.ekg-hechtsheim.de
X-WR-CALDESC:Veranstaltungen für Evangelische Kirchengemeinde Mainz-Hechtsheim
REFRESH-INTERVAL;VALUE=DURATION:PT1H
X-Robots-Tag:noindex
X-PUBLISHED-TTL:PT1H
BEGIN:VTIMEZONE
TZID:Europe/Paris
BEGIN:DAYLIGHT
TZOFFSETFROM:+0100
TZOFFSETTO:+0200
TZNAME:CEST
DTSTART:20230326T010000
END:DAYLIGHT
BEGIN:STANDARD
TZOFFSETFROM:+0200
TZOFFSETTO:+0100
TZNAME:CET
DTSTART:20231029T010000
END:STANDARD
BEGIN:DAYLIGHT
TZOFFSETFROM:+0100
TZOFFSETTO:+0200
TZNAME:CEST
DTSTART:20240331T010000
END:DAYLIGHT
BEGIN:STANDARD
TZOFFSETFROM:+0200
TZOFFSETTO:+0100
TZNAME:CET
DTSTART:20241027T010000
END:STANDARD
BEGIN:DAYLIGHT
TZOFFSETFROM:+0100
TZOFFSETTO:+0200
TZNAME:CEST
DTSTART:20250330T010000
END:DAYLIGHT
BEGIN:STANDARD
TZOFFSETFROM:+0200
TZOFFSETTO:+0100
TZNAME:CET
DTSTART:20251026T010000
END:STANDARD
END:VTIMEZONE
BEGIN:VEVENT
DTSTART;TZID=Europe/Paris:20240517T200000
DTEND;TZID=Europe/Paris:20240517T200000
DTSTAMP:20260421T213708
CREATED:20240227T085739Z
LAST-MODIFIED:20240227T085739Z
UID:10002076-1715976000-1715976000@www.ekg-hechtsheim.de
SUMMARY:Ökumenische Pfingstkomplet mit Bibel-Prozession
DESCRIPTION:Die Komplet (Nachtgebet) ist seit dem Hechtsheimer Kirchentag am Freitag vor Pfingsten Teil unseres ökumenischen Miteinanders in Hechtsheim geworden. Wir treffen uns in der Pfarrkirche St. Pankratius\, um die Bibel auf die Frankenhöhe zu bringen. Dort schließt sich die Komplet an. Im evangelischen Gemeindehaus wird die Bibel\, die vor mehr als 30 Jahren von 820 Hechtsheimer Bürgerinnen und Bürgern per Hand geschrieben wurde\, das nächste Jahr stehen.
URL:https://www.ekg-hechtsheim.de/veranstaltungen/oekumenische-pfingstkomplet-mit-bibel-prozession/
LOCATION:Von St. Pankratius zum Gemeindehaus Frankenhöhe
CATEGORIES:Gottesdienste
END:VEVENT
END:VCALENDAR