BEGIN:VCALENDAR
VERSION:2.0
PRODID:-//Evangelische Kirchengemeinde Mainz-Hechtsheim - ECPv6.15.20//NONSGML v1.0//EN
CALSCALE:GREGORIAN
METHOD:PUBLISH
X-ORIGINAL-URL:https://www.ekg-hechtsheim.de
X-WR-CALDESC:Veranstaltungen für Evangelische Kirchengemeinde Mainz-Hechtsheim
REFRESH-INTERVAL;VALUE=DURATION:PT1H
X-Robots-Tag:noindex
X-PUBLISHED-TTL:PT1H
BEGIN:VTIMEZONE
TZID:Europe/Paris
BEGIN:DAYLIGHT
TZOFFSETFROM:+0100
TZOFFSETTO:+0200
TZNAME:CEST
DTSTART:20220327T010000
END:DAYLIGHT
BEGIN:STANDARD
TZOFFSETFROM:+0200
TZOFFSETTO:+0100
TZNAME:CET
DTSTART:20221030T010000
END:STANDARD
BEGIN:DAYLIGHT
TZOFFSETFROM:+0100
TZOFFSETTO:+0200
TZNAME:CEST
DTSTART:20230326T010000
END:DAYLIGHT
BEGIN:STANDARD
TZOFFSETFROM:+0200
TZOFFSETTO:+0100
TZNAME:CET
DTSTART:20231029T010000
END:STANDARD
BEGIN:DAYLIGHT
TZOFFSETFROM:+0100
TZOFFSETTO:+0200
TZNAME:CEST
DTSTART:20240331T010000
END:DAYLIGHT
BEGIN:STANDARD
TZOFFSETFROM:+0200
TZOFFSETTO:+0100
TZNAME:CET
DTSTART:20241027T010000
END:STANDARD
END:VTIMEZONE
BEGIN:VEVENT
DTSTART;TZID=Europe/Paris:20231031T130000
DTEND;TZID=Europe/Paris:20231031T170000
DTSTAMP:20260422T051759
CREATED:20230905T093739Z
LAST-MODIFIED:20230905T093739Z
UID:10001990-1698757200-1698771600@www.ekg-hechtsheim.de
SUMMARY:Aktion zum Reformationstag in der Mainzer Innenstadt unter dem Titel "Gott ist Liebe! Wir sind auf dem Weg."
DESCRIPTION:
URL:https://www.ekg-hechtsheim.de/veranstaltungen/aktion-zum-reformationstag-in-der-mainzer-innenstadt-unter-dem-titel-gott-ist-liebe-wir-sind-auf-dem-weg/
LOCATION:Mainzer Innenstadt
CATEGORIES:Sonstiges
END:VEVENT
END:VCALENDAR