BEGIN:VCALENDAR
VERSION:2.0
PRODID:-//Evangelische Kirchengemeinde Mainz-Hechtsheim - ECPv6.15.20//NONSGML v1.0//EN
CALSCALE:GREGORIAN
METHOD:PUBLISH
X-ORIGINAL-URL:https://www.ekg-hechtsheim.de
X-WR-CALDESC:Veranstaltungen für Evangelische Kirchengemeinde Mainz-Hechtsheim
REFRESH-INTERVAL;VALUE=DURATION:PT1H
X-Robots-Tag:noindex
X-PUBLISHED-TTL:PT1H
BEGIN:VTIMEZONE
TZID:Europe/Paris
BEGIN:DAYLIGHT
TZOFFSETFROM:+0100
TZOFFSETTO:+0200
TZNAME:CEST
DTSTART:20230326T010000
END:DAYLIGHT
BEGIN:STANDARD
TZOFFSETFROM:+0200
TZOFFSETTO:+0100
TZNAME:CET
DTSTART:20231029T010000
END:STANDARD
BEGIN:DAYLIGHT
TZOFFSETFROM:+0100
TZOFFSETTO:+0200
TZNAME:CEST
DTSTART:20240331T010000
END:DAYLIGHT
BEGIN:STANDARD
TZOFFSETFROM:+0200
TZOFFSETTO:+0100
TZNAME:CET
DTSTART:20241027T010000
END:STANDARD
BEGIN:DAYLIGHT
TZOFFSETFROM:+0100
TZOFFSETTO:+0200
TZNAME:CEST
DTSTART:20250330T010000
END:DAYLIGHT
BEGIN:STANDARD
TZOFFSETFROM:+0200
TZOFFSETTO:+0100
TZNAME:CET
DTSTART:20251026T010000
END:STANDARD
END:VTIMEZONE
BEGIN:VEVENT
DTSTART;TZID=Europe/Paris:20240602T100000
DTEND;TZID=Europe/Paris:20240602T100000
DTSTAMP:20260421T142741
CREATED:20240320T100901Z
LAST-MODIFIED:20240320T100901Z
UID:10002104-1717322400-1717322400@www.ekg-hechtsheim.de
SUMMARY:Gottesdienst
DESCRIPTION:
URL:https://www.ekg-hechtsheim.de/veranstaltungen/gottesdienst-271/
LOCATION:Gemeindezentrum Lion-Feuchtwanger-Straße\, Lion-Feuchtwanger Str. 14\, Mainz\, 55129\, Deutschland
CATEGORIES:Gottesdienste
GEO:49.9621;8.2738908
X-APPLE-STRUCTURED-LOCATION;VALUE=URI;X-ADDRESS=Gemeindezentrum Lion-Feuchtwanger-Straße Lion-Feuchtwanger Str. 14 Mainz 55129 Deutschland;X-APPLE-RADIUS=500;X-TITLE=Lion-Feuchtwanger Str. 14:geo:8.2738908,49.9621
END:VEVENT
BEGIN:VEVENT
DTSTART;TZID=Europe/Paris:20240602T110000
DTEND;TZID=Europe/Paris:20240602T110000
DTSTAMP:20260421T142741
CREATED:20240320T100959Z
LAST-MODIFIED:20240507T092644Z
UID:10002105-1717326000-1717326000@www.ekg-hechtsheim.de
SUMMARY:Gottesdienst\, anschließend Kirchkaffee
DESCRIPTION:
URL:https://www.ekg-hechtsheim.de/veranstaltungen/gottesdienst-272/
LOCATION:Gemeindehaus Frankenhöhe\, Bodenheimer Straße 58\, Mainz\, 55129\, Deutschland
CATEGORIES:Gottesdienste
GEO:49.9667007;8.2872534
X-APPLE-STRUCTURED-LOCATION;VALUE=URI;X-ADDRESS=Gemeindehaus Frankenhöhe Bodenheimer Straße 58 Mainz 55129 Deutschland;X-APPLE-RADIUS=500;X-TITLE=Bodenheimer Straße 58:geo:8.2872534,49.9667007
END:VEVENT
BEGIN:VEVENT
DTSTART;TZID=Europe/Paris:20240606T160000
DTEND;TZID=Europe/Paris:20240606T160000
DTSTAMP:20260421T142741
CREATED:20240507T094713Z
LAST-MODIFIED:20240603T065048Z
UID:10002112-1717689600-1717689600@www.ekg-hechtsheim.de
SUMMARY:Werktagsgottesdienst ENTFÄLLT!
DESCRIPTION:
URL:https://www.ekg-hechtsheim.de/veranstaltungen/werktagsgottesdienst-mit-abendmahl-104/
CATEGORIES:Gottesdienste
END:VEVENT
BEGIN:VEVENT
DTSTART;TZID=Europe/Paris:20240608T150000
DTEND;TZID=Europe/Paris:20240608T150000
DTSTAMP:20260421T142741
CREATED:20240227T081805Z
LAST-MODIFIED:20240227T081805Z
UID:10002074-1717858800-1717858800@www.ekg-hechtsheim.de
SUMMARY:Seniorenclub - Thema heute: "Geh aus\, mein Herz …“ Singen im Sommer
DESCRIPTION:Der Seniorenclub trifft sich normalerweise jeden Monat am 2. Samstag.\nWer daran teilnehmen möchte\, meldet sich bitte bis zum Mittwoch vor dem\njeweiligen Monatstermin im Pfarrbüro unter 06131 59 65 0 an.\nEin Anrufbeantworter zeichnet Ihre Anmeldung auch außerhalb der Bürozeiten auf.
URL:https://www.ekg-hechtsheim.de/veranstaltungen/seniorenclub-thema-heute-geh-aus-mein-herz-singen-im-sommer/
LOCATION:Gemeindezentrum Lion-Feuchtwanger-Straße\, Lion-Feuchtwanger Str. 14\, Mainz\, 55129\, Deutschland
CATEGORIES:Gemeinde
GEO:49.9621;8.2738908
X-APPLE-STRUCTURED-LOCATION;VALUE=URI;X-ADDRESS=Gemeindezentrum Lion-Feuchtwanger-Straße Lion-Feuchtwanger Str. 14 Mainz 55129 Deutschland;X-APPLE-RADIUS=500;X-TITLE=Lion-Feuchtwanger Str. 14:geo:8.2738908,49.9621
END:VEVENT
BEGIN:VEVENT
DTSTART;VALUE=DATE:20240609
DTEND;VALUE=DATE:20240610
DTSTAMP:20260421T142741
CREATED:20240507T094910Z
LAST-MODIFIED:20240507T094910Z
UID:10002114-1717891200-1717977599@www.ekg-hechtsheim.de
SUMMARY:Kinderkirche ENTFÄLLT
DESCRIPTION:
URL:https://www.ekg-hechtsheim.de/veranstaltungen/kinderkirche-entfaellt/
LOCATION:Gemeindehaus Frankenhöhe\, Bodenheimer Straße 58\, Mainz\, 55129\, Deutschland
CATEGORIES:Gottesdienste
GEO:49.9667007;8.2872534
X-APPLE-STRUCTURED-LOCATION;VALUE=URI;X-ADDRESS=Gemeindehaus Frankenhöhe Bodenheimer Straße 58 Mainz 55129 Deutschland;X-APPLE-RADIUS=500;X-TITLE=Bodenheimer Straße 58:geo:8.2872534,49.9667007
END:VEVENT
BEGIN:VEVENT
DTSTART;TZID=Europe/Paris:20240609T100000
DTEND;TZID=Europe/Paris:20240609T170000
DTSTAMP:20260421T142741
CREATED:20240507T094816Z
LAST-MODIFIED:20240507T094816Z
UID:10002113-1717927200-1717952400@www.ekg-hechtsheim.de
SUMMARY:Gottesdienst
DESCRIPTION:
URL:https://www.ekg-hechtsheim.de/veranstaltungen/gottesdienst-273/
LOCATION:Gemeindezentrum Lion-Feuchtwanger-Straße\, Lion-Feuchtwanger Str. 14\, Mainz\, 55129\, Deutschland
CATEGORIES:Gottesdienste
GEO:49.9621;8.2738908
X-APPLE-STRUCTURED-LOCATION;VALUE=URI;X-ADDRESS=Gemeindezentrum Lion-Feuchtwanger-Straße Lion-Feuchtwanger Str. 14 Mainz 55129 Deutschland;X-APPLE-RADIUS=500;X-TITLE=Lion-Feuchtwanger Str. 14:geo:8.2738908,49.9621
END:VEVENT
BEGIN:VEVENT
DTSTART;TZID=Europe/Paris:20240612T193000
DTEND;TZID=Europe/Paris:20240612T193000
DTSTAMP:20260421T142741
CREATED:20240226T095754Z
LAST-MODIFIED:20240226T155422Z
UID:10002063-1718220600-1718220600@www.ekg-hechtsheim.de
SUMMARY:"Literatur-Häppchen" am Mittwochabend: Lesung mit musikalischer "Beilage"
DESCRIPTION:Christiane Prätorius (Schauspielerin/Sprecherin) liest Texte zum Thema Heimat \nIm Anschluss nettes Beisammensein bei Getränken und Knabbereien \nDer Eintritt ist frei – um eine Spende wird gebeten
URL:https://www.ekg-hechtsheim.de/veranstaltungen/literatur-haeppchen-am-mittwochabend-lesung-mit-musikalischer-beilage-von-und-mit-christiane-praetorius-schauspielerin-sprecherin-3/
LOCATION:Gemeindezentrum Lion-Feuchtwanger-Straße\, Lion-Feuchtwanger Str. 14\, Mainz\, 55129\, Deutschland
CATEGORIES:Gemeinde
GEO:49.9621;8.2738908
X-APPLE-STRUCTURED-LOCATION;VALUE=URI;X-ADDRESS=Gemeindezentrum Lion-Feuchtwanger-Straße Lion-Feuchtwanger Str. 14 Mainz 55129 Deutschland;X-APPLE-RADIUS=500;X-TITLE=Lion-Feuchtwanger Str. 14:geo:8.2738908,49.9621
END:VEVENT
BEGIN:VEVENT
DTSTART;TZID=Europe/Paris:20240614T180000
DTEND;TZID=Europe/Paris:20240614T180000
DTSTAMP:20260421T142741
CREATED:20240320T101613Z
LAST-MODIFIED:20240320T101613Z
UID:10002106-1718388000-1718388000@www.ekg-hechtsheim.de
SUMMARY:Lust auf Singen?! - Heute: Taize´-Lieder
DESCRIPTION:Lust auf Singen\, weltliche und geistliche Lieder zu verschiedenen Themen\, Kanons und lockeres Stimmtraining unter Leitung von Carolin Kaiser
URL:https://www.ekg-hechtsheim.de/veranstaltungen/lust-auf-singen-heute-taize-lieder/
LOCATION:Gemeindezentrum Lion-Feuchtwanger-Straße\, Lion-Feuchtwanger Str. 14\, Mainz\, 55129\, Deutschland
CATEGORIES:Gemeinde
GEO:49.9621;8.2738908
X-APPLE-STRUCTURED-LOCATION;VALUE=URI;X-ADDRESS=Gemeindezentrum Lion-Feuchtwanger-Straße Lion-Feuchtwanger Str. 14 Mainz 55129 Deutschland;X-APPLE-RADIUS=500;X-TITLE=Lion-Feuchtwanger Str. 14:geo:8.2738908,49.9621
END:VEVENT
BEGIN:VEVENT
DTSTART;TZID=Europe/Paris:20240615T110000
DTEND;TZID=Europe/Paris:20240615T110000
DTSTAMP:20260421T142741
CREATED:20240507T100751Z
LAST-MODIFIED:20240507T100751Z
UID:10002122-1718449200-1718449200@www.ekg-hechtsheim.de
SUMMARY:Aktionstag rund um das Gemeindehaus Frankenhöhe
DESCRIPTION:
URL:https://www.ekg-hechtsheim.de/veranstaltungen/aktionstag-rund-um-das-gemeindehaus-frankenhoehe/
LOCATION:Gemeindehaus Frankenhöhe\, Bodenheimer Straße 58\, Mainz\, 55129\, Deutschland
CATEGORIES:Gemeinde
GEO:49.9667007;8.2872534
X-APPLE-STRUCTURED-LOCATION;VALUE=URI;X-ADDRESS=Gemeindehaus Frankenhöhe Bodenheimer Straße 58 Mainz 55129 Deutschland;X-APPLE-RADIUS=500;X-TITLE=Bodenheimer Straße 58:geo:8.2872534,49.9667007
END:VEVENT
BEGIN:VEVENT
DTSTART;VALUE=DATE:20240616
DTEND;VALUE=DATE:20240617
DTSTAMP:20260421T142741
CREATED:20240507T100039Z
LAST-MODIFIED:20240507T100039Z
UID:10002116-1718496000-1718582399@www.ekg-hechtsheim.de
SUMMARY:Gottesdienst im Gemeindehaus ENTFÄLLT!
DESCRIPTION:
URL:https://www.ekg-hechtsheim.de/veranstaltungen/gottesdienst-im-gemeindehaus-entfaellt/
LOCATION:Gemeindehaus Frankenhöhe\, Bodenheimer Straße 58\, Mainz\, 55129\, Deutschland
CATEGORIES:Gottesdienste
GEO:49.9667007;8.2872534
X-APPLE-STRUCTURED-LOCATION;VALUE=URI;X-ADDRESS=Gemeindehaus Frankenhöhe Bodenheimer Straße 58 Mainz 55129 Deutschland;X-APPLE-RADIUS=500;X-TITLE=Bodenheimer Straße 58:geo:8.2872534,49.9667007
END:VEVENT
BEGIN:VEVENT
DTSTART;TZID=Europe/Paris:20240616T080000
DTEND;TZID=Europe/Paris:20240616T170000
DTSTAMP:20260421T142741
CREATED:20240507T095944Z
LAST-MODIFIED:20240507T095944Z
UID:10002115-1718524800-1718557200@www.ekg-hechtsheim.de
SUMMARY:Gottesdienst
DESCRIPTION:
URL:https://www.ekg-hechtsheim.de/veranstaltungen/gottesdienst-274/
LOCATION:Gemeindezentrum Lion-Feuchtwanger-Straße\, Lion-Feuchtwanger Str. 14\, Mainz\, 55129\, Deutschland
CATEGORIES:Gottesdienste
GEO:49.9621;8.2738908
X-APPLE-STRUCTURED-LOCATION;VALUE=URI;X-ADDRESS=Gemeindezentrum Lion-Feuchtwanger-Straße Lion-Feuchtwanger Str. 14 Mainz 55129 Deutschland;X-APPLE-RADIUS=500;X-TITLE=Lion-Feuchtwanger Str. 14:geo:8.2738908,49.9621
END:VEVENT
BEGIN:VEVENT
DTSTART;VALUE=DATE:20240620
DTEND;VALUE=DATE:20240621
DTSTAMP:20260421T142741
CREATED:20240507T100136Z
LAST-MODIFIED:20240507T100136Z
UID:10002117-1718841600-1718927999@www.ekg-hechtsheim.de
SUMMARY:Werktagsgottesdienst ENTFÄLLT!
DESCRIPTION:
URL:https://www.ekg-hechtsheim.de/veranstaltungen/werktagsgottesdienst-entfaellt-2/
CATEGORIES:Gottesdienste
END:VEVENT
BEGIN:VEVENT
DTSTART;VALUE=DATE:20240622
DTEND;VALUE=DATE:20240623
DTSTAMP:20260421T142741
CREATED:20240507T100231Z
LAST-MODIFIED:20240507T100231Z
UID:10002118-1719014400-1719100799@www.ekg-hechtsheim.de
SUMMARY:Pilgerwanderung des Ökumenischen Arbeitskreises
DESCRIPTION:
URL:https://www.ekg-hechtsheim.de/veranstaltungen/pilgerwanderung-des-oekumenischen-arbeitskreises/
CATEGORIES:Gemeinde
END:VEVENT
BEGIN:VEVENT
DTSTART;VALUE=DATE:20240623
DTEND;VALUE=DATE:20240624
DTSTAMP:20260421T142741
CREATED:20240507T100308Z
LAST-MODIFIED:20240507T100308Z
UID:10002119-1719100800-1719187199@www.ekg-hechtsheim.de
SUMMARY:Gottesdienst ENTFÄLLT!
DESCRIPTION:
URL:https://www.ekg-hechtsheim.de/veranstaltungen/gottesdienst-entfaellt/
LOCATION:Gemeindezentrum Lion-Feuchtwanger-Straße\, Lion-Feuchtwanger Str. 14\, Mainz\, 55129\, Deutschland
CATEGORIES:Gottesdienste
GEO:49.9621;8.2738908
X-APPLE-STRUCTURED-LOCATION;VALUE=URI;X-ADDRESS=Gemeindezentrum Lion-Feuchtwanger-Straße Lion-Feuchtwanger Str. 14 Mainz 55129 Deutschland;X-APPLE-RADIUS=500;X-TITLE=Lion-Feuchtwanger Str. 14:geo:8.2738908,49.9621
END:VEVENT
BEGIN:VEVENT
DTSTART;TZID=Europe/Paris:20240623T110000
DTEND;TZID=Europe/Paris:20240623T110000
DTSTAMP:20260421T142741
CREATED:20240507T100404Z
LAST-MODIFIED:20240507T100404Z
UID:10002120-1719140400-1719140400@www.ekg-hechtsheim.de
SUMMARY:Gottesdienst
DESCRIPTION:
URL:https://www.ekg-hechtsheim.de/veranstaltungen/gottesdienst-275/
LOCATION:Gemeindehaus Frankenhöhe\, Bodenheimer Straße 58\, Mainz\, 55129\, Deutschland
CATEGORIES:Gottesdienste
GEO:49.9667007;8.2872534
X-APPLE-STRUCTURED-LOCATION;VALUE=URI;X-ADDRESS=Gemeindehaus Frankenhöhe Bodenheimer Straße 58 Mainz 55129 Deutschland;X-APPLE-RADIUS=500;X-TITLE=Bodenheimer Straße 58:geo:8.2872534,49.9667007
END:VEVENT
BEGIN:VEVENT
DTSTART;TZID=Europe/Paris:20240629T160000
DTEND;TZID=Europe/Paris:20240629T160000
DTSTAMP:20260421T142741
CREATED:20240115T093214Z
LAST-MODIFIED:20240508T071303Z
UID:10002050-1719676800-1719676800@www.ekg-hechtsheim.de
SUMMARY:Gottesdienst mit dem Kindermusical "Tuishi Pamoja"\, im Anschluss Sommerfest der evang. Kirchengemeinde
DESCRIPTION:
URL:https://www.ekg-hechtsheim.de/veranstaltungen/sommerfest-der-gemeinde-mit-abend-gottesdienst/
LOCATION:Gemeindezentrum Lion-Feuchtwanger-Straße\, Lion-Feuchtwanger Str. 14\, Mainz\, 55129\, Deutschland
CATEGORIES:Gemeinde,Gottesdienste
GEO:49.9621;8.2738908
X-APPLE-STRUCTURED-LOCATION;VALUE=URI;X-ADDRESS=Gemeindezentrum Lion-Feuchtwanger-Straße Lion-Feuchtwanger Str. 14 Mainz 55129 Deutschland;X-APPLE-RADIUS=500;X-TITLE=Lion-Feuchtwanger Str. 14:geo:8.2738908,49.9621
END:VEVENT
BEGIN:VEVENT
DTSTART;VALUE=DATE:20240630
DTEND;VALUE=DATE:20240701
DTSTAMP:20260421T142741
CREATED:20240507T100604Z
LAST-MODIFIED:20240507T100604Z
UID:10002121-1719705600-1719791999@www.ekg-hechtsheim.de
SUMMARY:KEINE weiteren Gottesdienste in GZ und GH wegen des Sommerfestes der Gemeinde
DESCRIPTION:
URL:https://www.ekg-hechtsheim.de/veranstaltungen/keine-weiteren-gottesdienste-in-gz-und-gh-wegen-des-sommerfestes-der-gemeinde/
CATEGORIES:Gottesdienste
END:VEVENT
END:VCALENDAR