BEGIN:VCALENDAR
VERSION:2.0
PRODID:-//Evangelische Kirchengemeinde Mainz-Hechtsheim - ECPv6.15.20//NONSGML v1.0//EN
CALSCALE:GREGORIAN
METHOD:PUBLISH
X-ORIGINAL-URL:https://www.ekg-hechtsheim.de
X-WR-CALDESC:Veranstaltungen für Evangelische Kirchengemeinde Mainz-Hechtsheim
REFRESH-INTERVAL;VALUE=DURATION:PT1H
X-Robots-Tag:noindex
X-PUBLISHED-TTL:PT1H
BEGIN:VTIMEZONE
TZID:Europe/Paris
BEGIN:DAYLIGHT
TZOFFSETFROM:+0100
TZOFFSETTO:+0200
TZNAME:CEST
DTSTART:20230326T010000
END:DAYLIGHT
BEGIN:STANDARD
TZOFFSETFROM:+0200
TZOFFSETTO:+0100
TZNAME:CET
DTSTART:20231029T010000
END:STANDARD
BEGIN:DAYLIGHT
TZOFFSETFROM:+0100
TZOFFSETTO:+0200
TZNAME:CEST
DTSTART:20240331T010000
END:DAYLIGHT
BEGIN:STANDARD
TZOFFSETFROM:+0200
TZOFFSETTO:+0100
TZNAME:CET
DTSTART:20241027T010000
END:STANDARD
BEGIN:DAYLIGHT
TZOFFSETFROM:+0100
TZOFFSETTO:+0200
TZNAME:CEST
DTSTART:20250330T010000
END:DAYLIGHT
BEGIN:STANDARD
TZOFFSETFROM:+0200
TZOFFSETTO:+0100
TZNAME:CET
DTSTART:20251026T010000
END:STANDARD
END:VTIMEZONE
BEGIN:VEVENT
DTSTART;TZID=Europe/Paris:20240401T100000
DTEND;TZID=Europe/Paris:20240401T100000
DTSTAMP:20260421T173231
CREATED:20240226T100824Z
LAST-MODIFIED:20240226T100824Z
UID:10002067-1711965600-1711965600@www.ekg-hechtsheim.de
SUMMARY:Ostergottesdienst
DESCRIPTION:
URL:https://www.ekg-hechtsheim.de/veranstaltungen/ostergottesdienst-3/
LOCATION:Gemeindezentrum Lion-Feuchtwanger-Straße\, Lion-Feuchtwanger Str. 14\, Mainz\, 55129\, Deutschland
CATEGORIES:Gottesdienste
GEO:49.9621;8.2738908
X-APPLE-STRUCTURED-LOCATION;VALUE=URI;X-ADDRESS=Gemeindezentrum Lion-Feuchtwanger-Straße Lion-Feuchtwanger Str. 14 Mainz 55129 Deutschland;X-APPLE-RADIUS=500;X-TITLE=Lion-Feuchtwanger Str. 14:geo:8.2738908,49.9621
END:VEVENT
BEGIN:VEVENT
DTSTART;TZID=Europe/Paris:20240403T193000
DTEND;TZID=Europe/Paris:20240403T193000
DTSTAMP:20260421T173231
CREATED:20240219T112558Z
LAST-MODIFIED:20240226T155520Z
UID:10002060-1712172600-1712172600@www.ekg-hechtsheim.de
SUMMARY:"Literatur-Häppchen" am Mittwochabend: Lesung mit musikalischer "Beilage"
DESCRIPTION:Christiane Prätorius (Schauspielerin/Sprecherin) liest Ausschnitte aus : „Der Bader von Mainz“ \nIm Anschluss nettes Beisammensein bei Getränken und Knabbereien \nDer Eintritt ist frei – um eine Spende wird gebeten
URL:https://www.ekg-hechtsheim.de/veranstaltungen/literatur-haeppchen-am-mittwochabend-lesung-mit-musikalischer-beilage-von-und-mit-christiane-praetorius-schauspielerin-sprecherin-2/
LOCATION:Gemeindezentrum Lion-Feuchtwanger-Straße\, Lion-Feuchtwanger Str. 14\, Mainz\, 55129\, Deutschland
CATEGORIES:Gemeinde
GEO:49.9621;8.2738908
X-APPLE-STRUCTURED-LOCATION;VALUE=URI;X-ADDRESS=Gemeindezentrum Lion-Feuchtwanger-Straße Lion-Feuchtwanger Str. 14 Mainz 55129 Deutschland;X-APPLE-RADIUS=500;X-TITLE=Lion-Feuchtwanger Str. 14:geo:8.2738908,49.9621
END:VEVENT
BEGIN:VEVENT
DTSTART;TZID=Europe/Paris:20240405T153000
DTEND;TZID=Europe/Paris:20240405T173000
DTSTAMP:20260421T173231
CREATED:20240227T090246Z
LAST-MODIFIED:20240227T090246Z
UID:10002077-1712331000-1712338200@www.ekg-hechtsheim.de
SUMMARY:Offener Kindernachmittag zum Thema Spiel und Spaß im Frühling für 6-9jährige
DESCRIPTION:Spielen\, Spaß haben\, basteln\, eine Geschichte hören\, Blumen pflanzen und …\nUm Anmeldung wird gebeten an sfeucht-muench@t-online.de oder telefonisch 06131 50 46 59
URL:https://www.ekg-hechtsheim.de/veranstaltungen/offener-kindernachmittag-zum-thema-spiel-und-spass-im-fruehling-fuer-6-9jaehrige/
LOCATION:Gemeindehaus Frankenhöhe\, Bodenheimer Straße 58\, Mainz\, 55129\, Deutschland
CATEGORIES:Gemeinde
GEO:49.9667007;8.2872534
X-APPLE-STRUCTURED-LOCATION;VALUE=URI;X-ADDRESS=Gemeindehaus Frankenhöhe Bodenheimer Straße 58 Mainz 55129 Deutschland;X-APPLE-RADIUS=500;X-TITLE=Bodenheimer Straße 58:geo:8.2872534,49.9667007
END:VEVENT
BEGIN:VEVENT
DTSTART;TZID=Europe/Paris:20240407T100000
DTEND;TZID=Europe/Paris:20240407T100000
DTSTAMP:20260421T173231
CREATED:20240226T100922Z
LAST-MODIFIED:20240226T100922Z
UID:10002068-1712484000-1712484000@www.ekg-hechtsheim.de
SUMMARY:Gottesdienst
DESCRIPTION:
URL:https://www.ekg-hechtsheim.de/veranstaltungen/gottesdienst-264/
LOCATION:Gemeindezentrum Lion-Feuchtwanger-Straße\, Lion-Feuchtwanger Str. 14\, Mainz\, 55129\, Deutschland
CATEGORIES:Gottesdienste
GEO:49.9621;8.2738908
X-APPLE-STRUCTURED-LOCATION;VALUE=URI;X-ADDRESS=Gemeindezentrum Lion-Feuchtwanger-Straße Lion-Feuchtwanger Str. 14 Mainz 55129 Deutschland;X-APPLE-RADIUS=500;X-TITLE=Lion-Feuchtwanger Str. 14:geo:8.2738908,49.9621
END:VEVENT
BEGIN:VEVENT
DTSTART;TZID=Europe/Paris:20240407T110000
DTEND;TZID=Europe/Paris:20240407T110000
DTSTAMP:20260421T173231
CREATED:20240226T101030Z
LAST-MODIFIED:20240226T101030Z
UID:10002069-1712487600-1712487600@www.ekg-hechtsheim.de
SUMMARY:Gottesdienst\, anschliessend Kirchkaffee
DESCRIPTION:
URL:https://www.ekg-hechtsheim.de/veranstaltungen/gottesdienst-anschliessend-kirchkaffee-4/
LOCATION:Gemeindehaus Frankenhöhe\, Bodenheimer Straße 58\, Mainz\, 55129\, Deutschland
CATEGORIES:Gottesdienste
GEO:49.9667007;8.2872534
X-APPLE-STRUCTURED-LOCATION;VALUE=URI;X-ADDRESS=Gemeindehaus Frankenhöhe Bodenheimer Straße 58 Mainz 55129 Deutschland;X-APPLE-RADIUS=500;X-TITLE=Bodenheimer Straße 58:geo:8.2872534,49.9667007
END:VEVENT
BEGIN:VEVENT
DTSTART;TZID=Europe/Paris:20240411T160000
DTEND;TZID=Europe/Paris:20240411T170000
DTSTAMP:20260421T173231
CREATED:20240313T075339Z
LAST-MODIFIED:20240313T075339Z
UID:10002085-1712851200-1712854800@www.ekg-hechtsheim.de
SUMMARY:Werktagsgottesdienst mit Abendmahl
DESCRIPTION:
URL:https://www.ekg-hechtsheim.de/veranstaltungen/werktagsgottesdienst-mit-abendmahl-101/
LOCATION:16:00 - \, Deutschland
CATEGORIES:Gottesdienste
END:VEVENT
BEGIN:VEVENT
DTSTART;TZID=Europe/Paris:20240412T180000
DTEND;TZID=Europe/Paris:20240412T190000
DTSTAMP:20260421T173231
CREATED:20231212T110405Z
LAST-MODIFIED:20231212T110406Z
UID:10002023-1712944800-1712948400@www.ekg-hechtsheim.de
SUMMARY:Lust auf Singen?! - Heute: Glaube\, Liebe\, Hoffnung
DESCRIPTION:Lust auf Singen?! – Singkreis der Evangelischen Kirchengemeinde Mainz-Hechtsheim: \nWeltliche & geistliche Lieder zu verschiedenen Themen\, Kanons und lockeres Stimmtraining\nDie nächsten Termine 2024:\n12. Januar\n9. Februar\n8. März\n12. April\njeweils 18–19 Uhr im evangelischen Gemeindezentrum \nAlle sind willkommen!\nKontakt:\nCarolin Kaiser\nTelefon: 0171 93 08 80 6\nE-Mail: carorgel94@gmail.com
URL:https://www.ekg-hechtsheim.de/veranstaltungen/lust-auf-singen-singkreis-5/
LOCATION:Gemeindezentrum Lion-Feuchtwanger-Straße\, Lion-Feuchtwanger Str. 14\, Mainz\, 55129\, Deutschland
CATEGORIES:Kultur
GEO:49.9621;8.2738908
X-APPLE-STRUCTURED-LOCATION;VALUE=URI;X-ADDRESS=Gemeindezentrum Lion-Feuchtwanger-Straße Lion-Feuchtwanger Str. 14 Mainz 55129 Deutschland;X-APPLE-RADIUS=500;X-TITLE=Lion-Feuchtwanger Str. 14:geo:8.2738908,49.9621
END:VEVENT
BEGIN:VEVENT
DTSTART;VALUE=DATE:20240413
DTEND;VALUE=DATE:20240414
DTSTAMP:20260421T173231
CREATED:20240227T092319Z
LAST-MODIFIED:20240227T092829Z
UID:10002080-1712966400-1713052799@www.ekg-hechtsheim.de
SUMMARY:Männerwandern - Schweizertal
DESCRIPTION:Wanderungen in der freien Natur.\nGespräche von Mann zu Mann über Gott und die Welt.\nDu bist ein Mann und willst dabei sein? \nWende dich an Pfarrer Adrian Ladner\n06131 60 32 27\nadrian.ladner@ekhn.de
URL:https://www.ekg-hechtsheim.de/veranstaltungen/maennerwandern-heute-schweizertal/
CATEGORIES:Gemeinde
END:VEVENT
BEGIN:VEVENT
DTSTART;TZID=Europe/Paris:20240413T150000
DTEND;TZID=Europe/Paris:20240413T150000
DTSTAMP:20260421T173231
CREATED:20240227T081316Z
LAST-MODIFIED:20240227T081545Z
UID:10002072-1713020400-1713020400@www.ekg-hechtsheim.de
SUMMARY:Seniorenclub - Die fünf „L“ für ein Wohlbefinden im Alter
DESCRIPTION:Thema Heute: Lernen\, Laufen\, Lieben\, Lachen\, Lachs\n– Die fünf „L“ für ein Wohlbefinden im Alter \n  \nDer Seniorenclub trifft sich normalerweise jeden Monat am 2. Samstag.\nWer daran teilnehmen möchte\, meldet sich bitte bis zum Mittwoch vor dem\njeweiligen Monatstermin im Pfarrbüro unter 06131 59 65 0 an.\nEin Anrufbeantworter zeichnet Ihre Anmeldung auch außerhalb der Bürozeiten auf.
URL:https://www.ekg-hechtsheim.de/veranstaltungen/seniorenclub-die-fuenf-l-fuer-ein-wohlbefinden-im-alter/
LOCATION:Gemeindezentrum Lion-Feuchtwanger-Straße\, Lion-Feuchtwanger Str. 14\, Mainz\, 55129\, Deutschland
CATEGORIES:Gemeinde
GEO:49.9621;8.2738908
X-APPLE-STRUCTURED-LOCATION;VALUE=URI;X-ADDRESS=Gemeindezentrum Lion-Feuchtwanger-Straße Lion-Feuchtwanger Str. 14 Mainz 55129 Deutschland;X-APPLE-RADIUS=500;X-TITLE=Lion-Feuchtwanger Str. 14:geo:8.2738908,49.9621
END:VEVENT
BEGIN:VEVENT
DTSTART;TZID=Europe/Paris:20240414T100000
DTEND;TZID=Europe/Paris:20240414T100000
DTSTAMP:20260421T173231
CREATED:20240226T101152Z
LAST-MODIFIED:20240313T075521Z
UID:10002070-1713088800-1713088800@www.ekg-hechtsheim.de
SUMMARY:Gottesdienst
DESCRIPTION:
URL:https://www.ekg-hechtsheim.de/veranstaltungen/gottesdienst-265/
LOCATION:Gemeindezentrum Lion-Feuchtwanger-Straße\, Lion-Feuchtwanger Str. 14\, Mainz\, 55129\, Deutschland
CATEGORIES:Gottesdienste
GEO:49.9621;8.2738908
X-APPLE-STRUCTURED-LOCATION;VALUE=URI;X-ADDRESS=Gemeindezentrum Lion-Feuchtwanger-Straße Lion-Feuchtwanger Str. 14 Mainz 55129 Deutschland;X-APPLE-RADIUS=500;X-TITLE=Lion-Feuchtwanger Str. 14:geo:8.2738908,49.9621
END:VEVENT
BEGIN:VEVENT
DTSTART;TZID=Europe/Paris:20240414T110000
DTEND;TZID=Europe/Paris:20240414T110000
DTSTAMP:20260421T173231
CREATED:20240226T101253Z
LAST-MODIFIED:20240226T101253Z
UID:10002071-1713092400-1713092400@www.ekg-hechtsheim.de
SUMMARY:Kinderkirche
DESCRIPTION:
URL:https://www.ekg-hechtsheim.de/veranstaltungen/kinderkirche-42/
LOCATION:Gemeindehaus Frankenhöhe\, Bodenheimer Straße 58\, Mainz\, 55129\, Deutschland
CATEGORIES:Gottesdienste
GEO:49.9667007;8.2872534
X-APPLE-STRUCTURED-LOCATION;VALUE=URI;X-ADDRESS=Gemeindehaus Frankenhöhe Bodenheimer Straße 58 Mainz 55129 Deutschland;X-APPLE-RADIUS=500;X-TITLE=Bodenheimer Straße 58:geo:8.2872534,49.9667007
END:VEVENT
BEGIN:VEVENT
DTSTART;TZID=Europe/Paris:20240420T110000
DTEND;TZID=Europe/Paris:20240420T143000
DTSTAMP:20260421T173231
CREATED:20240313T080228Z
LAST-MODIFIED:20240313T080301Z
UID:10002088-1713610800-1713623400@www.ekg-hechtsheim.de
SUMMARY:Aktionstag rund um das Gemeindezentrum
DESCRIPTION:Wir freuen uns über helfende Hände!
URL:https://www.ekg-hechtsheim.de/veranstaltungen/aktionstag-rund-um-das-gemeindezentrum-2/
LOCATION:Gemeindezentrum Lion-Feuchtwanger-Straße\, Lion-Feuchtwanger Str. 14\, Mainz\, 55129\, Deutschland
CATEGORIES:Gemeinde
GEO:49.9621;8.2738908
X-APPLE-STRUCTURED-LOCATION;VALUE=URI;X-ADDRESS=Gemeindezentrum Lion-Feuchtwanger-Straße Lion-Feuchtwanger Str. 14 Mainz 55129 Deutschland;X-APPLE-RADIUS=500;X-TITLE=Lion-Feuchtwanger Str. 14:geo:8.2738908,49.9621
END:VEVENT
BEGIN:VEVENT
DTSTART;TZID=Europe/Paris:20240421T100000
DTEND;TZID=Europe/Paris:20240421T100000
DTSTAMP:20260421T173231
CREATED:20240313T075635Z
LAST-MODIFIED:20240313T075635Z
UID:10002086-1713693600-1713693600@www.ekg-hechtsheim.de
SUMMARY:Gottesdienst
DESCRIPTION:
URL:https://www.ekg-hechtsheim.de/veranstaltungen/gottesdienst-266/
LOCATION:Gemeindezentrum Lion-Feuchtwanger-Straße\, Lion-Feuchtwanger Str. 14\, Mainz\, 55129\, Deutschland
CATEGORIES:Gottesdienste
GEO:49.9621;8.2738908
X-APPLE-STRUCTURED-LOCATION;VALUE=URI;X-ADDRESS=Gemeindezentrum Lion-Feuchtwanger-Straße Lion-Feuchtwanger Str. 14 Mainz 55129 Deutschland;X-APPLE-RADIUS=500;X-TITLE=Lion-Feuchtwanger Str. 14:geo:8.2738908,49.9621
END:VEVENT
BEGIN:VEVENT
DTSTART;TZID=Europe/Paris:20240421T110000
DTEND;TZID=Europe/Paris:20240421T110000
DTSTAMP:20260421T173231
CREATED:20240313T075802Z
LAST-MODIFIED:20240313T075802Z
UID:10002087-1713697200-1713697200@www.ekg-hechtsheim.de
SUMMARY:Gottesdienst mit Abendmahl
DESCRIPTION:
URL:https://www.ekg-hechtsheim.de/veranstaltungen/gottesdienst-mit-abendmahl-47/
LOCATION:Gemeindehaus Frankenhöhe\, Bodenheimer Straße 58\, Mainz\, 55129\, Deutschland
CATEGORIES:Gottesdienste
GEO:49.9667007;8.2872534
X-APPLE-STRUCTURED-LOCATION;VALUE=URI;X-ADDRESS=Gemeindehaus Frankenhöhe Bodenheimer Straße 58 Mainz 55129 Deutschland;X-APPLE-RADIUS=500;X-TITLE=Bodenheimer Straße 58:geo:8.2872534,49.9667007
END:VEVENT
BEGIN:VEVENT
DTSTART;TZID=Europe/Paris:20240424T180000
DTEND;TZID=Europe/Paris:20240424T180000
DTSTAMP:20260421T173231
CREATED:20240227T083715Z
LAST-MODIFIED:20240227T083715Z
UID:10002075-1713981600-1713981600@www.ekg-hechtsheim.de
SUMMARY:Ökumenisches Friedensgebet
DESCRIPTION:Der Ökumenische Arbeitskreis setzt die Reihe der Friedensgebete am Mittwoch\, 24. April\, um 18 Uhr im evangelischen Gemeindehaus auf der Frankenhöhe fort. Gemeinsam halten wir inne und beten für den Frieden in der Welt.
URL:https://www.ekg-hechtsheim.de/veranstaltungen/oekumenisches-friedensgebet/
LOCATION:Gemeindehaus Frankenhöhe\, Bodenheimer Straße 58\, Mainz\, 55129\, Deutschland
CATEGORIES:Gottesdienste
GEO:49.9667007;8.2872534
X-APPLE-STRUCTURED-LOCATION;VALUE=URI;X-ADDRESS=Gemeindehaus Frankenhöhe Bodenheimer Straße 58 Mainz 55129 Deutschland;X-APPLE-RADIUS=500;X-TITLE=Bodenheimer Straße 58:geo:8.2872534,49.9667007
END:VEVENT
BEGIN:VEVENT
DTSTART;TZID=Europe/Paris:20240425T160000
DTEND;TZID=Europe/Paris:20240425T170000
DTSTAMP:20260421T173231
CREATED:20240313T080456Z
LAST-MODIFIED:20240313T080456Z
UID:10002089-1714060800-1714064400@www.ekg-hechtsheim.de
SUMMARY:Werktagsgottesdienst mit Abendmahl
DESCRIPTION:
URL:https://www.ekg-hechtsheim.de/veranstaltungen/werktagsgottesdienst-mit-abendmahl-102/
CATEGORIES:Gottesdienste
END:VEVENT
BEGIN:VEVENT
DTSTART;TZID=Europe/Paris:20240426T190000
DTEND;TZID=Europe/Paris:20240426T190000
DTSTAMP:20260421T173231
CREATED:20240227T091033Z
LAST-MODIFIED:20240227T091044Z
UID:10002078-1714158000-1714158000@www.ekg-hechtsheim.de
SUMMARY:Orgel trifft Wein - Das besondere Orgelkonzert
DESCRIPTION:Die etwas andere Weinprobe –das etwas andere Konzert – zugunsten der Kinderkrippe\nDrei Hechtsheimer Winzerbetriebe\, Weingut Heinz Lemb\, Weingut Schneider und Weingut Stenner stellen auf unterhaltsame Weise jeweils zwei Weine vor. \n  \nZur Verkostung spielt die Organistin Carolin Kaiser ein zu dem jeweiligen Wein passendes Orgelstück auf der einzigartigen Mebold-Orgel\, deren 30-jähriges Jubiläum wir in diesem Jahr feiern Der Eintritt ist frei\, um Spenden für die Kinderkrippe wird gebeten.\nIm Anschluss an die Verkostung besteht die Möglichkeit\, die ausgesuchten Weine in einer gemeinsamen Runde zu genießen und einige Flaschen zu erwerben. Zudem können die Zuhörer aus nächster Nähe\, mit Erläuterungen von Caroline Kaiser\, einen Blick auf die Königin der Instrumente werfen.
URL:https://www.ekg-hechtsheim.de/veranstaltungen/orgel-trifft-wein-das-besondere-orgelkonzert/
LOCATION:Gemeindezentrum Lion-Feuchtwanger-Straße\, Lion-Feuchtwanger Str. 14\, Mainz\, 55129\, Deutschland
CATEGORIES:Gemeinde,Kultur
GEO:49.9621;8.2738908
X-APPLE-STRUCTURED-LOCATION;VALUE=URI;X-ADDRESS=Gemeindezentrum Lion-Feuchtwanger-Straße Lion-Feuchtwanger Str. 14 Mainz 55129 Deutschland;X-APPLE-RADIUS=500;X-TITLE=Lion-Feuchtwanger Str. 14:geo:8.2738908,49.9621
END:VEVENT
BEGIN:VEVENT
DTSTART;VALUE=DATE:20240428
DTEND;VALUE=DATE:20240429
DTSTAMP:20260421T173231
CREATED:20240313T080646Z
LAST-MODIFIED:20240313T080646Z
UID:10002091-1714262400-1714348799@www.ekg-hechtsheim.de
SUMMARY:Literatur-Gottesdienst ENTFÄLLT
DESCRIPTION:
URL:https://www.ekg-hechtsheim.de/veranstaltungen/literatur-gottesdienst-entfaellt/
LOCATION:Gemeindehaus Frankenhöhe\, Bodenheimer Straße 58\, Mainz\, 55129\, Deutschland
CATEGORIES:Gottesdienste
GEO:49.9667007;8.2872534
X-APPLE-STRUCTURED-LOCATION;VALUE=URI;X-ADDRESS=Gemeindehaus Frankenhöhe Bodenheimer Straße 58 Mainz 55129 Deutschland;X-APPLE-RADIUS=500;X-TITLE=Bodenheimer Straße 58:geo:8.2872534,49.9667007
END:VEVENT
BEGIN:VEVENT
DTSTART;TZID=Europe/Paris:20240428T100000
DTEND;TZID=Europe/Paris:20240428T100000
DTSTAMP:20260421T173231
CREATED:20240313T080603Z
LAST-MODIFIED:20240313T080603Z
UID:10002090-1714298400-1714298400@www.ekg-hechtsheim.de
SUMMARY:Gottesdienst
DESCRIPTION:
URL:https://www.ekg-hechtsheim.de/veranstaltungen/gottesdienst-267/
LOCATION:Gemeindezentrum Lion-Feuchtwanger-Straße\, Lion-Feuchtwanger Str. 14\, Mainz\, 55129\, Deutschland
CATEGORIES:Gottesdienste
GEO:49.9621;8.2738908
X-APPLE-STRUCTURED-LOCATION;VALUE=URI;X-ADDRESS=Gemeindezentrum Lion-Feuchtwanger-Straße Lion-Feuchtwanger Str. 14 Mainz 55129 Deutschland;X-APPLE-RADIUS=500;X-TITLE=Lion-Feuchtwanger Str. 14:geo:8.2738908,49.9621
END:VEVENT
END:VCALENDAR