BEGIN:VCALENDAR
VERSION:2.0
PRODID:-//Evangelische Kirchengemeinde Mainz-Hechtsheim - ECPv6.15.20//NONSGML v1.0//EN
CALSCALE:GREGORIAN
METHOD:PUBLISH
X-WR-CALNAME:Evangelische Kirchengemeinde Mainz-Hechtsheim
X-ORIGINAL-URL:https://www.ekg-hechtsheim.de
X-WR-CALDESC:Veranstaltungen für Evangelische Kirchengemeinde Mainz-Hechtsheim
REFRESH-INTERVAL;VALUE=DURATION:PT1H
X-Robots-Tag:noindex
X-PUBLISHED-TTL:PT1H
BEGIN:VTIMEZONE
TZID:Europe/Paris
BEGIN:DAYLIGHT
TZOFFSETFROM:+0100
TZOFFSETTO:+0200
TZNAME:CEST
DTSTART:20220327T010000
END:DAYLIGHT
BEGIN:STANDARD
TZOFFSETFROM:+0200
TZOFFSETTO:+0100
TZNAME:CET
DTSTART:20221030T010000
END:STANDARD
BEGIN:DAYLIGHT
TZOFFSETFROM:+0100
TZOFFSETTO:+0200
TZNAME:CEST
DTSTART:20230326T010000
END:DAYLIGHT
BEGIN:STANDARD
TZOFFSETFROM:+0200
TZOFFSETTO:+0100
TZNAME:CET
DTSTART:20231029T010000
END:STANDARD
BEGIN:DAYLIGHT
TZOFFSETFROM:+0100
TZOFFSETTO:+0200
TZNAME:CEST
DTSTART:20240331T010000
END:DAYLIGHT
BEGIN:STANDARD
TZOFFSETFROM:+0200
TZOFFSETTO:+0100
TZNAME:CET
DTSTART:20241027T010000
END:STANDARD
END:VTIMEZONE
BEGIN:VEVENT
DTSTART;TZID=Europe/Paris:20231203T100000
DTEND;TZID=Europe/Paris:20231203T100000
DTSTAMP:20260421T234347
CREATED:20231010T100720Z
LAST-MODIFIED:20231010T100720Z
UID:10002004-1701597600-1701597600@www.ekg-hechtsheim.de
SUMMARY:Gottesdienst am 1. Advent mit Adventskirchkaffee
DESCRIPTION:
URL:https://www.ekg-hechtsheim.de/veranstaltungen/gottesdienst-am-1-advent-mit-adventskirchkaffee/
LOCATION:Gemeindezentrum Lion-Feuchtwanger-Straße\, Lion-Feuchtwanger Str. 14\, Mainz\, 55129\, Deutschland
CATEGORIES:Gottesdienste
GEO:49.9621;8.2738908
X-APPLE-STRUCTURED-LOCATION;VALUE=URI;X-ADDRESS=Gemeindezentrum Lion-Feuchtwanger-Straße Lion-Feuchtwanger Str. 14 Mainz 55129 Deutschland;X-APPLE-RADIUS=500;X-TITLE=Lion-Feuchtwanger Str. 14:geo:8.2738908,49.9621
END:VEVENT
BEGIN:VEVENT
DTSTART;TZID=Europe/Paris:20231203T110000
DTEND;TZID=Europe/Paris:20231203T110000
DTSTAMP:20260421T234347
CREATED:20231010T100807Z
LAST-MODIFIED:20231122T165055Z
UID:10002005-1701601200-1701601200@www.ekg-hechtsheim.de
SUMMARY:Gottesdienst am 1. Advent mit besonderer musikalischer Gestaltung
DESCRIPTION:Gottesdienst am 1. Advent mit besonderer musikalischer Gestaltung: \nNoah Kretzschel (Querflöte) und Jürgen Witzig (Klavier) spielen die Sonate in g-moll für Flöte und Klavier von Georg Friedrich Händel\, \nanschließend Advents-Kirchkaffee
URL:https://www.ekg-hechtsheim.de/veranstaltungen/gottesdienst-am-1-advent-mit-besonderer-musikalischer-gestaltung/
LOCATION:Gemeindehaus Frankenhöhe\, Bodenheimer Straße 58\, Mainz\, 55129\, Deutschland
CATEGORIES:Gottesdienste
GEO:49.9667007;8.2872534
X-APPLE-STRUCTURED-LOCATION;VALUE=URI;X-ADDRESS=Gemeindehaus Frankenhöhe Bodenheimer Straße 58 Mainz 55129 Deutschland;X-APPLE-RADIUS=500;X-TITLE=Bodenheimer Straße 58:geo:8.2872534,49.9667007
END:VEVENT
BEGIN:VEVENT
DTSTART;TZID=Europe/Paris:20231208T180000
DTEND;TZID=Europe/Paris:20231208T190000
DTSTAMP:20260421T234347
CREATED:20230118T110655Z
LAST-MODIFIED:20230718T100656Z
UID:10001922-1702058400-1702062000@www.ekg-hechtsheim.de
SUMMARY:Lust auf Singen?! – Singkreis der ev. Kirchengemeinde Mainz-Hechtsheim – Weltliche und geistliche Lieder zu verschiedenen Themen\, Kanons und lockeres Stimmtraining
DESCRIPTION:
URL:https://www.ekg-hechtsheim.de/veranstaltungen/lust-auf-singen-singkreis-der-ev-kirchengemeinde-mainz-hechtsheim-weltliche-und-geistliche-lieder-zu-verschiedenen-themen-kanons-und-lockeres-stimmtraining-2/2023-12-08/
LOCATION:Gemeindezentrum Lion-Feuchtwanger-Straße\, Lion-Feuchtwanger Str. 14\, Mainz\, 55129\, Deutschland
CATEGORIES:Gemeinde
GEO:49.9621;8.2738908
X-APPLE-STRUCTURED-LOCATION;VALUE=URI;X-ADDRESS=Gemeindezentrum Lion-Feuchtwanger-Straße Lion-Feuchtwanger Str. 14 Mainz 55129 Deutschland;X-APPLE-RADIUS=500;X-TITLE=Lion-Feuchtwanger Str. 14:geo:8.2738908,49.9621
END:VEVENT
BEGIN:VEVENT
DTSTART;TZID=Europe/Paris:20231209T150000
DTEND;TZID=Europe/Paris:20231209T150000
DTSTAMP:20260421T234347
CREATED:20230904T090621Z
LAST-MODIFIED:20230904T090621Z
UID:10001975-1702134000-1702134000@www.ekg-hechtsheim.de
SUMMARY:Seniorenclub - Große Adventsfeier
DESCRIPTION:
URL:https://www.ekg-hechtsheim.de/veranstaltungen/seniorenclub-grosse-adventsfeier-2/
LOCATION:Gemeindezentrum Lion-Feuchtwanger-Straße\, Lion-Feuchtwanger Str. 14\, Mainz\, 55129\, Deutschland
CATEGORIES:Gemeinde
GEO:49.9621;8.2738908
X-APPLE-STRUCTURED-LOCATION;VALUE=URI;X-ADDRESS=Gemeindezentrum Lion-Feuchtwanger-Straße Lion-Feuchtwanger Str. 14 Mainz 55129 Deutschland;X-APPLE-RADIUS=500;X-TITLE=Lion-Feuchtwanger Str. 14:geo:8.2738908,49.9621
END:VEVENT
BEGIN:VEVENT
DTSTART;TZID=Europe/Paris:20231210T100000
DTEND;TZID=Europe/Paris:20231210T100000
DTSTAMP:20260421T234347
CREATED:20231010T100925Z
LAST-MODIFIED:20231010T100954Z
UID:10002006-1702202400-1702202400@www.ekg-hechtsheim.de
SUMMARY:Gottesdienst am 2. Advent
DESCRIPTION:
URL:https://www.ekg-hechtsheim.de/veranstaltungen/gottesdienst-am-2-advent-3/
LOCATION:Gemeindezentrum Lion-Feuchtwanger-Straße\, Lion-Feuchtwanger Str. 14\, Mainz\, 55129\, Deutschland
CATEGORIES:Gottesdienste
GEO:49.9621;8.2738908
X-APPLE-STRUCTURED-LOCATION;VALUE=URI;X-ADDRESS=Gemeindezentrum Lion-Feuchtwanger-Straße Lion-Feuchtwanger Str. 14 Mainz 55129 Deutschland;X-APPLE-RADIUS=500;X-TITLE=Lion-Feuchtwanger Str. 14:geo:8.2738908,49.9621
END:VEVENT
BEGIN:VEVENT
DTSTART;TZID=Europe/Paris:20231210T110000
DTEND;TZID=Europe/Paris:20231210T110000
DTSTAMP:20260421T234347
CREATED:20231010T101111Z
LAST-MODIFIED:20231010T101111Z
UID:10002007-1702206000-1702206000@www.ekg-hechtsheim.de
SUMMARY:Adventskinderkirche
DESCRIPTION:
URL:https://www.ekg-hechtsheim.de/veranstaltungen/adventskinderkirche-5/
LOCATION:Gemeindehaus Frankenhöhe\, Bodenheimer Straße 58\, Mainz\, 55129\, Deutschland
CATEGORIES:Gottesdienste
GEO:49.9667007;8.2872534
X-APPLE-STRUCTURED-LOCATION;VALUE=URI;X-ADDRESS=Gemeindehaus Frankenhöhe Bodenheimer Straße 58 Mainz 55129 Deutschland;X-APPLE-RADIUS=500;X-TITLE=Bodenheimer Straße 58:geo:8.2872534,49.9667007
END:VEVENT
BEGIN:VEVENT
DTSTART;TZID=Europe/Paris:20231215T180000
DTEND;TZID=Europe/Paris:20231215T180000
DTSTAMP:20260421T234347
CREATED:20230704T093737Z
LAST-MODIFIED:20231122T164158Z
UID:10001950-1702663200-1702663200@www.ekg-hechtsheim.de
SUMMARY:Musikalische Abendandacht zum Wochenausklang
DESCRIPTION:Carolin Kaiser und Gäste spielen zu ausgesuchten Pslamversen \nOrgel plus Violine – Philippe Pape
URL:https://www.ekg-hechtsheim.de/veranstaltungen/musikalische-abendandacht-2/
LOCATION:Gemeindezentrum Lion-Feuchtwanger-Straße\, Lion-Feuchtwanger Str. 14\, Mainz\, 55129\, Deutschland
CATEGORIES:Gottesdienste
GEO:49.9621;8.2738908
X-APPLE-STRUCTURED-LOCATION;VALUE=URI;X-ADDRESS=Gemeindezentrum Lion-Feuchtwanger-Straße Lion-Feuchtwanger Str. 14 Mainz 55129 Deutschland;X-APPLE-RADIUS=500;X-TITLE=Lion-Feuchtwanger Str. 14:geo:8.2738908,49.9621
END:VEVENT
BEGIN:VEVENT
DTSTART;TZID=Europe/Paris:20231217T100000
DTEND;TZID=Europe/Paris:20231217T100000
DTSTAMP:20260421T234347
CREATED:20231011T093506Z
LAST-MODIFIED:20231122T164652Z
UID:10002009-1702807200-1702807200@www.ekg-hechtsheim.de
SUMMARY:Gottesdienst am 3. Advent mit Musik
DESCRIPTION:Gottesdienst am 3. Advent mit musikalischer Unterstützung durch Sina Hermann und die Jugendcombo
URL:https://www.ekg-hechtsheim.de/veranstaltungen/gottesdienst-am-3-advent-mit-musiko/
LOCATION:Gemeindezentrum Lion-Feuchtwanger-Straße\, Lion-Feuchtwanger Str. 14\, Mainz\, 55129\, Deutschland
CATEGORIES:Gottesdienste
GEO:49.9621;8.2738908
X-APPLE-STRUCTURED-LOCATION;VALUE=URI;X-ADDRESS=Gemeindezentrum Lion-Feuchtwanger-Straße Lion-Feuchtwanger Str. 14 Mainz 55129 Deutschland;X-APPLE-RADIUS=500;X-TITLE=Lion-Feuchtwanger Str. 14:geo:8.2738908,49.9621
END:VEVENT
BEGIN:VEVENT
DTSTART;TZID=Europe/Paris:20231217T110000
DTEND;TZID=Europe/Paris:20231217T110000
DTSTAMP:20260421T234347
CREATED:20231011T093234Z
LAST-MODIFIED:20231122T165801Z
UID:10002008-1702810800-1702810800@www.ekg-hechtsheim.de
SUMMARY:Gottesdienst mit Abendmahl und "Treppenquartett"
DESCRIPTION:Gottesdienst mit Abendmahl am 3. Advent – das Treppenquartett singt adventliche Lieder
URL:https://www.ekg-hechtsheim.de/veranstaltungen/gottesdienst-mit-abendmahl-am-3-advent/
LOCATION:Gemeindehaus Frankenhöhe\, Bodenheimer Straße 58\, Mainz\, 55129\, Deutschland
CATEGORIES:Gottesdienste
GEO:49.9667007;8.2872534
X-APPLE-STRUCTURED-LOCATION;VALUE=URI;X-ADDRESS=Gemeindehaus Frankenhöhe Bodenheimer Straße 58 Mainz 55129 Deutschland;X-APPLE-RADIUS=500;X-TITLE=Bodenheimer Straße 58:geo:8.2872534,49.9667007
END:VEVENT
BEGIN:VEVENT
DTSTART;TZID=Europe/Paris:20231221T160000
DTEND;TZID=Europe/Paris:20231221T160000
DTSTAMP:20260421T234347
CREATED:20231120T101812Z
LAST-MODIFIED:20231120T101812Z
UID:10002018-1703174400-1703174400@www.ekg-hechtsheim.de
SUMMARY:Adventsgottesdienst mit Abendmahl in der Seniorenresidenz
DESCRIPTION:
URL:https://www.ekg-hechtsheim.de/veranstaltungen/adventsgottesdienst-mit-abendmahl-in-der-seniorenresidenz-3/
LOCATION:16:00 - \, Deutschland
CATEGORIES:Gottesdienste
END:VEVENT
BEGIN:VEVENT
DTSTART;TZID=Europe/Paris:20231224T143000
DTEND;TZID=Europe/Paris:20231224T143000
DTSTAMP:20260421T234347
CREATED:20231011T093841Z
LAST-MODIFIED:20231011T093841Z
UID:10002010-1703428200-1703428200@www.ekg-hechtsheim.de
SUMMARY:Weihnachtsgottesdienst mit Krippen-Singspiel
DESCRIPTION:
URL:https://www.ekg-hechtsheim.de/veranstaltungen/weihnachtsgottesdienst-mit-krippen-singspiel/
LOCATION:Gemeindezentrum Lion-Feuchtwanger-Straße\, Lion-Feuchtwanger Str. 14\, Mainz\, 55129\, Deutschland
CATEGORIES:Gottesdienste
GEO:49.9621;8.2738908
X-APPLE-STRUCTURED-LOCATION;VALUE=URI;X-ADDRESS=Gemeindezentrum Lion-Feuchtwanger-Straße Lion-Feuchtwanger Str. 14 Mainz 55129 Deutschland;X-APPLE-RADIUS=500;X-TITLE=Lion-Feuchtwanger Str. 14:geo:8.2738908,49.9621
END:VEVENT
BEGIN:VEVENT
DTSTART;TZID=Europe/Paris:20231224T150000
DTEND;TZID=Europe/Paris:20231224T150000
DTSTAMP:20260421T234347
CREATED:20231011T094016Z
LAST-MODIFIED:20231011T094016Z
UID:10002011-1703430000-1703430000@www.ekg-hechtsheim.de
SUMMARY:Ökumenischer Gottesdienst in der Seniorenresidenz
DESCRIPTION:
URL:https://www.ekg-hechtsheim.de/veranstaltungen/oekumenischer-gottesdienst-in-der-seniorenresidenz/
LOCATION:16:00 - \, Deutschland
CATEGORIES:Gottesdienste
END:VEVENT
BEGIN:VEVENT
DTSTART;TZID=Europe/Paris:20231224T170000
DTEND;TZID=Europe/Paris:20231224T170000
DTSTAMP:20260421T234347
CREATED:20231011T094118Z
LAST-MODIFIED:20231011T094118Z
UID:10002012-1703437200-1703437200@www.ekg-hechtsheim.de
SUMMARY:Weihnachtsgottesdienst mit Krippenszenen
DESCRIPTION:
URL:https://www.ekg-hechtsheim.de/veranstaltungen/weihnachtsgottesdienst-mit-krippenszenen-2/
LOCATION:Gemeindehaus Frankenhöhe\, Bodenheimer Straße 58\, Mainz\, 55129\, Deutschland
CATEGORIES:Gottesdienste
GEO:49.9667007;8.2872534
X-APPLE-STRUCTURED-LOCATION;VALUE=URI;X-ADDRESS=Gemeindehaus Frankenhöhe Bodenheimer Straße 58 Mainz 55129 Deutschland;X-APPLE-RADIUS=500;X-TITLE=Bodenheimer Straße 58:geo:8.2872534,49.9667007
END:VEVENT
BEGIN:VEVENT
DTSTART;TZID=Europe/Paris:20231224T170000
DTEND;TZID=Europe/Paris:20231224T170000
DTSTAMP:20260421T234347
CREATED:20231011T094208Z
LAST-MODIFIED:20231011T094208Z
UID:10002013-1703437200-1703437200@www.ekg-hechtsheim.de
SUMMARY:Christvesper
DESCRIPTION:
URL:https://www.ekg-hechtsheim.de/veranstaltungen/christvesper-6/
LOCATION:Gemeindezentrum Lion-Feuchtwanger-Straße\, Lion-Feuchtwanger Str. 14\, Mainz\, 55129\, Deutschland
CATEGORIES:Gottesdienste
GEO:49.9621;8.2738908
X-APPLE-STRUCTURED-LOCATION;VALUE=URI;X-ADDRESS=Gemeindezentrum Lion-Feuchtwanger-Straße Lion-Feuchtwanger Str. 14 Mainz 55129 Deutschland;X-APPLE-RADIUS=500;X-TITLE=Lion-Feuchtwanger Str. 14:geo:8.2738908,49.9621
END:VEVENT
BEGIN:VEVENT
DTSTART;TZID=Europe/Paris:20231224T223000
DTEND;TZID=Europe/Paris:20231224T223000
DTSTAMP:20260421T234347
CREATED:20231011T094408Z
LAST-MODIFIED:20231011T094408Z
UID:10002014-1703457000-1703457000@www.ekg-hechtsheim.de
SUMMARY:Christmette
DESCRIPTION:
URL:https://www.ekg-hechtsheim.de/veranstaltungen/christmette-7/
LOCATION:Gemeindezentrum Lion-Feuchtwanger-Straße\, Lion-Feuchtwanger Str. 14\, Mainz\, 55129\, Deutschland
CATEGORIES:Gottesdienste
GEO:49.9621;8.2738908
X-APPLE-STRUCTURED-LOCATION;VALUE=URI;X-ADDRESS=Gemeindezentrum Lion-Feuchtwanger-Straße Lion-Feuchtwanger Str. 14 Mainz 55129 Deutschland;X-APPLE-RADIUS=500;X-TITLE=Lion-Feuchtwanger Str. 14:geo:8.2738908,49.9621
END:VEVENT
BEGIN:VEVENT
DTSTART;VALUE=DATE:20231231
DTEND;VALUE=DATE:20240101
DTSTAMP:20260421T234347
CREATED:20231115T081024Z
LAST-MODIFIED:20231115T081024Z
UID:10002017-1703980800-1704067199@www.ekg-hechtsheim.de
SUMMARY:KEIN Gottesdienst im Gemeindezentrum an diesem Tag
DESCRIPTION:
URL:https://www.ekg-hechtsheim.de/veranstaltungen/kein-gottesdienst-im-gemeindezentrum-an-diesem-tag-2/
LOCATION:Gemeindezentrum Lion-Feuchtwanger-Straße\, Lion-Feuchtwanger Str. 14\, Mainz\, 55129\, Deutschland
CATEGORIES:Gottesdienste
GEO:49.9621;8.2738908
X-APPLE-STRUCTURED-LOCATION;VALUE=URI;X-ADDRESS=Gemeindezentrum Lion-Feuchtwanger-Straße Lion-Feuchtwanger Str. 14 Mainz 55129 Deutschland;X-APPLE-RADIUS=500;X-TITLE=Lion-Feuchtwanger Str. 14:geo:8.2738908,49.9621
END:VEVENT
BEGIN:VEVENT
DTSTART;TZID=Europe/Paris:20231231T180000
DTEND;TZID=Europe/Paris:20231231T180000
DTSTAMP:20260421T234347
CREATED:20231115T080928Z
LAST-MODIFIED:20231122T165616Z
UID:10002016-1704045600-1704045600@www.ekg-hechtsheim.de
SUMMARY:Gottesdienst zum Jahresschluss mit musikalischer Gestaltung
DESCRIPTION:Gottesdienst zum Jahresschluss mit besonderer musikalischer Gestaltung:  \nSabine Möhrle (Klavier) und Margret Johst (Cello) spielen Musik von J.S.Bach\, D.Schostakowitsch und anderen Komponisten
URL:https://www.ekg-hechtsheim.de/veranstaltungen/gottesdienst-zum-jahresschluss-mit-besonderer-musikalischer-gestaltung-sabine-moehrle-klavier-und-margret-johst-cello-spielen-musik-von-j-s-bach-d-schostakowitsch-u-a/
LOCATION:Gemeindehaus Frankenhöhe\, Bodenheimer Straße 58\, Mainz\, 55129\, Deutschland
CATEGORIES:Gottesdienste
GEO:49.9667007;8.2872534
X-APPLE-STRUCTURED-LOCATION;VALUE=URI;X-ADDRESS=Gemeindehaus Frankenhöhe Bodenheimer Straße 58 Mainz 55129 Deutschland;X-APPLE-RADIUS=500;X-TITLE=Bodenheimer Straße 58:geo:8.2872534,49.9667007
END:VEVENT
END:VCALENDAR