BEGIN:VCALENDAR
VERSION:2.0
PRODID:-//Evangelische Kirchengemeinde Mainz-Hechtsheim - ECPv6.15.20//NONSGML v1.0//EN
CALSCALE:GREGORIAN
METHOD:PUBLISH
X-ORIGINAL-URL:https://www.ekg-hechtsheim.de
X-WR-CALDESC:Veranstaltungen für Evangelische Kirchengemeinde Mainz-Hechtsheim
REFRESH-INTERVAL;VALUE=DURATION:PT1H
X-Robots-Tag:noindex
X-PUBLISHED-TTL:PT1H
BEGIN:VTIMEZONE
TZID:Europe/Paris
BEGIN:DAYLIGHT
TZOFFSETFROM:+0100
TZOFFSETTO:+0200
TZNAME:CEST
DTSTART:20220327T010000
END:DAYLIGHT
BEGIN:STANDARD
TZOFFSETFROM:+0200
TZOFFSETTO:+0100
TZNAME:CET
DTSTART:20221030T010000
END:STANDARD
BEGIN:DAYLIGHT
TZOFFSETFROM:+0100
TZOFFSETTO:+0200
TZNAME:CEST
DTSTART:20230326T010000
END:DAYLIGHT
BEGIN:STANDARD
TZOFFSETFROM:+0200
TZOFFSETTO:+0100
TZNAME:CET
DTSTART:20231029T010000
END:STANDARD
BEGIN:DAYLIGHT
TZOFFSETFROM:+0100
TZOFFSETTO:+0200
TZNAME:CEST
DTSTART:20240331T010000
END:DAYLIGHT
BEGIN:STANDARD
TZOFFSETFROM:+0200
TZOFFSETTO:+0100
TZNAME:CET
DTSTART:20241027T010000
END:STANDARD
END:VTIMEZONE
BEGIN:VEVENT
DTSTART;VALUE=DATE:20231104
DTEND;VALUE=DATE:20231105
DTSTAMP:20260422T011104
CREATED:20230919T070013Z
LAST-MODIFIED:20230919T070013Z
UID:10001992-1699056000-1699142399@www.ekg-hechtsheim.de
SUMMARY:Aktionstag rund um das Gemeindezentrum - Wir freuen uns über helfende Hände!
DESCRIPTION:
URL:https://www.ekg-hechtsheim.de/veranstaltungen/aktionstag-rund-um-das-gemeindezentrum-wir-freuen-uns-ueber-helfende-haende/
LOCATION:Gemeindezentrum Lion-Feuchtwanger-Straße\, Lion-Feuchtwanger Str. 14\, Mainz\, 55129\, Deutschland
CATEGORIES:Gemeinde
GEO:49.9621;8.2738908
X-APPLE-STRUCTURED-LOCATION;VALUE=URI;X-ADDRESS=Gemeindezentrum Lion-Feuchtwanger-Straße Lion-Feuchtwanger Str. 14 Mainz 55129 Deutschland;X-APPLE-RADIUS=500;X-TITLE=Lion-Feuchtwanger Str. 14:geo:8.2738908,49.9621
END:VEVENT
BEGIN:VEVENT
DTSTART;TZID=Europe/Paris:20231105T100000
DTEND;TZID=Europe/Paris:20231105T100000
DTSTAMP:20260422T011104
CREATED:20230919T072858Z
LAST-MODIFIED:20230919T072858Z
UID:10001993-1699178400-1699178400@www.ekg-hechtsheim.de
SUMMARY:Gottesdienst\, anschliessend Kirchkaffee
DESCRIPTION:
URL:https://www.ekg-hechtsheim.de/veranstaltungen/gottesdienst-anschliessend-kirchkaffee-2/
LOCATION:Gemeindezentrum Lion-Feuchtwanger-Straße\, Lion-Feuchtwanger Str. 14\, Mainz\, 55129\, Deutschland
CATEGORIES:Gottesdienste
GEO:49.9621;8.2738908
X-APPLE-STRUCTURED-LOCATION;VALUE=URI;X-ADDRESS=Gemeindezentrum Lion-Feuchtwanger-Straße Lion-Feuchtwanger Str. 14 Mainz 55129 Deutschland;X-APPLE-RADIUS=500;X-TITLE=Lion-Feuchtwanger Str. 14:geo:8.2738908,49.9621
END:VEVENT
BEGIN:VEVENT
DTSTART;TZID=Europe/Paris:20231105T110000
DTEND;TZID=Europe/Paris:20231105T110000
DTSTAMP:20260422T011104
CREATED:20230919T072959Z
LAST-MODIFIED:20230919T072959Z
UID:10001994-1699182000-1699182000@www.ekg-hechtsheim.de
SUMMARY:Gottesdienst\, anschliessend Kirchkaffee
DESCRIPTION:
URL:https://www.ekg-hechtsheim.de/veranstaltungen/gottesdienst-anschliessend-kirchkaffee-3/
LOCATION:Gemeindehaus Frankenhöhe\, Bodenheimer Straße 58\, Mainz\, 55129\, Deutschland
CATEGORIES:Gottesdienste
GEO:49.9667007;8.2872534
X-APPLE-STRUCTURED-LOCATION;VALUE=URI;X-ADDRESS=Gemeindehaus Frankenhöhe Bodenheimer Straße 58 Mainz 55129 Deutschland;X-APPLE-RADIUS=500;X-TITLE=Bodenheimer Straße 58:geo:8.2872534,49.9667007
END:VEVENT
BEGIN:VEVENT
DTSTART;TZID=Europe/Paris:20231109T160000
DTEND;TZID=Europe/Paris:20231109T160000
DTSTAMP:20260422T011104
CREATED:20230919T080156Z
LAST-MODIFIED:20230919T080156Z
UID:10001997-1699545600-1699545600@www.ekg-hechtsheim.de
SUMMARY:Werktagsgottesdienst mit Abendmahl
DESCRIPTION:
URL:https://www.ekg-hechtsheim.de/veranstaltungen/werktagsgottesdienst-mit-abendmahl-94/
LOCATION:16:00 - \, Deutschland
CATEGORIES:Gottesdienste
END:VEVENT
BEGIN:VEVENT
DTSTART;TZID=Europe/Paris:20231110T180000
DTEND;TZID=Europe/Paris:20231110T190000
DTSTAMP:20260422T011105
CREATED:20230118T110655Z
LAST-MODIFIED:20230718T100656Z
UID:10001921-1699639200-1699642800@www.ekg-hechtsheim.de
SUMMARY:Lust auf Singen?! – Singkreis der ev. Kirchengemeinde Mainz-Hechtsheim – Weltliche und geistliche Lieder zu verschiedenen Themen\, Kanons und lockeres Stimmtraining
DESCRIPTION:
URL:https://www.ekg-hechtsheim.de/veranstaltungen/lust-auf-singen-singkreis-der-ev-kirchengemeinde-mainz-hechtsheim-weltliche-und-geistliche-lieder-zu-verschiedenen-themen-kanons-und-lockeres-stimmtraining-2/2023-11-10/
LOCATION:Gemeindezentrum Lion-Feuchtwanger-Straße\, Lion-Feuchtwanger Str. 14\, Mainz\, 55129\, Deutschland
CATEGORIES:Gemeinde
GEO:49.9621;8.2738908
X-APPLE-STRUCTURED-LOCATION;VALUE=URI;X-ADDRESS=Gemeindezentrum Lion-Feuchtwanger-Straße Lion-Feuchtwanger Str. 14 Mainz 55129 Deutschland;X-APPLE-RADIUS=500;X-TITLE=Lion-Feuchtwanger Str. 14:geo:8.2738908,49.9621
END:VEVENT
BEGIN:VEVENT
DTSTART;VALUE=DATE:20231111
DTEND;VALUE=DATE:20231112
DTSTAMP:20260422T011105
CREATED:20230118T102237Z
LAST-MODIFIED:20230118T102237Z
UID:10001774-1699660800-1699747199@www.ekg-hechtsheim.de
SUMMARY:Männerwandern - "Fastnachtswanderung"
DESCRIPTION:
URL:https://www.ekg-hechtsheim.de/veranstaltungen/maennerwandern-fastnachtswanderung/
CATEGORIES:Gemeinde
END:VEVENT
BEGIN:VEVENT
DTSTART;TZID=Europe/Paris:20231111T150000
DTEND;TZID=Europe/Paris:20231111T150000
DTSTAMP:20260422T011105
CREATED:20230904T090351Z
LAST-MODIFIED:20230904T090351Z
UID:10001974-1699714800-1699714800@www.ekg-hechtsheim.de
SUMMARY:Seniorenclub
DESCRIPTION:…ein wichtiges Datum mit Helga Hartmann und Team
URL:https://www.ekg-hechtsheim.de/veranstaltungen/seniorenclub-13/
LOCATION:Gemeindezentrum Lion-Feuchtwanger-Straße\, Lion-Feuchtwanger Str. 14\, Mainz\, 55129\, Deutschland
CATEGORIES:Gemeinde
GEO:49.9621;8.2738908
X-APPLE-STRUCTURED-LOCATION;VALUE=URI;X-ADDRESS=Gemeindezentrum Lion-Feuchtwanger-Straße Lion-Feuchtwanger Str. 14 Mainz 55129 Deutschland;X-APPLE-RADIUS=500;X-TITLE=Lion-Feuchtwanger Str. 14:geo:8.2738908,49.9621
END:VEVENT
BEGIN:VEVENT
DTSTART;TZID=Europe/Paris:20231112T100000
DTEND;TZID=Europe/Paris:20231112T100000
DTSTAMP:20260422T011105
CREATED:20230919T075301Z
LAST-MODIFIED:20230919T075301Z
UID:10001995-1699783200-1699783200@www.ekg-hechtsheim.de
SUMMARY:Gottesdienst mit Abendmahl
DESCRIPTION:
URL:https://www.ekg-hechtsheim.de/veranstaltungen/gottesdienst-mit-abendmahl-40/
LOCATION:Gemeindezentrum Lion-Feuchtwanger-Straße\, Lion-Feuchtwanger Str. 14\, Mainz\, 55129\, Deutschland
CATEGORIES:Gottesdienste
GEO:49.9621;8.2738908
X-APPLE-STRUCTURED-LOCATION;VALUE=URI;X-ADDRESS=Gemeindezentrum Lion-Feuchtwanger-Straße Lion-Feuchtwanger Str. 14 Mainz 55129 Deutschland;X-APPLE-RADIUS=500;X-TITLE=Lion-Feuchtwanger Str. 14:geo:8.2738908,49.9621
END:VEVENT
BEGIN:VEVENT
DTSTART;TZID=Europe/Paris:20231112T110000
DTEND;TZID=Europe/Paris:20231112T110000
DTSTAMP:20260422T011105
CREATED:20230919T075449Z
LAST-MODIFIED:20230919T075449Z
UID:10001996-1699786800-1699786800@www.ekg-hechtsheim.de
SUMMARY:Kinderkirche
DESCRIPTION:
URL:https://www.ekg-hechtsheim.de/veranstaltungen/kinderkirche-39/
LOCATION:Gemeindehaus Frankenhöhe\, Bodenheimer Straße 58\, Mainz\, 55129\, Deutschland
CATEGORIES:Gottesdienste
GEO:49.9667007;8.2872534
X-APPLE-STRUCTURED-LOCATION;VALUE=URI;X-ADDRESS=Gemeindehaus Frankenhöhe Bodenheimer Straße 58 Mainz 55129 Deutschland;X-APPLE-RADIUS=500;X-TITLE=Bodenheimer Straße 58:geo:8.2872534,49.9667007
END:VEVENT
BEGIN:VEVENT
DTSTART;TZID=Europe/Paris:20231115T193000
DTEND;TZID=Europe/Paris:20231115T193000
DTSTAMP:20260422T011105
CREATED:20230712T093947Z
LAST-MODIFIED:20230712T094001Z
UID:10001964-1700076600-1700076600@www.ekg-hechtsheim.de
SUMMARY:„Zeit im Streit: Die Kalenderreform als Zankapfel zwischen den Konfessionen“
DESCRIPTION:Im 16. Jahrhundert war eine Kalenderreform nötig: Es hatte sich zwischen dem auf die Römer zurückgehenden Julianischen Kalender und den astronomischen Ereignissen wie dem Frühlingsbeginn eine erhebliche Abweichung ergeben. Doch weil die Reform von Papst Gregor XIII. angeordnet worden war\, wollten viele protestantisch gewordenen Gegenden Europas sie nicht mitmachen. Der Vortrag mit Bildern schildert die Konflikte und Schwierigkeiten\, die sich daraus ergaben\, dass Katholiken und Protestanten in Deutschland für mehr als 100 Jahre unterschiedlichen Kalendern folgten. \n 
URL:https://www.ekg-hechtsheim.de/veranstaltungen/zeit-im-streit-die-kalenderreform-als-zankapfel-zwischen-den-konfessionen/
LOCATION:Gemeindezentrum Lion-Feuchtwanger-Straße\, Lion-Feuchtwanger Str. 14\, Mainz\, 55129\, Deutschland
CATEGORIES:Gemeinde
GEO:49.9621;8.2738908
X-APPLE-STRUCTURED-LOCATION;VALUE=URI;X-ADDRESS=Gemeindezentrum Lion-Feuchtwanger-Straße Lion-Feuchtwanger Str. 14 Mainz 55129 Deutschland;X-APPLE-RADIUS=500;X-TITLE=Lion-Feuchtwanger Str. 14:geo:8.2738908,49.9621
END:VEVENT
BEGIN:VEVENT
DTSTART;TZID=Europe/Paris:20231117T160000
DTEND;TZID=Europe/Paris:20231117T190000
DTSTAMP:20260422T011105
CREATED:20230929T213025Z
LAST-MODIFIED:20230929T213025Z
UID:10001999-1700236800-1700247600@www.ekg-hechtsheim.de
SUMMARY:Babysitterkurs der EFB
DESCRIPTION:Babysitterkurs der Evangelischen Familienbildung  \nFlyer Babysitterkurs November 2023
URL:https://www.ekg-hechtsheim.de/veranstaltungen/babysitterkurs-der-efb/
LOCATION:Gemeindehaus Frankenhöhe\, Bodenheimer Straße 58\, Mainz\, 55129\, Deutschland
CATEGORIES:Sonstiges
GEO:49.9667007;8.2872534
X-APPLE-STRUCTURED-LOCATION;VALUE=URI;X-ADDRESS=Gemeindehaus Frankenhöhe Bodenheimer Straße 58 Mainz 55129 Deutschland;X-APPLE-RADIUS=500;X-TITLE=Bodenheimer Straße 58:geo:8.2872534,49.9667007
END:VEVENT
BEGIN:VEVENT
DTSTART;TZID=Europe/Paris:20231117T180000
DTEND;TZID=Europe/Paris:20231117T180000
DTSTAMP:20260422T011105
CREATED:20230711T102845Z
LAST-MODIFIED:20230904T091211Z
UID:10001963-1700244000-1700244000@www.ekg-hechtsheim.de
SUMMARY:Musikalische Abendandacht zum Wochenausklang
DESCRIPTION:Carolin Kaiser und Gäste spielen zu ausgesuchten Psalmversen \nOrgel plus Stimme: Sprache: Christiane Prätorius \n 
URL:https://www.ekg-hechtsheim.de/veranstaltungen/musikalische-abendandacht-danach-beisammensein-bei-einem-glas-wein/
LOCATION:Gemeindezentrum Lion-Feuchtwanger-Straße\, Lion-Feuchtwanger Str. 14\, Mainz\, 55129\, Deutschland
CATEGORIES:Gottesdienste
GEO:49.9621;8.2738908
X-APPLE-STRUCTURED-LOCATION;VALUE=URI;X-ADDRESS=Gemeindezentrum Lion-Feuchtwanger-Straße Lion-Feuchtwanger Str. 14 Mainz 55129 Deutschland;X-APPLE-RADIUS=500;X-TITLE=Lion-Feuchtwanger Str. 14:geo:8.2738908,49.9621
END:VEVENT
BEGIN:VEVENT
DTSTART;TZID=Europe/Paris:20231118T093000
DTEND;TZID=Europe/Paris:20231118T163000
DTSTAMP:20260422T011105
CREATED:20230929T213242Z
LAST-MODIFIED:20230929T213242Z
UID:10002000-1700299800-1700325000@www.ekg-hechtsheim.de
SUMMARY:Babysitterkurs der EFB
DESCRIPTION:Babysitterkurs der Evangelischen Familienbildung  \nFlyer Babysitterkurs November 2023
URL:https://www.ekg-hechtsheim.de/veranstaltungen/babysitterkurs-der-efb-2/
LOCATION:Gemeindehaus Frankenhöhe\, Bodenheimer Straße 58\, Mainz\, 55129\, Deutschland
CATEGORIES:Sonstiges
GEO:49.9667007;8.2872534
X-APPLE-STRUCTURED-LOCATION;VALUE=URI;X-ADDRESS=Gemeindehaus Frankenhöhe Bodenheimer Straße 58 Mainz 55129 Deutschland;X-APPLE-RADIUS=500;X-TITLE=Bodenheimer Straße 58:geo:8.2872534,49.9667007
END:VEVENT
BEGIN:VEVENT
DTSTART;TZID=Europe/Paris:20231119T100000
DTEND;TZID=Europe/Paris:20231119T100000
DTSTAMP:20260422T011105
CREATED:20231010T091816Z
LAST-MODIFIED:20231010T091816Z
UID:10002001-1700388000-1700388000@www.ekg-hechtsheim.de
SUMMARY:Gottesdienst
DESCRIPTION:
URL:https://www.ekg-hechtsheim.de/veranstaltungen/gottesdienst-257/
LOCATION:Gemeindezentrum Lion-Feuchtwanger-Straße\, Lion-Feuchtwanger Str. 14\, Mainz\, 55129\, Deutschland
CATEGORIES:Gottesdienste
GEO:49.9621;8.2738908
X-APPLE-STRUCTURED-LOCATION;VALUE=URI;X-ADDRESS=Gemeindezentrum Lion-Feuchtwanger-Straße Lion-Feuchtwanger Str. 14 Mainz 55129 Deutschland;X-APPLE-RADIUS=500;X-TITLE=Lion-Feuchtwanger Str. 14:geo:8.2738908,49.9621
END:VEVENT
BEGIN:VEVENT
DTSTART;TZID=Europe/Paris:20231119T180000
DTEND;TZID=Europe/Paris:20231119T180000
DTSTAMP:20260422T011105
CREATED:20230905T084034Z
LAST-MODIFIED:20230905T084034Z
UID:10001985-1700416800-1700416800@www.ekg-hechtsheim.de
SUMMARY:LiteraturAbendGottesdienst - George Orwell - "Wie denken wir von der Zukunft?"
DESCRIPTION:Im Anschluss Gelegenheit zum Gespräch bei einem Glas Wein und Büchertisch der Buchhandlung Ruthmann
URL:https://www.ekg-hechtsheim.de/veranstaltungen/literaturabendgottesdienst-george-orwell-wie-denken-wir-von-der-zukunft/
LOCATION:Gemeindehaus Frankenhöhe\, Bodenheimer Straße 58\, Mainz\, 55129\, Deutschland
CATEGORIES:Gottesdienste
GEO:49.9667007;8.2872534
X-APPLE-STRUCTURED-LOCATION;VALUE=URI;X-ADDRESS=Gemeindehaus Frankenhöhe Bodenheimer Straße 58 Mainz 55129 Deutschland;X-APPLE-RADIUS=500;X-TITLE=Bodenheimer Straße 58:geo:8.2872534,49.9667007
END:VEVENT
BEGIN:VEVENT
DTSTART;TZID=Europe/Paris:20231122T190000
DTEND;TZID=Europe/Paris:20231122T190000
DTSTAMP:20260422T011105
CREATED:20230904T092902Z
LAST-MODIFIED:20230904T092902Z
UID:10001976-1700679600-1700679600@www.ekg-hechtsheim.de
SUMMARY:Buß- und Bettag-Gottesdienst im Alten Dom St. Johannis
DESCRIPTION:
URL:https://www.ekg-hechtsheim.de/veranstaltungen/buss-und-bettag-gottesdienst-im-alten-dom-st-johannis/
LOCATION:Alter Dom St. Johannis – Eingang im Westchor in der Johannisstraße
CATEGORIES:Gottesdienste
END:VEVENT
BEGIN:VEVENT
DTSTART;TZID=Europe/Paris:20231123T160000
DTEND;TZID=Europe/Paris:20231123T160000
DTSTAMP:20260422T011105
CREATED:20230919T090842Z
LAST-MODIFIED:20230919T090842Z
UID:10001998-1700755200-1700755200@www.ekg-hechtsheim.de
SUMMARY:Ökumenischer Gottesdienst mit Gedenken an die Verstorbenen des letzten Kirchenjahres
DESCRIPTION:
URL:https://www.ekg-hechtsheim.de/veranstaltungen/oekumenischer-gottesdienst-mit-gedenken-an-die-verstorbenen-des-letzten-kirchenjahres-4/
LOCATION:16:00 - \, Deutschland
CATEGORIES:Gottesdienste
END:VEVENT
BEGIN:VEVENT
DTSTART;TZID=Europe/Paris:20231126T100000
DTEND;TZID=Europe/Paris:20231126T100000
DTSTAMP:20260422T011105
CREATED:20231010T100441Z
LAST-MODIFIED:20231010T100441Z
UID:10002002-1700992800-1700992800@www.ekg-hechtsheim.de
SUMMARY:Gottesdienst mit Gedenken an die Verstorbenen des letzten Kirchenjahres
DESCRIPTION:
URL:https://www.ekg-hechtsheim.de/veranstaltungen/gottesdienst-mit-gedenken-an-die-verstorbenen-des-letzten-kirchenjahres-7/
LOCATION:Gemeindezentrum Lion-Feuchtwanger-Straße\, Lion-Feuchtwanger Str. 14\, Mainz\, 55129\, Deutschland
CATEGORIES:Gottesdienste
GEO:49.9621;8.2738908
X-APPLE-STRUCTURED-LOCATION;VALUE=URI;X-ADDRESS=Gemeindezentrum Lion-Feuchtwanger-Straße Lion-Feuchtwanger Str. 14 Mainz 55129 Deutschland;X-APPLE-RADIUS=500;X-TITLE=Lion-Feuchtwanger Str. 14:geo:8.2738908,49.9621
END:VEVENT
BEGIN:VEVENT
DTSTART;TZID=Europe/Paris:20231126T110000
DTEND;TZID=Europe/Paris:20231126T110000
DTSTAMP:20260422T011105
CREATED:20231010T100537Z
LAST-MODIFIED:20231010T100537Z
UID:10002003-1700996400-1700996400@www.ekg-hechtsheim.de
SUMMARY:Gottesdienst mit Gedenken an die Verstorbenen des letzten Kirchenjahres
DESCRIPTION:
URL:https://www.ekg-hechtsheim.de/veranstaltungen/gottesdienst-mit-gedenken-an-die-verstorbenen-des-letzten-kirchenjahres-8/
LOCATION:Gemeindehaus Frankenhöhe\, Bodenheimer Straße 58\, Mainz\, 55129\, Deutschland
CATEGORIES:Gottesdienste
GEO:49.9667007;8.2872534
X-APPLE-STRUCTURED-LOCATION;VALUE=URI;X-ADDRESS=Gemeindehaus Frankenhöhe Bodenheimer Straße 58 Mainz 55129 Deutschland;X-APPLE-RADIUS=500;X-TITLE=Bodenheimer Straße 58:geo:8.2872534,49.9667007
END:VEVENT
END:VCALENDAR