BEGIN:VCALENDAR
VERSION:2.0
PRODID:-//Evangelische Kirchengemeinde Mainz-Hechtsheim - ECPv6.15.20//NONSGML v1.0//EN
CALSCALE:GREGORIAN
METHOD:PUBLISH
X-ORIGINAL-URL:https://www.ekg-hechtsheim.de
X-WR-CALDESC:Veranstaltungen für Evangelische Kirchengemeinde Mainz-Hechtsheim
REFRESH-INTERVAL;VALUE=DURATION:PT1H
X-Robots-Tag:noindex
X-PUBLISHED-TTL:PT1H
BEGIN:VTIMEZONE
TZID:Europe/Paris
BEGIN:DAYLIGHT
TZOFFSETFROM:+0100
TZOFFSETTO:+0200
TZNAME:CEST
DTSTART:20220327T010000
END:DAYLIGHT
BEGIN:STANDARD
TZOFFSETFROM:+0200
TZOFFSETTO:+0100
TZNAME:CET
DTSTART:20221030T010000
END:STANDARD
BEGIN:DAYLIGHT
TZOFFSETFROM:+0100
TZOFFSETTO:+0200
TZNAME:CEST
DTSTART:20230326T010000
END:DAYLIGHT
BEGIN:STANDARD
TZOFFSETFROM:+0200
TZOFFSETTO:+0100
TZNAME:CET
DTSTART:20231029T010000
END:STANDARD
BEGIN:DAYLIGHT
TZOFFSETFROM:+0100
TZOFFSETTO:+0200
TZNAME:CEST
DTSTART:20240331T010000
END:DAYLIGHT
BEGIN:STANDARD
TZOFFSETFROM:+0200
TZOFFSETTO:+0100
TZNAME:CET
DTSTART:20241027T010000
END:STANDARD
END:VTIMEZONE
BEGIN:VEVENT
DTSTART;TZID=Europe/Paris:20230901T170000
DTEND;TZID=Europe/Paris:20230901T170000
DTSTAMP:20260422T035853
CREATED:20230804T060203Z
LAST-MODIFIED:20230804T060303Z
UID:10001966-1693587600-1693587600@www.ekg-hechtsheim.de
SUMMARY:Kerbeauftakt mit und zugunsten der KiTa
DESCRIPTION:Die AG Fundraising Kinderkrippe und das Weingut Christophorus-Hof laden ein zum\nBenefizabend für die evangelische Kinderkrippe \nKleinbühnen-Kunst zum Kerbeauftakt\nim Christophorus-Hof\, Heuerstraße 13\, Mainz-Hechtsheim\n17 Uhr Auftakt durch die KiTa-Kinder\n18.30 Uhr Beginn des Abendprogramms \nPlakat Kerbeauftakt
URL:https://www.ekg-hechtsheim.de/veranstaltungen/kerbeauftakt-mit-und-zugunsten-der-kita/
CATEGORIES:Kultur
END:VEVENT
BEGIN:VEVENT
DTSTART;VALUE=DATE:20230903
DTEND;VALUE=DATE:20230904
DTSTAMP:20260422T035853
CREATED:20230628T082250Z
LAST-MODIFIED:20230628T082250Z
UID:10001936-1693699200-1693785599@www.ekg-hechtsheim.de
SUMMARY:KEIN Gottesdienst im Gemeindehaus Frankenhöhe
DESCRIPTION:
URL:https://www.ekg-hechtsheim.de/veranstaltungen/kein-gottesdienst-im-gemeindehaus-frankenhoehe-10/
LOCATION:Gemeindehaus Frankenhöhe\, Bodenheimer Straße 58\, Mainz\, 55129\, Deutschland
CATEGORIES:Gottesdienste
GEO:49.9667007;8.2872534
X-APPLE-STRUCTURED-LOCATION;VALUE=URI;X-ADDRESS=Gemeindehaus Frankenhöhe Bodenheimer Straße 58 Mainz 55129 Deutschland;X-APPLE-RADIUS=500;X-TITLE=Bodenheimer Straße 58:geo:8.2872534,49.9667007
END:VEVENT
BEGIN:VEVENT
DTSTART;TZID=Europe/Paris:20230903T100000
DTEND;TZID=Europe/Paris:20230903T100000
DTSTAMP:20260422T035853
CREATED:20230613T083610Z
LAST-MODIFIED:20230613T083610Z
UID:10001931-1693735200-1693735200@www.ekg-hechtsheim.de
SUMMARY:Gottesdienst
DESCRIPTION:
URL:https://www.ekg-hechtsheim.de/veranstaltungen/gottesdienst-251/
LOCATION:Gemeindezentrum Lion-Feuchtwanger-Straße\, Lion-Feuchtwanger Str. 14\, Mainz\, 55129\, Deutschland
CATEGORIES:Gottesdienste
GEO:49.9621;8.2738908
X-APPLE-STRUCTURED-LOCATION;VALUE=URI;X-ADDRESS=Gemeindezentrum Lion-Feuchtwanger-Straße Lion-Feuchtwanger Str. 14 Mainz 55129 Deutschland;X-APPLE-RADIUS=500;X-TITLE=Lion-Feuchtwanger Str. 14:geo:8.2738908,49.9621
END:VEVENT
BEGIN:VEVENT
DTSTART;TZID=Europe/Paris:20230904T081500
DTEND;TZID=Europe/Paris:20230904T090000
DTSTAMP:20260422T035853
CREATED:20230613T083759Z
LAST-MODIFIED:20230711T090851Z
UID:10001932-1693815300-1693818000@www.ekg-hechtsheim.de
SUMMARY:Ökumenischer Schulanfangs-Gottesdienst der IGS Mainz-Hechtsheim
DESCRIPTION:
URL:https://www.ekg-hechtsheim.de/veranstaltungen/oekumenischer-schulanfangs-gottesdienst-der-igs-mainz-hechtsheim-2/
LOCATION:IGS Mainz-Hechtsheim
CATEGORIES:Gottesdienste
END:VEVENT
BEGIN:VEVENT
DTSTART;TZID=Europe/Paris:20230905T090000
DTEND;TZID=Europe/Paris:20230905T090000
DTSTAMP:20260422T035853
CREATED:20230613T085821Z
LAST-MODIFIED:20230613T085821Z
UID:10001933-1693904400-1693904400@www.ekg-hechtsheim.de
SUMMARY:Ökumenischer Einschulungs-Gottesdienst der Theodor-Heuss-Grundschule im Garten des Gemeindezentrums
DESCRIPTION:
URL:https://www.ekg-hechtsheim.de/veranstaltungen/oekumenischer-einschulungs-gottesdienst-der-theodor-heuss-grundschule-im-garten-des-gemeindezentrums/
LOCATION:Außengelände des Gemeindezentrums Lion-Feuchtwanger-Straße\, Lion-Feuchtwanger-Straße 14\, Mainz\, 55129\, Deutschland
CATEGORIES:Gottesdienste
END:VEVENT
BEGIN:VEVENT
DTSTART;TZID=Europe/Paris:20230908T180000
DTEND;TZID=Europe/Paris:20230908T190000
DTSTAMP:20260422T035853
CREATED:20230118T110655Z
LAST-MODIFIED:20230718T100656Z
UID:10001919-1694196000-1694199600@www.ekg-hechtsheim.de
SUMMARY:Lust auf Singen?! – Singkreis der ev. Kirchengemeinde Mainz-Hechtsheim – Weltliche und geistliche Lieder zu verschiedenen Themen\, Kanons und lockeres Stimmtraining
DESCRIPTION:
URL:https://www.ekg-hechtsheim.de/veranstaltungen/lust-auf-singen-singkreis-der-ev-kirchengemeinde-mainz-hechtsheim-weltliche-und-geistliche-lieder-zu-verschiedenen-themen-kanons-und-lockeres-stimmtraining-2/2023-09-08/
LOCATION:Gemeindezentrum Lion-Feuchtwanger-Straße\, Lion-Feuchtwanger Str. 14\, Mainz\, 55129\, Deutschland
CATEGORIES:Gemeinde
GEO:49.9621;8.2738908
X-APPLE-STRUCTURED-LOCATION;VALUE=URI;X-ADDRESS=Gemeindezentrum Lion-Feuchtwanger-Straße Lion-Feuchtwanger Str. 14 Mainz 55129 Deutschland;X-APPLE-RADIUS=500;X-TITLE=Lion-Feuchtwanger Str. 14:geo:8.2738908,49.9621
END:VEVENT
BEGIN:VEVENT
DTSTART;VALUE=DATE:20230909
DTEND;VALUE=DATE:20230910
DTSTAMP:20260422T035853
CREATED:20230711T092903Z
LAST-MODIFIED:20230711T092903Z
UID:10001955-1694217600-1694303999@www.ekg-hechtsheim.de
SUMMARY:Männerwandern
DESCRIPTION:
URL:https://www.ekg-hechtsheim.de/veranstaltungen/maennerwandern-3/
CATEGORIES:Gemeinde
END:VEVENT
BEGIN:VEVENT
DTSTART;TZID=Europe/Paris:20230909T150000
DTEND;TZID=Europe/Paris:20230909T150000
DTSTAMP:20260422T035853
CREATED:20230704T093208Z
LAST-MODIFIED:20230807T072624Z
UID:10001948-1694271600-1694271600@www.ekg-hechtsheim.de
SUMMARY:Seniorenclub - Thema diesmal: „Geh aus\, mein Herz“ : Schönheit und Verantwortung – Schöpfung genießen und bewahren
DESCRIPTION:Wir kommen ins Gespräch über unser Erleben in der Natur\, Feld und Garten mit Tieren und Pflanzen und versuchen zu verstehen\, was Gottes Auftrag „Ihr sollt die Erde bewahren“ für uns heißen kann. Wir singen gemeinsam Lieder zum Thema
URL:https://www.ekg-hechtsheim.de/veranstaltungen/seniorenclub-thema-diesmal-geh-aus-mein-herz-schoenheit-und-verantwortung-schoepfung-geniessen-und-bewahren-wir-kommen-ins-gespraech-ueber-unser-erleben-in-der-natur/
LOCATION:Gemeindezentrum Lion-Feuchtwanger-Straße\, Lion-Feuchtwanger Str. 14\, Mainz\, 55129\, Deutschland
CATEGORIES:Gemeinde
GEO:49.9621;8.2738908
X-APPLE-STRUCTURED-LOCATION;VALUE=URI;X-ADDRESS=Gemeindezentrum Lion-Feuchtwanger-Straße Lion-Feuchtwanger Str. 14 Mainz 55129 Deutschland;X-APPLE-RADIUS=500;X-TITLE=Lion-Feuchtwanger Str. 14:geo:8.2738908,49.9621
END:VEVENT
BEGIN:VEVENT
DTSTART;TZID=Europe/Paris:20230910T100000
DTEND;TZID=Europe/Paris:20230910T170000
DTSTAMP:20260422T035853
CREATED:20230628T084201Z
LAST-MODIFIED:20230628T084201Z
UID:10001945-1694340000-1694365200@www.ekg-hechtsheim.de
SUMMARY:Gottesdienst mit Abendmahl
DESCRIPTION:
URL:https://www.ekg-hechtsheim.de/veranstaltungen/gottesdienst-mit-abendmahl-39/
LOCATION:Gemeindezentrum Lion-Feuchtwanger-Straße\, Lion-Feuchtwanger Str. 14\, Mainz\, 55129\, Deutschland
CATEGORIES:Gottesdienste
GEO:49.9621;8.2738908
X-APPLE-STRUCTURED-LOCATION;VALUE=URI;X-ADDRESS=Gemeindezentrum Lion-Feuchtwanger-Straße Lion-Feuchtwanger Str. 14 Mainz 55129 Deutschland;X-APPLE-RADIUS=500;X-TITLE=Lion-Feuchtwanger Str. 14:geo:8.2738908,49.9621
END:VEVENT
BEGIN:VEVENT
DTSTART;TZID=Europe/Paris:20230910T110000
DTEND;TZID=Europe/Paris:20230910T110000
DTSTAMP:20260422T035853
CREATED:20230628T084329Z
LAST-MODIFIED:20230628T084329Z
UID:10001946-1694343600-1694343600@www.ekg-hechtsheim.de
SUMMARY:Kinderkirche
DESCRIPTION:
URL:https://www.ekg-hechtsheim.de/veranstaltungen/kinderkirche-36/
LOCATION:Gemeindehaus Frankenhöhe\, Bodenheimer Straße 58\, Mainz\, 55129\, Deutschland
CATEGORIES:Gottesdienste
GEO:49.9667007;8.2872534
X-APPLE-STRUCTURED-LOCATION;VALUE=URI;X-ADDRESS=Gemeindehaus Frankenhöhe Bodenheimer Straße 58 Mainz 55129 Deutschland;X-APPLE-RADIUS=500;X-TITLE=Bodenheimer Straße 58:geo:8.2872534,49.9667007
END:VEVENT
BEGIN:VEVENT
DTSTART;TZID=Europe/Paris:20230912T173000
DTEND;TZID=Europe/Paris:20230912T173000
DTSTAMP:20260422T035853
CREATED:20230807T071801Z
LAST-MODIFIED:20230807T071801Z
UID:10001967-1694539800-1694539800@www.ekg-hechtsheim.de
SUMMARY:Jugendgruppe im Gemeindezentrum
DESCRIPTION:
URL:https://www.ekg-hechtsheim.de/veranstaltungen/jugendgruppe-im-gemeindezentrum-3/
LOCATION:Gemeindezentrum Lion-Feuchtwanger-Straße\, Lion-Feuchtwanger Str. 14\, Mainz\, 55129\, Deutschland
CATEGORIES:Gemeinde
GEO:49.9621;8.2738908
X-APPLE-STRUCTURED-LOCATION;VALUE=URI;X-ADDRESS=Gemeindezentrum Lion-Feuchtwanger-Straße Lion-Feuchtwanger Str. 14 Mainz 55129 Deutschland;X-APPLE-RADIUS=500;X-TITLE=Lion-Feuchtwanger Str. 14:geo:8.2738908,49.9621
END:VEVENT
BEGIN:VEVENT
DTSTART;VALUE=DATE:20230914
DTEND;VALUE=DATE:20230915
DTSTAMP:20260422T035853
CREATED:20230628T083637Z
LAST-MODIFIED:20230906T070106Z
UID:10001942-1694649600-1694735999@www.ekg-hechtsheim.de
SUMMARY:KEIN Werktagsgottesdienst mit Abendmahl
DESCRIPTION:
URL:https://www.ekg-hechtsheim.de/veranstaltungen/werktagsgottesdienst-mit-abendmahl-90/
LOCATION:16:00 - \, Deutschland
CATEGORIES:Gottesdienste
END:VEVENT
BEGIN:VEVENT
DTSTART;VALUE=DATE:20230917
DTEND;VALUE=DATE:20230918
DTSTAMP:20260422T035853
CREATED:20230628T083222Z
LAST-MODIFIED:20230628T083222Z
UID:10001940-1694908800-1694995199@www.ekg-hechtsheim.de
SUMMARY:KEIN Gottesdienst im Gemeindezentrum
DESCRIPTION:
URL:https://www.ekg-hechtsheim.de/veranstaltungen/kein-gottesdienst-im-gemeindezentrum-21/
LOCATION:Gemeindezentrum Lion-Feuchtwanger-Straße\, Lion-Feuchtwanger Str. 14\, Mainz\, 55129\, Deutschland
CATEGORIES:Gottesdienste
GEO:49.9621;8.2738908
X-APPLE-STRUCTURED-LOCATION;VALUE=URI;X-ADDRESS=Gemeindezentrum Lion-Feuchtwanger-Straße Lion-Feuchtwanger Str. 14 Mainz 55129 Deutschland;X-APPLE-RADIUS=500;X-TITLE=Lion-Feuchtwanger Str. 14:geo:8.2738908,49.9621
END:VEVENT
BEGIN:VEVENT
DTSTART;TZID=Europe/Paris:20230917T110000
DTEND;TZID=Europe/Paris:20230917T110000
DTSTAMP:20260422T035853
CREATED:20230628T082615Z
LAST-MODIFIED:20230904T081247Z
UID:10001937-1694948400-1694948400@www.ekg-hechtsheim.de
SUMMARY:Gottesdienst zum 26. Jahrestag der Einweihung des Gemeindehauses mit Ausstellungseröffnung "Wolken" und musikalischer Gestaltung durch den Gospelchor "sound connection"
DESCRIPTION:
URL:https://www.ekg-hechtsheim.de/veranstaltungen/gottesdienst-zum-26-jahrestag-der-einweihung-des-gemeindehauses-mit-ausstellungseroeffnung-und-musikalischer-gestaltung-durch-den-gospelchor-sound-connection/
LOCATION:Gemeindehaus Frankenhöhe\, Bodenheimer Straße 58\, Mainz\, 55129\, Deutschland
CATEGORIES:Gottesdienste
GEO:49.9667007;8.2872534
X-APPLE-STRUCTURED-LOCATION;VALUE=URI;X-ADDRESS=Gemeindehaus Frankenhöhe Bodenheimer Straße 58 Mainz 55129 Deutschland;X-APPLE-RADIUS=500;X-TITLE=Bodenheimer Straße 58:geo:8.2872534,49.9667007
END:VEVENT
BEGIN:VEVENT
DTSTART;TZID=Europe/Paris:20230924T100000
DTEND;TZID=Europe/Paris:20230924T100000
DTSTAMP:20260422T035853
CREATED:20230628T083105Z
LAST-MODIFIED:20230628T083105Z
UID:10001939-1695549600-1695549600@www.ekg-hechtsheim.de
SUMMARY:Gottesdienst
DESCRIPTION:
URL:https://www.ekg-hechtsheim.de/veranstaltungen/gottesdienst-253/
LOCATION:Gemeindezentrum Lion-Feuchtwanger-Straße\, Lion-Feuchtwanger Str. 14\, Mainz\, 55129\, Deutschland
CATEGORIES:Gottesdienste
GEO:49.9621;8.2738908
X-APPLE-STRUCTURED-LOCATION;VALUE=URI;X-ADDRESS=Gemeindezentrum Lion-Feuchtwanger-Straße Lion-Feuchtwanger Str. 14 Mainz 55129 Deutschland;X-APPLE-RADIUS=500;X-TITLE=Lion-Feuchtwanger Str. 14:geo:8.2738908,49.9621
END:VEVENT
BEGIN:VEVENT
DTSTART;TZID=Europe/Paris:20230924T180000
DTEND;TZID=Europe/Paris:20230924T180000
DTSTAMP:20260422T035853
CREATED:20230628T083507Z
LAST-MODIFIED:20230905T083828Z
UID:10001941-1695578400-1695578400@www.ekg-hechtsheim.de
SUMMARY:LiteraturAbendGottesdienst zum Thema Franz Kafka: "Die Verwandlung"
DESCRIPTION:Im Anschluss Gelegenheit zum Gespräch bei einem Glas Wein und Büchertisch der Buchhandlung Ruthmann
URL:https://www.ekg-hechtsheim.de/veranstaltungen/literaturabendgottesdienst-zum-thema-franz-kafka-die-verwandlung-mit-anschl-gelegenheit-zum-gespraech-bei-einem-glas-wein/
LOCATION:Gemeindehaus Frankenhöhe\, Bodenheimer Straße 58\, Mainz\, 55129\, Deutschland
CATEGORIES:Gottesdienste
GEO:49.9667007;8.2872534
X-APPLE-STRUCTURED-LOCATION;VALUE=URI;X-ADDRESS=Gemeindehaus Frankenhöhe Bodenheimer Straße 58 Mainz 55129 Deutschland;X-APPLE-RADIUS=500;X-TITLE=Bodenheimer Straße 58:geo:8.2872534,49.9667007
END:VEVENT
BEGIN:VEVENT
DTSTART;TZID=Europe/Paris:20230926T173000
DTEND;TZID=Europe/Paris:20230926T173000
DTSTAMP:20260422T035853
CREATED:20230807T071950Z
LAST-MODIFIED:20230807T071950Z
UID:10001968-1695749400-1695749400@www.ekg-hechtsheim.de
SUMMARY:Jugendgruppe im Gemeindehaus
DESCRIPTION:
URL:https://www.ekg-hechtsheim.de/veranstaltungen/jugendgruppe-im-gemeindehaus-3/
LOCATION:Gemeindehaus Frankenhöhe\, Bodenheimer Straße 58\, Mainz\, 55129\, Deutschland
CATEGORIES:Gemeinde
GEO:49.9667007;8.2872534
X-APPLE-STRUCTURED-LOCATION;VALUE=URI;X-ADDRESS=Gemeindehaus Frankenhöhe Bodenheimer Straße 58 Mainz 55129 Deutschland;X-APPLE-RADIUS=500;X-TITLE=Bodenheimer Straße 58:geo:8.2872534,49.9667007
END:VEVENT
BEGIN:VEVENT
DTSTART;TZID=Europe/Paris:20230928T160000
DTEND;TZID=Europe/Paris:20230928T160000
DTSTAMP:20260422T035853
CREATED:20230628T085121Z
LAST-MODIFIED:20230628T085121Z
UID:10001947-1695916800-1695916800@www.ekg-hechtsheim.de
SUMMARY:Werktagsgottesdienst mit Abendmahl
DESCRIPTION:
URL:https://www.ekg-hechtsheim.de/veranstaltungen/werktagsgottesdienst-mit-abendmahl-91/
LOCATION:16:00 - \, Deutschland
CATEGORIES:Gottesdienste
END:VEVENT
END:VCALENDAR