BEGIN:VCALENDAR
VERSION:2.0
PRODID:-//Evangelische Kirchengemeinde Mainz-Hechtsheim - ECPv6.15.20//NONSGML v1.0//EN
CALSCALE:GREGORIAN
METHOD:PUBLISH
X-WR-CALNAME:Evangelische Kirchengemeinde Mainz-Hechtsheim
X-ORIGINAL-URL:https://www.ekg-hechtsheim.de
X-WR-CALDESC:Veranstaltungen für Evangelische Kirchengemeinde Mainz-Hechtsheim
REFRESH-INTERVAL;VALUE=DURATION:PT1H
X-Robots-Tag:noindex
X-PUBLISHED-TTL:PT1H
BEGIN:VTIMEZONE
TZID:Europe/Paris
BEGIN:DAYLIGHT
TZOFFSETFROM:+0100
TZOFFSETTO:+0200
TZNAME:CEST
DTSTART:20220327T010000
END:DAYLIGHT
BEGIN:STANDARD
TZOFFSETFROM:+0200
TZOFFSETTO:+0100
TZNAME:CET
DTSTART:20221030T010000
END:STANDARD
BEGIN:DAYLIGHT
TZOFFSETFROM:+0100
TZOFFSETTO:+0200
TZNAME:CEST
DTSTART:20230326T010000
END:DAYLIGHT
BEGIN:STANDARD
TZOFFSETFROM:+0200
TZOFFSETTO:+0100
TZNAME:CET
DTSTART:20231029T010000
END:STANDARD
BEGIN:DAYLIGHT
TZOFFSETFROM:+0100
TZOFFSETTO:+0200
TZNAME:CEST
DTSTART:20240331T010000
END:DAYLIGHT
BEGIN:STANDARD
TZOFFSETFROM:+0200
TZOFFSETTO:+0100
TZNAME:CET
DTSTART:20241027T010000
END:STANDARD
END:VTIMEZONE
BEGIN:VEVENT
DTSTART;TZID=Europe/Paris:20230701T100000
DTEND;TZID=Europe/Paris:20230701T170000
DTSTAMP:20260422T064213
CREATED:20230625T155950Z
LAST-MODIFIED:20230625T160243Z
UID:10001934-1688205600-1688230800@www.ekg-hechtsheim.de
SUMMARY:Aktionstag rund um das Gemeindezentrum Teil 2 - Reparatur des Eselstalls - Mittags gemütliches Grillen
DESCRIPTION:
URL:https://www.ekg-hechtsheim.de/veranstaltungen/aktionstag-rund-um-das-gemeindezentrum-teil-2-reparatur-des-eselstalls-mittags-gemuetliches-grillen/
LOCATION:Außengelände des Gemeindezentrums Lion-Feuchtwanger-Straße\, Lion-Feuchtwanger-Straße 14\, Mainz\, 55129\, Deutschland
CATEGORIES:Gemeinde
END:VEVENT
BEGIN:VEVENT
DTSTART;TZID=Europe/Paris:20230702T100000
DTEND;TZID=Europe/Paris:20230702T100000
DTSTAMP:20260422T064213
CREATED:20230503T091628Z
LAST-MODIFIED:20230503T091628Z
UID:10001843-1688292000-1688292000@www.ekg-hechtsheim.de
SUMMARY:Gottesdienst
DESCRIPTION:
URL:https://www.ekg-hechtsheim.de/veranstaltungen/gottesdienst-243/
LOCATION:Gemeindezentrum Lion-Feuchtwanger-Straße\, Lion-Feuchtwanger Str. 14\, Mainz\, 55129\, Deutschland
CATEGORIES:Gottesdienste
GEO:49.9621;8.2738908
X-APPLE-STRUCTURED-LOCATION;VALUE=URI;X-ADDRESS=Gemeindezentrum Lion-Feuchtwanger-Straße Lion-Feuchtwanger Str. 14 Mainz 55129 Deutschland;X-APPLE-RADIUS=500;X-TITLE=Lion-Feuchtwanger Str. 14:geo:8.2738908,49.9621
END:VEVENT
BEGIN:VEVENT
DTSTART;TZID=Europe/Paris:20230702T110000
DTEND;TZID=Europe/Paris:20230702T110000
DTSTAMP:20260422T064213
CREATED:20230503T091724Z
LAST-MODIFIED:20230503T091724Z
UID:10001844-1688295600-1688295600@www.ekg-hechtsheim.de
SUMMARY:Kinderkirche
DESCRIPTION:
URL:https://www.ekg-hechtsheim.de/veranstaltungen/kinderkirche-37/
LOCATION:Gemeindehaus Frankenhöhe\, Bodenheimer Straße 58\, Mainz\, 55129\, Deutschland
CATEGORIES:Gottesdienste
GEO:49.9667007;8.2872534
X-APPLE-STRUCTURED-LOCATION;VALUE=URI;X-ADDRESS=Gemeindehaus Frankenhöhe Bodenheimer Straße 58 Mainz 55129 Deutschland;X-APPLE-RADIUS=500;X-TITLE=Bodenheimer Straße 58:geo:8.2872534,49.9667007
END:VEVENT
BEGIN:VEVENT
DTSTART;TZID=Europe/Paris:20230706T160000
DTEND;TZID=Europe/Paris:20230706T160000
DTSTAMP:20260422T064213
CREATED:20230503T093217Z
LAST-MODIFIED:20230503T093217Z
UID:10001847-1688659200-1688659200@www.ekg-hechtsheim.de
SUMMARY:Werktagsgottesdienst mit Abendmahl
DESCRIPTION:
URL:https://www.ekg-hechtsheim.de/veranstaltungen/werktagsgottesdienst-mit-abendmahl-85/
LOCATION:16:00 - \, Deutschland
CATEGORIES:Gottesdienste
END:VEVENT
BEGIN:VEVENT
DTSTART;VALUE=DATE:20230708
DTEND;VALUE=DATE:20230709
DTSTAMP:20260422T064213
CREATED:20230118T101855Z
LAST-MODIFIED:20230118T101855Z
UID:10001771-1688774400-1688860799@www.ekg-hechtsheim.de
SUMMARY:Männerwandern - Argenthaler Waldsee
DESCRIPTION:
URL:https://www.ekg-hechtsheim.de/veranstaltungen/maennerwandern-argenthaler-waldsee/
CATEGORIES:Gemeinde
END:VEVENT
BEGIN:VEVENT
DTSTART;TZID=Europe/Paris:20230708T160000
DTEND;TZID=Europe/Paris:20230708T160000
DTSTAMP:20260422T064213
CREATED:20230425T084129Z
LAST-MODIFIED:20230425T084129Z
UID:10001835-1688832000-1688832000@www.ekg-hechtsheim.de
SUMMARY:Seniorenclub - Grillnachmittag
DESCRIPTION:
URL:https://www.ekg-hechtsheim.de/veranstaltungen/seniorenclub-grillnachmittag-2/
LOCATION:Gemeindezentrum Lion-Feuchtwanger-Straße\, Lion-Feuchtwanger Str. 14\, Mainz\, 55129\, Deutschland
CATEGORIES:Gemeinde
GEO:49.9621;8.2738908
X-APPLE-STRUCTURED-LOCATION;VALUE=URI;X-ADDRESS=Gemeindezentrum Lion-Feuchtwanger-Straße Lion-Feuchtwanger Str. 14 Mainz 55129 Deutschland;X-APPLE-RADIUS=500;X-TITLE=Lion-Feuchtwanger Str. 14:geo:8.2738908,49.9621
END:VEVENT
BEGIN:VEVENT
DTSTART;TZID=Europe/Paris:20230709T100000
DTEND;TZID=Europe/Paris:20230709T100000
DTSTAMP:20260422T064213
CREATED:20230607T094225Z
LAST-MODIFIED:20230607T094225Z
UID:10001893-1688896800-1688896800@www.ekg-hechtsheim.de
SUMMARY:Gottesdienst
DESCRIPTION:
URL:https://www.ekg-hechtsheim.de/veranstaltungen/gottesdienst-246/
LOCATION:Gemeindezentrum Lion-Feuchtwanger-Straße\, Lion-Feuchtwanger Str. 14\, Mainz\, 55129\, Deutschland
CATEGORIES:Gottesdienste
GEO:49.9621;8.2738908
X-APPLE-STRUCTURED-LOCATION;VALUE=URI;X-ADDRESS=Gemeindezentrum Lion-Feuchtwanger-Straße Lion-Feuchtwanger Str. 14 Mainz 55129 Deutschland;X-APPLE-RADIUS=500;X-TITLE=Lion-Feuchtwanger Str. 14:geo:8.2738908,49.9621
END:VEVENT
BEGIN:VEVENT
DTSTART;TZID=Europe/Paris:20230709T170000
DTEND;TZID=Europe/Paris:20230709T170000
DTSTAMP:20260422T064213
CREATED:20230503T091952Z
LAST-MODIFIED:20230612T094615Z
UID:10001845-1688922000-1688922000@www.ekg-hechtsheim.de
SUMMARY:Ökumenischer Gottesdienst unter freiem Himmel auf dem Hewwel für Groß und Klein mit dem Gospelchor “Sound connection”\, Im Anschluss: Kinderprogramm\, Spielen und Basteln\, Grillen und Zusammensein bei Wein und Saft
DESCRIPTION:
URL:https://www.ekg-hechtsheim.de/veranstaltungen/1700-oekumenischer-gottesdienst-unter-freiem-himmel-mit-dem-gospelchor-sound-connection-anschl-gelegenheit-zu-begegnung-und-gespraech-bei-einem-umtrunk/
LOCATION:Auf dem Hewwel\, Deutschland
CATEGORIES:Gottesdienste
GEO:51.165691;10.451526
END:VEVENT
BEGIN:VEVENT
DTSTART;TZID=Europe/Paris:20230711T173000
DTEND;TZID=Europe/Paris:20230711T190000
DTSTAMP:20260422T064213
CREATED:20230612T095247Z
LAST-MODIFIED:20230612T095247Z
UID:10001914-1689096600-1689102000@www.ekg-hechtsheim.de
SUMMARY:Jugendgruppe im Gemeindezentrum
DESCRIPTION:
URL:https://www.ekg-hechtsheim.de/veranstaltungen/jugendgruppe-im-gemeindezentrum-2/
LOCATION:Gemeindezentrum Lion-Feuchtwanger-Straße\, Lion-Feuchtwanger Str. 14\, Mainz\, 55129\, Deutschland
CATEGORIES:Gemeinde
GEO:49.9621;8.2738908
X-APPLE-STRUCTURED-LOCATION;VALUE=URI;X-ADDRESS=Gemeindezentrum Lion-Feuchtwanger-Straße Lion-Feuchtwanger Str. 14 Mainz 55129 Deutschland;X-APPLE-RADIUS=500;X-TITLE=Lion-Feuchtwanger Str. 14:geo:8.2738908,49.9621
END:VEVENT
BEGIN:VEVENT
DTSTART;TZID=Europe/Paris:20230714T180000
DTEND;TZID=Europe/Paris:20230714T190000
DTSTAMP:20260422T064213
CREATED:20230118T110655Z
LAST-MODIFIED:20230718T100656Z
UID:10001917-1689357600-1689361200@www.ekg-hechtsheim.de
SUMMARY:Lust auf Singen?! – Singkreis der ev. Kirchengemeinde Mainz-Hechtsheim – Weltliche und geistliche Lieder zu verschiedenen Themen\, Kanons und lockeres Stimmtraining
DESCRIPTION:
URL:https://www.ekg-hechtsheim.de/veranstaltungen/lust-auf-singen-singkreis-der-ev-kirchengemeinde-mainz-hechtsheim-weltliche-und-geistliche-lieder-zu-verschiedenen-themen-kanons-und-lockeres-stimmtraining-2/2023-07-14/
LOCATION:Gemeindezentrum Lion-Feuchtwanger-Straße\, Lion-Feuchtwanger Str. 14\, Mainz\, 55129\, Deutschland
CATEGORIES:Gemeinde
GEO:49.9621;8.2738908
X-APPLE-STRUCTURED-LOCATION;VALUE=URI;X-ADDRESS=Gemeindezentrum Lion-Feuchtwanger-Straße Lion-Feuchtwanger Str. 14 Mainz 55129 Deutschland;X-APPLE-RADIUS=500;X-TITLE=Lion-Feuchtwanger Str. 14:geo:8.2738908,49.9621
END:VEVENT
BEGIN:VEVENT
DTSTART;VALUE=DATE:20230716
DTEND;VALUE=DATE:20230717
DTSTAMP:20260422T064213
CREATED:20230503T093618Z
LAST-MODIFIED:20230503T093618Z
UID:10001849-1689465600-1689551999@www.ekg-hechtsheim.de
SUMMARY:KEIN Gottesdienst im Gemeindehaus
DESCRIPTION:
URL:https://www.ekg-hechtsheim.de/veranstaltungen/kein-gottesdienst-im-gemeindehaus-13/
LOCATION:Gemeindehaus Frankenhöhe\, Bodenheimer Straße 58\, Mainz\, 55129\, Deutschland
CATEGORIES:Gottesdienste
GEO:49.9667007;8.2872534
X-APPLE-STRUCTURED-LOCATION;VALUE=URI;X-ADDRESS=Gemeindehaus Frankenhöhe Bodenheimer Straße 58 Mainz 55129 Deutschland;X-APPLE-RADIUS=500;X-TITLE=Bodenheimer Straße 58:geo:8.2872534,49.9667007
END:VEVENT
BEGIN:VEVENT
DTSTART;TZID=Europe/Paris:20230716T100000
DTEND;TZID=Europe/Paris:20230716T100000
DTSTAMP:20260422T064213
CREATED:20230503T093707Z
LAST-MODIFIED:20230710T100915Z
UID:10001850-1689501600-1689501600@www.ekg-hechtsheim.de
SUMMARY:Gottesdienst
DESCRIPTION:
URL:https://www.ekg-hechtsheim.de/veranstaltungen/gottesdienst-240/
LOCATION:Gemeindezentrum Lion-Feuchtwanger-Straße\, Lion-Feuchtwanger Str. 14\, Mainz\, 55129\, Deutschland
CATEGORIES:Gottesdienste
GEO:49.9621;8.2738908
X-APPLE-STRUCTURED-LOCATION;VALUE=URI;X-ADDRESS=Gemeindezentrum Lion-Feuchtwanger-Straße Lion-Feuchtwanger Str. 14 Mainz 55129 Deutschland;X-APPLE-RADIUS=500;X-TITLE=Lion-Feuchtwanger Str. 14:geo:8.2738908,49.9621
END:VEVENT
BEGIN:VEVENT
DTSTART;TZID=Europe/Paris:20230718T173000
DTEND;TZID=Europe/Paris:20230718T180000
DTSTAMP:20260422T064213
CREATED:20230612T100719Z
LAST-MODIFIED:20230612T100719Z
UID:10001915-1689701400-1689703200@www.ekg-hechtsheim.de
SUMMARY:Jugendgruppe im Gemeindehaus
DESCRIPTION:
URL:https://www.ekg-hechtsheim.de/veranstaltungen/jugendgruppe-im-gemeindehaus-2/
LOCATION:Gemeindehaus Frankenhöhe\, Bodenheimer Straße 58\, Mainz\, 55129\, Deutschland
CATEGORIES:Gemeinde
GEO:49.9667007;8.2872534
X-APPLE-STRUCTURED-LOCATION;VALUE=URI;X-ADDRESS=Gemeindehaus Frankenhöhe Bodenheimer Straße 58 Mainz 55129 Deutschland;X-APPLE-RADIUS=500;X-TITLE=Bodenheimer Straße 58:geo:8.2872534,49.9667007
END:VEVENT
BEGIN:VEVENT
DTSTART;TZID=Europe/Paris:20230719T180000
DTEND;TZID=Europe/Paris:20230719T180000
DTSTAMP:20260422T064213
CREATED:20230307T093546Z
LAST-MODIFIED:20230612T094759Z
UID:10001815-1689789600-1689789600@www.ekg-hechtsheim.de
SUMMARY:Ökumenisches Friedensgebet
DESCRIPTION:
URL:https://www.ekg-hechtsheim.de/veranstaltungen/oekumenische-friedensgebete-2/
LOCATION:Gemeindezentrum Lion-Feuchtwanger-Straße\, Lion-Feuchtwanger Str. 14\, Mainz\, 55129\, Deutschland
CATEGORIES:Gottesdienste
GEO:49.9621;8.2738908
X-APPLE-STRUCTURED-LOCATION;VALUE=URI;X-ADDRESS=Gemeindezentrum Lion-Feuchtwanger-Straße Lion-Feuchtwanger Str. 14 Mainz 55129 Deutschland;X-APPLE-RADIUS=500;X-TITLE=Lion-Feuchtwanger Str. 14:geo:8.2738908,49.9621
END:VEVENT
BEGIN:VEVENT
DTSTART;TZID=Europe/Paris:20230720T160000
DTEND;TZID=Europe/Paris:20230720T160000
DTSTAMP:20260422T064213
CREATED:20230503T093326Z
LAST-MODIFIED:20230503T093326Z
UID:10001848-1689868800-1689868800@www.ekg-hechtsheim.de
SUMMARY:Werktagsgottesdienst mit Abendmahl
DESCRIPTION:
URL:https://www.ekg-hechtsheim.de/veranstaltungen/werktagsgottesdienst-mit-abendmahl-86/
LOCATION:16:00 - \, Deutschland
CATEGORIES:Gottesdienste
END:VEVENT
BEGIN:VEVENT
DTSTART;VALUE=DATE:20230723
DTEND;VALUE=DATE:20230724
DTSTAMP:20260422T064213
CREATED:20230503T093903Z
LAST-MODIFIED:20230503T093903Z
UID:10001852-1690070400-1690156799@www.ekg-hechtsheim.de
SUMMARY:KEIN Gottesdienst im Gemeindezentrum
DESCRIPTION:
URL:https://www.ekg-hechtsheim.de/veranstaltungen/kein-gottesdienst-im-gemeindezentrum-18/
LOCATION:Gemeindezentrum Lion-Feuchtwanger-Straße\, Lion-Feuchtwanger Str. 14\, Mainz\, 55129\, Deutschland
CATEGORIES:Gottesdienste
GEO:49.9621;8.2738908
X-APPLE-STRUCTURED-LOCATION;VALUE=URI;X-ADDRESS=Gemeindezentrum Lion-Feuchtwanger-Straße Lion-Feuchtwanger Str. 14 Mainz 55129 Deutschland;X-APPLE-RADIUS=500;X-TITLE=Lion-Feuchtwanger Str. 14:geo:8.2738908,49.9621
END:VEVENT
BEGIN:VEVENT
DTSTART;TZID=Europe/Paris:20230723T110000
DTEND;TZID=Europe/Paris:20230723T110000
DTSTAMP:20260422T064213
CREATED:20230503T093948Z
LAST-MODIFIED:20230503T093948Z
UID:10001853-1690110000-1690110000@www.ekg-hechtsheim.de
SUMMARY:Gottesdienst
DESCRIPTION:
URL:https://www.ekg-hechtsheim.de/veranstaltungen/gottesdienst-244/
LOCATION:Gemeindehaus Frankenhöhe\, Bodenheimer Straße 58\, Mainz\, 55129\, Deutschland
CATEGORIES:Gottesdienste
GEO:49.9667007;8.2872534
X-APPLE-STRUCTURED-LOCATION;VALUE=URI;X-ADDRESS=Gemeindehaus Frankenhöhe Bodenheimer Straße 58 Mainz 55129 Deutschland;X-APPLE-RADIUS=500;X-TITLE=Bodenheimer Straße 58:geo:8.2872534,49.9667007
END:VEVENT
BEGIN:VEVENT
DTSTART;VALUE=DATE:20230730
DTEND;VALUE=DATE:20230731
DTSTAMP:20260422T064214
CREATED:20230503T094122Z
LAST-MODIFIED:20230503T094122Z
UID:10001855-1690675200-1690761599@www.ekg-hechtsheim.de
SUMMARY:KEIN Gottesdienst im Gemeindehaus
DESCRIPTION:
URL:https://www.ekg-hechtsheim.de/veranstaltungen/kein-gottesdienst-im-gemeindehaus-14/
LOCATION:Gemeindehaus Frankenhöhe\, Bodenheimer Straße 58\, Mainz\, 55129\, Deutschland
CATEGORIES:Gottesdienste
GEO:49.9667007;8.2872534
X-APPLE-STRUCTURED-LOCATION;VALUE=URI;X-ADDRESS=Gemeindehaus Frankenhöhe Bodenheimer Straße 58 Mainz 55129 Deutschland;X-APPLE-RADIUS=500;X-TITLE=Bodenheimer Straße 58:geo:8.2872534,49.9667007
END:VEVENT
BEGIN:VEVENT
DTSTART;TZID=Europe/Paris:20230730T100000
DTEND;TZID=Europe/Paris:20230730T100000
DTSTAMP:20260422T064214
CREATED:20230503T094035Z
LAST-MODIFIED:20230503T094035Z
UID:10001854-1690711200-1690711200@www.ekg-hechtsheim.de
SUMMARY:Gottesdienst
DESCRIPTION:
URL:https://www.ekg-hechtsheim.de/veranstaltungen/gottesdienst-245/
LOCATION:Gemeindezentrum Lion-Feuchtwanger-Straße\, Lion-Feuchtwanger Str. 14\, Mainz\, 55129\, Deutschland
CATEGORIES:Gottesdienste
GEO:49.9621;8.2738908
X-APPLE-STRUCTURED-LOCATION;VALUE=URI;X-ADDRESS=Gemeindezentrum Lion-Feuchtwanger-Straße Lion-Feuchtwanger Str. 14 Mainz 55129 Deutschland;X-APPLE-RADIUS=500;X-TITLE=Lion-Feuchtwanger Str. 14:geo:8.2738908,49.9621
END:VEVENT
END:VCALENDAR