BEGIN:VCALENDAR
VERSION:2.0
PRODID:-//Evangelische Kirchengemeinde Mainz-Hechtsheim - ECPv6.15.20//NONSGML v1.0//EN
CALSCALE:GREGORIAN
METHOD:PUBLISH
X-WR-CALNAME:Evangelische Kirchengemeinde Mainz-Hechtsheim
X-ORIGINAL-URL:https://www.ekg-hechtsheim.de
X-WR-CALDESC:Veranstaltungen für Evangelische Kirchengemeinde Mainz-Hechtsheim
REFRESH-INTERVAL;VALUE=DURATION:PT1H
X-Robots-Tag:noindex
X-PUBLISHED-TTL:PT1H
BEGIN:VTIMEZONE
TZID:Europe/Paris
BEGIN:DAYLIGHT
TZOFFSETFROM:+0100
TZOFFSETTO:+0200
TZNAME:CEST
DTSTART:20220327T010000
END:DAYLIGHT
BEGIN:STANDARD
TZOFFSETFROM:+0200
TZOFFSETTO:+0100
TZNAME:CET
DTSTART:20221030T010000
END:STANDARD
BEGIN:DAYLIGHT
TZOFFSETFROM:+0100
TZOFFSETTO:+0200
TZNAME:CEST
DTSTART:20230326T010000
END:DAYLIGHT
BEGIN:STANDARD
TZOFFSETFROM:+0200
TZOFFSETTO:+0100
TZNAME:CET
DTSTART:20231029T010000
END:STANDARD
BEGIN:DAYLIGHT
TZOFFSETFROM:+0100
TZOFFSETTO:+0200
TZNAME:CEST
DTSTART:20240331T010000
END:DAYLIGHT
BEGIN:STANDARD
TZOFFSETFROM:+0200
TZOFFSETTO:+0100
TZNAME:CET
DTSTART:20241027T010000
END:STANDARD
END:VTIMEZONE
BEGIN:VEVENT
DTSTART;VALUE=DATE:20230506
DTEND;VALUE=DATE:20230507
DTSTAMP:20260422T093138
CREATED:20230118T101740Z
LAST-MODIFIED:20230118T101740Z
UID:10001770-1683331200-1683417599@www.ekg-hechtsheim.de
SUMMARY:Männerwandern Nierstein - Roter Hang - Spitzhäusje Runde
DESCRIPTION:
URL:https://www.ekg-hechtsheim.de/veranstaltungen/maennerwandern-nierstein-roter-hang-spitzhaeusje-runde/
CATEGORIES:Gemeinde
END:VEVENT
BEGIN:VEVENT
DTSTART;TZID=Europe/Paris:20230506T150000
DTEND;TZID=Europe/Paris:20230506T150000
DTSTAMP:20260422T093138
CREATED:20230307T094326Z
LAST-MODIFIED:20230307T094326Z
UID:10001817-1683385200-1683385200@www.ekg-hechtsheim.de
SUMMARY:Seniorenclub - Frühlingslieder-Singen mit Peter Jotzo
DESCRIPTION:
URL:https://www.ekg-hechtsheim.de/veranstaltungen/seniorenclub-fruehlingslieder-singen-mit-peter-jotzo/
LOCATION:Gemeindezentrum Lion-Feuchtwanger-Straße\, Lion-Feuchtwanger Str. 14\, Mainz\, 55129\, Deutschland
CATEGORIES:Gemeinde
GEO:49.9621;8.2738908
X-APPLE-STRUCTURED-LOCATION;VALUE=URI;X-ADDRESS=Gemeindezentrum Lion-Feuchtwanger-Straße Lion-Feuchtwanger Str. 14 Mainz 55129 Deutschland;X-APPLE-RADIUS=500;X-TITLE=Lion-Feuchtwanger Str. 14:geo:8.2738908,49.9621
END:VEVENT
BEGIN:VEVENT
DTSTART;TZID=Europe/Paris:20230507T100000
DTEND;TZID=Europe/Paris:20230507T100000
DTSTAMP:20260422T093138
CREATED:20230322T100315Z
LAST-MODIFIED:20230322T100315Z
UID:10001821-1683453600-1683453600@www.ekg-hechtsheim.de
SUMMARY:Vorstellungsgottesdienst der Konfirmanden im Gemeindezentrum
DESCRIPTION:
URL:https://www.ekg-hechtsheim.de/veranstaltungen/vorstellungsgottesdienst-der-konfirmanden-im-gemeindezentrum/
LOCATION:Gemeindezentrum Lion-Feuchtwanger-Straße\, Lion-Feuchtwanger Str. 14\, Mainz\, 55129\, Deutschland
CATEGORIES:Gottesdienste
GEO:49.9621;8.2738908
X-APPLE-STRUCTURED-LOCATION;VALUE=URI;X-ADDRESS=Gemeindezentrum Lion-Feuchtwanger-Straße Lion-Feuchtwanger Str. 14 Mainz 55129 Deutschland;X-APPLE-RADIUS=500;X-TITLE=Lion-Feuchtwanger Str. 14:geo:8.2738908,49.9621
END:VEVENT
BEGIN:VEVENT
DTSTART;TZID=Europe/Paris:20230507T110000
DTEND;TZID=Europe/Paris:20230507T110000
DTSTAMP:20260422T093138
CREATED:20230322T100622Z
LAST-MODIFIED:20230329T100141Z
UID:10001822-1683457200-1683457200@www.ekg-hechtsheim.de
SUMMARY:Gottesdienst\, anschließend Kirchkaffee
DESCRIPTION:
URL:https://www.ekg-hechtsheim.de/veranstaltungen/gottesdienst-235/
LOCATION:Gemeindehaus Frankenhöhe\, Bodenheimer Straße 58\, Mainz\, 55129\, Deutschland
CATEGORIES:Gottesdienste
GEO:49.9667007;8.2872534
X-APPLE-STRUCTURED-LOCATION;VALUE=URI;X-ADDRESS=Gemeindehaus Frankenhöhe Bodenheimer Straße 58 Mainz 55129 Deutschland;X-APPLE-RADIUS=500;X-TITLE=Bodenheimer Straße 58:geo:8.2872534,49.9667007
END:VEVENT
BEGIN:VEVENT
DTSTART;TZID=Europe/Paris:20230511T160000
DTEND;TZID=Europe/Paris:20230511T160000
DTSTAMP:20260422T093138
CREATED:20230322T100902Z
LAST-MODIFIED:20230322T100902Z
UID:10001823-1683820800-1683820800@www.ekg-hechtsheim.de
SUMMARY:Werktagsgottesdienst mit Abendmahl
DESCRIPTION:
URL:https://www.ekg-hechtsheim.de/veranstaltungen/werktagsgottesdienst-mit-abendmahl-83/
LOCATION:16:00 - \, Deutschland
CATEGORIES:Gottesdienste
END:VEVENT
BEGIN:VEVENT
DTSTART;TZID=Europe/Paris:20230512T180000
DTEND;TZID=Europe/Paris:20230512T180000
DTSTAMP:20260422T093138
CREATED:20230118T110655Z
LAST-MODIFIED:20230718T100656Z
UID:10001777-1683914400-1683914400@www.ekg-hechtsheim.de
SUMMARY:Lust auf Singen?! – Singkreis der ev. Kirchengemeinde Mainz-Hechtsheim – Weltliche und geistliche Lieder zu verschiedenen Themen\, Kanons und lockeres Stimmtraining
DESCRIPTION:
URL:https://www.ekg-hechtsheim.de/veranstaltungen/lust-auf-singen-singkreis-der-ev-kirchengemeinde-mainz-hechtsheim-weltliche-und-geistliche-lieder-zu-verschiedenen-themen-kanons-und-lockeres-stimmtraining-2/2023-05-12/
LOCATION:Gemeindezentrum Lion-Feuchtwanger-Straße\, Lion-Feuchtwanger Str. 14\, Mainz\, 55129\, Deutschland
CATEGORIES:Gemeinde
GEO:49.9621;8.2738908
X-APPLE-STRUCTURED-LOCATION;VALUE=URI;X-ADDRESS=Gemeindezentrum Lion-Feuchtwanger-Straße Lion-Feuchtwanger Str. 14 Mainz 55129 Deutschland;X-APPLE-RADIUS=500;X-TITLE=Lion-Feuchtwanger Str. 14:geo:8.2738908,49.9621
END:VEVENT
BEGIN:VEVENT
DTSTART;VALUE=DATE:20230513
DTEND;VALUE=DATE:20230514
DTSTAMP:20260422T093138
CREATED:20230307T093744Z
LAST-MODIFIED:20230307T093744Z
UID:10001816-1683936000-1684022399@www.ekg-hechtsheim.de
SUMMARY:Ökumenische Pilgerwanderung zum Zöller Kreuz
DESCRIPTION:
URL:https://www.ekg-hechtsheim.de/veranstaltungen/oekumenische-pilgerwanderung-zum-zoeller-kreuz/
CATEGORIES:Gemeinde
END:VEVENT
BEGIN:VEVENT
DTSTART;TZID=Europe/Paris:20230513T170000
DTEND;TZID=Europe/Paris:20230513T170000
DTSTAMP:20260422T093138
CREATED:20230322T101002Z
LAST-MODIFIED:20230322T101002Z
UID:10001824-1683997200-1683997200@www.ekg-hechtsheim.de
SUMMARY:Abendmahlsgottesdienst vor der Konfirmation
DESCRIPTION:
URL:https://www.ekg-hechtsheim.de/veranstaltungen/abendmahlsgottesdienst-vor-der-konfirmation/
LOCATION:Gemeindezentrum Lion-Feuchtwanger-Straße\, Lion-Feuchtwanger Str. 14\, Mainz\, 55129\, Deutschland
CATEGORIES:Gottesdienste
GEO:49.9621;8.2738908
X-APPLE-STRUCTURED-LOCATION;VALUE=URI;X-ADDRESS=Gemeindezentrum Lion-Feuchtwanger-Straße Lion-Feuchtwanger Str. 14 Mainz 55129 Deutschland;X-APPLE-RADIUS=500;X-TITLE=Lion-Feuchtwanger Str. 14:geo:8.2738908,49.9621
END:VEVENT
BEGIN:VEVENT
DTSTART;TZID=Europe/Paris:20230514T100000
DTEND;TZID=Europe/Paris:20230514T100000
DTSTAMP:20260422T093138
CREATED:20230308T104830Z
LAST-MODIFIED:20230308T104830Z
UID:10001818-1684058400-1684058400@www.ekg-hechtsheim.de
SUMMARY:Konfirmation
DESCRIPTION:
URL:https://www.ekg-hechtsheim.de/veranstaltungen/konfirmation-8/
LOCATION:Gemeindezentrum Lion-Feuchtwanger-Straße\, Lion-Feuchtwanger Str. 14\, Mainz\, 55129\, Deutschland
CATEGORIES:Gottesdienste
GEO:49.9621;8.2738908
X-APPLE-STRUCTURED-LOCATION;VALUE=URI;X-ADDRESS=Gemeindezentrum Lion-Feuchtwanger-Straße Lion-Feuchtwanger Str. 14 Mainz 55129 Deutschland;X-APPLE-RADIUS=500;X-TITLE=Lion-Feuchtwanger Str. 14:geo:8.2738908,49.9621
END:VEVENT
BEGIN:VEVENT
DTSTART;TZID=Europe/Paris:20230514T110000
DTEND;TZID=Europe/Paris:20230514T110000
DTSTAMP:20260422T093138
CREATED:20230322T101105Z
LAST-MODIFIED:20230322T101105Z
UID:10001825-1684062000-1684062000@www.ekg-hechtsheim.de
SUMMARY:Kinderkirche
DESCRIPTION:
URL:https://www.ekg-hechtsheim.de/veranstaltungen/kinderkirche-35/
LOCATION:Gemeindehaus Frankenhöhe\, Bodenheimer Straße 58\, Mainz\, 55129\, Deutschland
CATEGORIES:Gottesdienste
GEO:49.9667007;8.2872534
X-APPLE-STRUCTURED-LOCATION;VALUE=URI;X-ADDRESS=Gemeindehaus Frankenhöhe Bodenheimer Straße 58 Mainz 55129 Deutschland;X-APPLE-RADIUS=500;X-TITLE=Bodenheimer Straße 58:geo:8.2872534,49.9667007
END:VEVENT
BEGIN:VEVENT
DTSTART;TZID=Europe/Paris:20230521T100000
DTEND;TZID=Europe/Paris:20230521T100000
DTSTAMP:20260422T093138
CREATED:20230322T101202Z
LAST-MODIFIED:20230322T101202Z
UID:10001826-1684663200-1684663200@www.ekg-hechtsheim.de
SUMMARY:Gottesdienst
DESCRIPTION:
URL:https://www.ekg-hechtsheim.de/veranstaltungen/gottesdienst-236/
LOCATION:Gemeindezentrum Lion-Feuchtwanger-Straße\, Lion-Feuchtwanger Str. 14\, Mainz\, 55129\, Deutschland
CATEGORIES:Gottesdienste
GEO:49.9621;8.2738908
X-APPLE-STRUCTURED-LOCATION;VALUE=URI;X-ADDRESS=Gemeindezentrum Lion-Feuchtwanger-Straße Lion-Feuchtwanger Str. 14 Mainz 55129 Deutschland;X-APPLE-RADIUS=500;X-TITLE=Lion-Feuchtwanger Str. 14:geo:8.2738908,49.9621
END:VEVENT
BEGIN:VEVENT
DTSTART;TZID=Europe/Paris:20230521T110000
DTEND;TZID=Europe/Paris:20230521T110000
DTSTAMP:20260422T093138
CREATED:20230322T101254Z
LAST-MODIFIED:20230322T101254Z
UID:10001827-1684666800-1684666800@www.ekg-hechtsheim.de
SUMMARY:Gottesdienst
DESCRIPTION:
URL:https://www.ekg-hechtsheim.de/veranstaltungen/gottesdienst-237/
LOCATION:Gemeindehaus Frankenhöhe\, Bodenheimer Straße 58\, Mainz\, 55129\, Deutschland
CATEGORIES:Gottesdienste
GEO:49.9667007;8.2872534
X-APPLE-STRUCTURED-LOCATION;VALUE=URI;X-ADDRESS=Gemeindehaus Frankenhöhe Bodenheimer Straße 58 Mainz 55129 Deutschland;X-APPLE-RADIUS=500;X-TITLE=Bodenheimer Straße 58:geo:8.2872534,49.9667007
END:VEVENT
BEGIN:VEVENT
DTSTART;TZID=Europe/Paris:20230525T160000
DTEND;TZID=Europe/Paris:20230525T160000
DTSTAMP:20260422T093138
CREATED:20230322T101505Z
LAST-MODIFIED:20230503T092821Z
UID:10001828-1685030400-1685030400@www.ekg-hechtsheim.de
SUMMARY:Werktagsgottesdienst mit Abendmahl
DESCRIPTION:
URL:https://www.ekg-hechtsheim.de/veranstaltungen/werktagsgottesdienst-mit-abendmahl-84/
LOCATION:16:00 - \, Deutschland
CATEGORIES:Gottesdienste
END:VEVENT
BEGIN:VEVENT
DTSTART;TZID=Europe/Paris:20230526T200000
DTEND;TZID=Europe/Paris:20230526T200000
DTSTAMP:20260422T093138
CREATED:20230307T092055Z
LAST-MODIFIED:20230307T092126Z
UID:10001813-1685131200-1685131200@www.ekg-hechtsheim.de
SUMMARY:Ökumenische Pfingstkomplet mit Übergabe der handgeschriebenen ökumenischen Bibel von der evangelischen an die katholische Gemeinde - Im Anschluss Gespräch und Zusammensein bei einem Glas Wein
DESCRIPTION:
URL:https://www.ekg-hechtsheim.de/veranstaltungen/oekumenische-pfingstkomplet-mit-uebergabe-der-handgeschriebenen-oekumenischen-bibel-von-der-evangelischen-an-die-katholische-gemeinde-im-anschluss-gespraech-und-zusammensein-bei-einem-glas-wein/
LOCATION:Gemeindezentrum Lion-Feuchtwanger-Straße\, Lion-Feuchtwanger Str. 14\, Mainz\, 55129\, Deutschland
CATEGORIES:Gottesdienste
GEO:49.9621;8.2738908
X-APPLE-STRUCTURED-LOCATION;VALUE=URI;X-ADDRESS=Gemeindezentrum Lion-Feuchtwanger-Straße Lion-Feuchtwanger Str. 14 Mainz 55129 Deutschland;X-APPLE-RADIUS=500;X-TITLE=Lion-Feuchtwanger Str. 14:geo:8.2738908,49.9621
END:VEVENT
BEGIN:VEVENT
DTSTART;TZID=Europe/Paris:20230527T190000
DTEND;TZID=Europe/Paris:20230527T190000
DTSTAMP:20260422T093138
CREATED:20230322T101611Z
LAST-MODIFIED:20230322T101611Z
UID:10001829-1685214000-1685214000@www.ekg-hechtsheim.de
SUMMARY:Abendmahlsgottesdienst vor der Konfirmation
DESCRIPTION:
URL:https://www.ekg-hechtsheim.de/veranstaltungen/abendmahlsgottesdienst-vor-der-konfirmation-2/
LOCATION:Gemeindehaus Frankenhöhe\, Bodenheimer Straße 58\, Mainz\, 55129\, Deutschland
CATEGORIES:Gottesdienste
GEO:49.9667007;8.2872534
X-APPLE-STRUCTURED-LOCATION;VALUE=URI;X-ADDRESS=Gemeindehaus Frankenhöhe Bodenheimer Straße 58 Mainz 55129 Deutschland;X-APPLE-RADIUS=500;X-TITLE=Bodenheimer Straße 58:geo:8.2872534,49.9667007
END:VEVENT
BEGIN:VEVENT
DTSTART;TZID=Europe/Paris:20230528T100000
DTEND;TZID=Europe/Paris:20230528T100000
DTSTAMP:20260422T093138
CREATED:20230322T101928Z
LAST-MODIFIED:20230322T101928Z
UID:10001830-1685268000-1685268000@www.ekg-hechtsheim.de
SUMMARY:Gottesdienst an Pfingstsonntag
DESCRIPTION:
URL:https://www.ekg-hechtsheim.de/veranstaltungen/gottesdienst-an-pfingstsonntag/
LOCATION:Gemeindezentrum Lion-Feuchtwanger-Straße\, Lion-Feuchtwanger Str. 14\, Mainz\, 55129\, Deutschland
CATEGORIES:Gottesdienste
GEO:49.9621;8.2738908
X-APPLE-STRUCTURED-LOCATION;VALUE=URI;X-ADDRESS=Gemeindezentrum Lion-Feuchtwanger-Straße Lion-Feuchtwanger Str. 14 Mainz 55129 Deutschland;X-APPLE-RADIUS=500;X-TITLE=Lion-Feuchtwanger Str. 14:geo:8.2738908,49.9621
END:VEVENT
BEGIN:VEVENT
DTSTART;TZID=Europe/Paris:20230528T103000
DTEND;TZID=Europe/Paris:20230528T103000
DTSTAMP:20260422T093138
CREATED:20230308T104927Z
LAST-MODIFIED:20230308T104927Z
UID:10001819-1685269800-1685269800@www.ekg-hechtsheim.de
SUMMARY:Konfirmation
DESCRIPTION:
URL:https://www.ekg-hechtsheim.de/veranstaltungen/konfirmation-9/
LOCATION:Gemeindehaus Frankenhöhe\, Bodenheimer Straße 58\, Mainz\, 55129\, Deutschland
CATEGORIES:Gottesdienste
GEO:49.9667007;8.2872534
X-APPLE-STRUCTURED-LOCATION;VALUE=URI;X-ADDRESS=Gemeindehaus Frankenhöhe Bodenheimer Straße 58 Mainz 55129 Deutschland;X-APPLE-RADIUS=500;X-TITLE=Bodenheimer Straße 58:geo:8.2872534,49.9667007
END:VEVENT
END:VCALENDAR