BEGIN:VCALENDAR
VERSION:2.0
PRODID:-//Evangelische Kirchengemeinde Mainz-Hechtsheim - ECPv6.15.20//NONSGML v1.0//EN
CALSCALE:GREGORIAN
METHOD:PUBLISH
X-WR-CALNAME:Evangelische Kirchengemeinde Mainz-Hechtsheim
X-ORIGINAL-URL:https://www.ekg-hechtsheim.de
X-WR-CALDESC:Veranstaltungen für Evangelische Kirchengemeinde Mainz-Hechtsheim
REFRESH-INTERVAL;VALUE=DURATION:PT1H
X-Robots-Tag:noindex
X-PUBLISHED-TTL:PT1H
BEGIN:VTIMEZONE
TZID:Europe/Paris
BEGIN:DAYLIGHT
TZOFFSETFROM:+0100
TZOFFSETTO:+0200
TZNAME:CEST
DTSTART:20220327T010000
END:DAYLIGHT
BEGIN:STANDARD
TZOFFSETFROM:+0200
TZOFFSETTO:+0100
TZNAME:CET
DTSTART:20221030T010000
END:STANDARD
BEGIN:DAYLIGHT
TZOFFSETFROM:+0100
TZOFFSETTO:+0200
TZNAME:CEST
DTSTART:20230326T010000
END:DAYLIGHT
BEGIN:STANDARD
TZOFFSETFROM:+0200
TZOFFSETTO:+0100
TZNAME:CET
DTSTART:20231029T010000
END:STANDARD
BEGIN:DAYLIGHT
TZOFFSETFROM:+0100
TZOFFSETTO:+0200
TZNAME:CEST
DTSTART:20240331T010000
END:DAYLIGHT
BEGIN:STANDARD
TZOFFSETFROM:+0200
TZOFFSETTO:+0100
TZNAME:CET
DTSTART:20241027T010000
END:STANDARD
END:VTIMEZONE
BEGIN:VEVENT
DTSTART;TZID=Europe/Paris:20230203T180000
DTEND;TZID=Europe/Paris:20230203T183000
DTSTAMP:20260422T140637
CREATED:20221108T112241Z
LAST-MODIFIED:20221108T112241Z
UID:10001093-1675447200-1675449000@www.ekg-hechtsheim.de
SUMMARY:Musikalische Abendandacht zum Wochenausklang – Carolin Kaiser (Orgel) und Aline Rogge (Querflöte) musizieren zu ausgesuchten Psalmversen
DESCRIPTION:
URL:https://www.ekg-hechtsheim.de/veranstaltungen/musikalische-abendandacht-zum-wochenausklang-carolin-kaiser-orgel-und-aline-rogge-querfloete-musizieren-zu-ausgesuchten-psalmversen/
LOCATION:Gemeindezentrum Lion-Feuchtwanger-Straße\, Lion-Feuchtwanger Str. 14\, Mainz\, 55129\, Deutschland
CATEGORIES:Gemeinde,Gottesdienste
GEO:49.9621;8.2738908
X-APPLE-STRUCTURED-LOCATION;VALUE=URI;X-ADDRESS=Gemeindezentrum Lion-Feuchtwanger-Straße Lion-Feuchtwanger Str. 14 Mainz 55129 Deutschland;X-APPLE-RADIUS=500;X-TITLE=Lion-Feuchtwanger Str. 14:geo:8.2738908,49.9621
END:VEVENT
BEGIN:VEVENT
DTSTART;TZID=Europe/Paris:20230204T160000
DTEND;TZID=Europe/Paris:20230204T180000
DTSTAMP:20260422T140637
CREATED:20230202T173300Z
LAST-MODIFIED:20230202T173802Z
UID:10001782-1675526400-1675533600@www.ekg-hechtsheim.de
SUMMARY:ЛАСКАВО ПРОСИМО ДО ЗУСТРІЧ КАФЕ – CAFÉ DER BEGEGNUNG
DESCRIPTION:Unsere Ökumenische Flüchtlingsinitiative “Ankommen in Hechtsheim” (AIH) öffnet wieder das Café der Begegnung im \nGemeindezentrum Lion-Feuchtwanger-Str. 14\, \neinen Treffpunkt für Geflüchtete und “Alt-Hechtsheimer”\, der üblicherweise jeden dritten Samstag im Monat jeweils um 16.00 Uhr (falls nicht anders im Kalender beschrieben) stattfinden wird. \nBei Kaffee und Kuchen soll Gelegenheit zu Gesprächen sein\, den Geflüchteten ein bißchen Nähe\, ein “Nachbar-sein-Gefühl” zu geben\, ihnen bei Fragen und Problemen zur Seite zu stehen. \nDa es wegen der Feiertage usw. mal zu Terminverschiebungen kommen kann\, schauen Sie bitte in jedem Fall auch in den Veranstaltungskalender (–> Aktuelles – Veranstaltungen). \nWir laden alle Interessierten ein mal reinzuschnuppern ……
URL:https://www.ekg-hechtsheim.de/veranstaltungen/%d0%bb%d0%b0%d1%81%d0%ba%d0%b0%d0%b2%d0%be-%d0%bf%d1%80%d0%be%d1%81%d0%b8%d0%bc%d0%be-%d0%b4%d0%be-%d0%b7%d1%83%d1%81%d1%82%d1%80%d1%96%d1%87-%d0%ba%d0%b0%d1%84%d0%b5-cafe-der-begegnung-14/
LOCATION:Gemeindezentrum Lion-Feuchtwanger-Straße\, Lion-Feuchtwanger Str. 14\, Mainz\, 55129\, Deutschland
CATEGORIES:Kultur,Sonstiges
ORGANIZER;CN="%C3%96kumenische Fl%C3%BCchtlingsinitiative AIH":MAILTO:ankommen.in.hechtsheim@gmail.com
GEO:49.9621;8.2738908
X-APPLE-STRUCTURED-LOCATION;VALUE=URI;X-ADDRESS=Gemeindezentrum Lion-Feuchtwanger-Straße Lion-Feuchtwanger Str. 14 Mainz 55129 Deutschland;X-APPLE-RADIUS=500;X-TITLE=Lion-Feuchtwanger Str. 14:geo:8.2738908,49.9621
END:VEVENT
BEGIN:VEVENT
DTSTART;VALUE=DATE:20230205
DTEND;VALUE=DATE:20230206
DTSTAMP:20260422T140637
CREATED:20221214T112341Z
LAST-MODIFIED:20221214T112341Z
UID:10001757-1675555200-1675641599@www.ekg-hechtsheim.de
SUMMARY:KEIN Gottesdienst Im Gemeindehaus
DESCRIPTION:
URL:https://www.ekg-hechtsheim.de/veranstaltungen/kein-gottesdienst-im-gemeindehaus-11/
LOCATION:Gemeindehaus Frankenhöhe\, Bodenheimer Straße 58\, Mainz\, 55129\, Deutschland
CATEGORIES:Gottesdienste
GEO:49.9667007;8.2872534
X-APPLE-STRUCTURED-LOCATION;VALUE=URI;X-ADDRESS=Gemeindehaus Frankenhöhe Bodenheimer Straße 58 Mainz 55129 Deutschland;X-APPLE-RADIUS=500;X-TITLE=Bodenheimer Straße 58:geo:8.2872534,49.9667007
END:VEVENT
BEGIN:VEVENT
DTSTART;TZID=Europe/Paris:20230205T100000
DTEND;TZID=Europe/Paris:20230205T100000
DTSTAMP:20260422T140637
CREATED:20221214T111835Z
LAST-MODIFIED:20230103T083126Z
UID:10001754-1675591200-1675591200@www.ekg-hechtsheim.de
SUMMARY:Gottesdienst mit Begrüßung unserer neuen Konfirmandinnen und Konfirmanden
DESCRIPTION:
URL:https://www.ekg-hechtsheim.de/veranstaltungen/gottesdienst-mit-begruessung-unseer-neuen-konfirmandinnen-und-konfirmanden/
LOCATION:Gemeindezentrum Lion-Feuchtwanger-Straße\, Lion-Feuchtwanger Str. 14\, Mainz\, 55129\, Deutschland
CATEGORIES:Gottesdienste
GEO:49.9621;8.2738908
X-APPLE-STRUCTURED-LOCATION;VALUE=URI;X-ADDRESS=Gemeindezentrum Lion-Feuchtwanger-Straße Lion-Feuchtwanger Str. 14 Mainz 55129 Deutschland;X-APPLE-RADIUS=500;X-TITLE=Lion-Feuchtwanger Str. 14:geo:8.2738908,49.9621
END:VEVENT
BEGIN:VEVENT
DTSTART;TZID=Europe/Paris:20230210T191100
DTEND;TZID=Europe/Paris:20230210T191100
DTSTAMP:20260422T140637
CREATED:20221108T113546Z
LAST-MODIFIED:20221108T113546Z
UID:10001097-1676056260-1676056260@www.ekg-hechtsheim.de
SUMMARY:Die Gemeinde-Fassenacht Kampagne 2023 - Die Welt im Krisenmodus bebt\, doch die Gemeinde-Fassenacht\, die lebt!
DESCRIPTION:Einlass ab 18.30 Uhr
URL:https://www.ekg-hechtsheim.de/veranstaltungen/die-gemeinde-fassenacht-kampagne-2023-die-welt-im-krisenmodus-bebt-doch-die-gemeinde-fassenacht-die-lebt/
LOCATION:Gemeindezentrum Lion-Feuchtwanger-Straße\, Lion-Feuchtwanger Str. 14\, Mainz\, 55129\, Deutschland
CATEGORIES:Gemeinde
GEO:49.9621;8.2738908
X-APPLE-STRUCTURED-LOCATION;VALUE=URI;X-ADDRESS=Gemeindezentrum Lion-Feuchtwanger-Straße Lion-Feuchtwanger Str. 14 Mainz 55129 Deutschland;X-APPLE-RADIUS=500;X-TITLE=Lion-Feuchtwanger Str. 14:geo:8.2738908,49.9621
END:VEVENT
BEGIN:VEVENT
DTSTART;TZID=Europe/Paris:20230211T150000
DTEND;TZID=Europe/Paris:20230211T150000
DTSTAMP:20260422T140637
CREATED:20221214T112214Z
LAST-MODIFIED:20221214T112214Z
UID:10001756-1676127600-1676127600@www.ekg-hechtsheim.de
SUMMARY:Seniorenfastnachtsfeier
DESCRIPTION:
URL:https://www.ekg-hechtsheim.de/veranstaltungen/seniorenfastnachtsfeier/
LOCATION:Gemeindezentrum Lion-Feuchtwanger-Straße\, Lion-Feuchtwanger Str. 14\, Mainz\, 55129\, Deutschland
CATEGORIES:Gemeinde
GEO:49.9621;8.2738908
X-APPLE-STRUCTURED-LOCATION;VALUE=URI;X-ADDRESS=Gemeindezentrum Lion-Feuchtwanger-Straße Lion-Feuchtwanger Str. 14 Mainz 55129 Deutschland;X-APPLE-RADIUS=500;X-TITLE=Lion-Feuchtwanger Str. 14:geo:8.2738908,49.9621
END:VEVENT
BEGIN:VEVENT
DTSTART;TZID=Europe/Paris:20230212T100000
DTEND;TZID=Europe/Paris:20230212T100000
DTSTAMP:20260422T140637
CREATED:20230103T081953Z
LAST-MODIFIED:20230103T081953Z
UID:10001758-1676196000-1676196000@www.ekg-hechtsheim.de
SUMMARY:Gottesdienst mit Abendmahl\, anschliessend Kirchkaffee
DESCRIPTION:
URL:https://www.ekg-hechtsheim.de/veranstaltungen/gottesdienst-mit-abendmahl-anschliessend-kirchkaffee/
LOCATION:Gemeindezentrum Lion-Feuchtwanger-Straße\, Lion-Feuchtwanger Str. 14\, Mainz\, 55129\, Deutschland
CATEGORIES:Gottesdienste
GEO:49.9621;8.2738908
X-APPLE-STRUCTURED-LOCATION;VALUE=URI;X-ADDRESS=Gemeindezentrum Lion-Feuchtwanger-Straße Lion-Feuchtwanger Str. 14 Mainz 55129 Deutschland;X-APPLE-RADIUS=500;X-TITLE=Lion-Feuchtwanger Str. 14:geo:8.2738908,49.9621
END:VEVENT
BEGIN:VEVENT
DTSTART;TZID=Europe/Paris:20230212T110000
DTEND;TZID=Europe/Paris:20230212T110000
DTSTAMP:20260422T140637
CREATED:20230103T082210Z
LAST-MODIFIED:20230103T082210Z
UID:10001759-1676199600-1676199600@www.ekg-hechtsheim.de
SUMMARY:Kinderkirche
DESCRIPTION:
URL:https://www.ekg-hechtsheim.de/veranstaltungen/kinderkirche-33/
LOCATION:Gemeindehaus Frankenhöhe\, Bodenheimer Straße 58\, Mainz\, 55129\, Deutschland
CATEGORIES:Gottesdienste
GEO:49.9667007;8.2872534
X-APPLE-STRUCTURED-LOCATION;VALUE=URI;X-ADDRESS=Gemeindehaus Frankenhöhe Bodenheimer Straße 58 Mainz 55129 Deutschland;X-APPLE-RADIUS=500;X-TITLE=Bodenheimer Straße 58:geo:8.2872534,49.9667007
END:VEVENT
BEGIN:VEVENT
DTSTART;TZID=Europe/Paris:20230216T160000
DTEND;TZID=Europe/Paris:20230216T160000
DTSTAMP:20260422T140637
CREATED:20230103T082404Z
LAST-MODIFIED:20230103T082404Z
UID:10001760-1676563200-1676563200@www.ekg-hechtsheim.de
SUMMARY:Werktagsgottesdienst mit Abendmahl
DESCRIPTION:
URL:https://www.ekg-hechtsheim.de/veranstaltungen/werktagsgottesdienst-mit-abendmahl-78/
LOCATION:16:00 - \, Deutschland
CATEGORIES:Gottesdienste
END:VEVENT
BEGIN:VEVENT
DTSTART;VALUE=DATE:20230219
DTEND;VALUE=DATE:20230220
DTSTAMP:20260422T140637
CREATED:20230103T083304Z
LAST-MODIFIED:20230103T083304Z
UID:10001762-1676764800-1676851199@www.ekg-hechtsheim.de
SUMMARY:KEIN Gottesdienst im Gemeindehaus
DESCRIPTION:
URL:https://www.ekg-hechtsheim.de/veranstaltungen/kein-gottesdienst-im-gemeindehaus-12/
LOCATION:Gemeindehaus Frankenhöhe\, Bodenheimer Straße 58\, Mainz\, 55129\, Deutschland
CATEGORIES:Gottesdienste
GEO:49.9667007;8.2872534
X-APPLE-STRUCTURED-LOCATION;VALUE=URI;X-ADDRESS=Gemeindehaus Frankenhöhe Bodenheimer Straße 58 Mainz 55129 Deutschland;X-APPLE-RADIUS=500;X-TITLE=Bodenheimer Straße 58:geo:8.2872534,49.9667007
END:VEVENT
BEGIN:VEVENT
DTSTART;TZID=Europe/Paris:20230219T100000
DTEND;TZID=Europe/Paris:20230219T100000
DTSTAMP:20260422T140637
CREATED:20230103T083221Z
LAST-MODIFIED:20230103T083221Z
UID:10001761-1676800800-1676800800@www.ekg-hechtsheim.de
SUMMARY:Gottesdienst
DESCRIPTION:
URL:https://www.ekg-hechtsheim.de/veranstaltungen/gottesdienst-225/
LOCATION:Gemeindezentrum Lion-Feuchtwanger-Straße\, Lion-Feuchtwanger Str. 14\, Mainz\, 55129\, Deutschland
CATEGORIES:Gottesdienste
GEO:49.9621;8.2738908
X-APPLE-STRUCTURED-LOCATION;VALUE=URI;X-ADDRESS=Gemeindezentrum Lion-Feuchtwanger-Straße Lion-Feuchtwanger Str. 14 Mainz 55129 Deutschland;X-APPLE-RADIUS=500;X-TITLE=Lion-Feuchtwanger Str. 14:geo:8.2738908,49.9621
END:VEVENT
BEGIN:VEVENT
DTSTART;TZID=Europe/Paris:20230225T180000
DTEND;TZID=Europe/Paris:20230225T180000
DTSTAMP:20260422T140637
CREATED:20230103T083532Z
LAST-MODIFIED:20230103T083532Z
UID:10001763-1677348000-1677348000@www.ekg-hechtsheim.de
SUMMARY:Bene-KiDs-Konzert mit dem Chor "Sound connection" zugunsten der Krippe unserer Gemeinde
DESCRIPTION:
URL:https://www.ekg-hechtsheim.de/veranstaltungen/bene-kids-konzert-mit-dem-chor-sound-connection-zugunsten-der-krippe-unserer-gemeinde/
LOCATION:Gemeindezentrum Lion-Feuchtwanger-Straße\, Lion-Feuchtwanger Str. 14\, Mainz\, 55129\, Deutschland
CATEGORIES:Gemeinde
GEO:49.9621;8.2738908
X-APPLE-STRUCTURED-LOCATION;VALUE=URI;X-ADDRESS=Gemeindezentrum Lion-Feuchtwanger-Straße Lion-Feuchtwanger Str. 14 Mainz 55129 Deutschland;X-APPLE-RADIUS=500;X-TITLE=Lion-Feuchtwanger Str. 14:geo:8.2738908,49.9621
END:VEVENT
BEGIN:VEVENT
DTSTART;TZID=Europe/Paris:20230226T100000
DTEND;TZID=Europe/Paris:20230226T100000
DTSTAMP:20260422T140637
CREATED:20230103T083924Z
LAST-MODIFIED:20230103T083924Z
UID:10001764-1677405600-1677405600@www.ekg-hechtsheim.de
SUMMARY:Gottesdienst
DESCRIPTION:
URL:https://www.ekg-hechtsheim.de/veranstaltungen/gottesdienst-226/
LOCATION:Gemeindezentrum Lion-Feuchtwanger-Straße\, Lion-Feuchtwanger Str. 14\, Mainz\, 55129\, Deutschland
CATEGORIES:Gottesdienste
GEO:49.9621;8.2738908
X-APPLE-STRUCTURED-LOCATION;VALUE=URI;X-ADDRESS=Gemeindezentrum Lion-Feuchtwanger-Straße Lion-Feuchtwanger Str. 14 Mainz 55129 Deutschland;X-APPLE-RADIUS=500;X-TITLE=Lion-Feuchtwanger Str. 14:geo:8.2738908,49.9621
END:VEVENT
BEGIN:VEVENT
DTSTART;TZID=Europe/Paris:20230226T180000
DTEND;TZID=Europe/Paris:20230226T180000
DTSTAMP:20260422T140637
CREATED:20221214T110214Z
LAST-MODIFIED:20221214T110214Z
UID:10001753-1677434400-1677434400@www.ekg-hechtsheim.de
SUMMARY:LiteraturAbendGottesdienst - Literatur und Glaube - Gottesdienst und Gespräch - Jose´ Saramago "Die Stadt der Blinden"
DESCRIPTION:
URL:https://www.ekg-hechtsheim.de/veranstaltungen/literaturabendgottesdienst-literatur-und-glaube-gottesdienst-und-gespraech-jose-saramago-die-stadt-der-blinden/
LOCATION:Gemeindehaus Frankenhöhe\, Bodenheimer Straße 58\, Mainz\, 55129\, Deutschland
CATEGORIES:Gottesdienste
GEO:49.9667007;8.2872534
X-APPLE-STRUCTURED-LOCATION;VALUE=URI;X-ADDRESS=Gemeindehaus Frankenhöhe Bodenheimer Straße 58 Mainz 55129 Deutschland;X-APPLE-RADIUS=500;X-TITLE=Bodenheimer Straße 58:geo:8.2872534,49.9667007
END:VEVENT
END:VCALENDAR