BEGIN:VCALENDAR
VERSION:2.0
PRODID:-//Evangelische Kirchengemeinde Mainz-Hechtsheim - ECPv6.15.20//NONSGML v1.0//EN
CALSCALE:GREGORIAN
METHOD:PUBLISH
X-ORIGINAL-URL:https://www.ekg-hechtsheim.de
X-WR-CALDESC:Veranstaltungen für Evangelische Kirchengemeinde Mainz-Hechtsheim
REFRESH-INTERVAL;VALUE=DURATION:PT1H
X-Robots-Tag:noindex
X-PUBLISHED-TTL:PT1H
BEGIN:VTIMEZONE
TZID:Europe/Paris
BEGIN:DAYLIGHT
TZOFFSETFROM:+0100
TZOFFSETTO:+0200
TZNAME:CEST
DTSTART:20220327T010000
END:DAYLIGHT
BEGIN:STANDARD
TZOFFSETFROM:+0200
TZOFFSETTO:+0100
TZNAME:CET
DTSTART:20221030T010000
END:STANDARD
BEGIN:DAYLIGHT
TZOFFSETFROM:+0100
TZOFFSETTO:+0200
TZNAME:CEST
DTSTART:20230326T010000
END:DAYLIGHT
BEGIN:STANDARD
TZOFFSETFROM:+0200
TZOFFSETTO:+0100
TZNAME:CET
DTSTART:20231029T010000
END:STANDARD
BEGIN:DAYLIGHT
TZOFFSETFROM:+0100
TZOFFSETTO:+0200
TZNAME:CEST
DTSTART:20240331T010000
END:DAYLIGHT
BEGIN:STANDARD
TZOFFSETFROM:+0200
TZOFFSETTO:+0100
TZNAME:CET
DTSTART:20241027T010000
END:STANDARD
END:VTIMEZONE
BEGIN:VEVENT
DTSTART;VALUE=DATE:20230101
DTEND;VALUE=DATE:20230102
DTSTAMP:20260422T151907
CREATED:20221129T113725Z
LAST-MODIFIED:20221129T113725Z
UID:10001740-1672531200-1672617599@www.ekg-hechtsheim.de
SUMMARY:KEIN Gottesdienst an diesem Tag im Gemeindehaus
DESCRIPTION:
URL:https://www.ekg-hechtsheim.de/veranstaltungen/kein-gottesdienst-an-diesem-tag-im-gemeindehaus/
LOCATION:Gemeindehaus Frankenhöhe\, Bodenheimer Straße 58\, Mainz\, 55129\, Deutschland
CATEGORIES:Gottesdienste
GEO:49.9667007;8.2872534
X-APPLE-STRUCTURED-LOCATION;VALUE=URI;X-ADDRESS=Gemeindehaus Frankenhöhe Bodenheimer Straße 58 Mainz 55129 Deutschland;X-APPLE-RADIUS=500;X-TITLE=Bodenheimer Straße 58:geo:8.2872534,49.9667007
END:VEVENT
BEGIN:VEVENT
DTSTART;TZID=Europe/Paris:20230101T180000
DTEND;TZID=Europe/Paris:20230101T180000
DTSTAMP:20260422T151907
CREATED:20221129T113642Z
LAST-MODIFIED:20221212T111322Z
UID:10001739-1672596000-1672596000@www.ekg-hechtsheim.de
SUMMARY:Neujahrsgottesdienst
DESCRIPTION:
URL:https://www.ekg-hechtsheim.de/veranstaltungen/neujahrsgottesdienst/
LOCATION:Gemeindezentrum Lion-Feuchtwanger-Straße\, Lion-Feuchtwanger Str. 14\, Mainz\, 55129\, Deutschland
CATEGORIES:Gottesdienste
GEO:49.9621;8.2738908
X-APPLE-STRUCTURED-LOCATION;VALUE=URI;X-ADDRESS=Gemeindezentrum Lion-Feuchtwanger-Straße Lion-Feuchtwanger Str. 14 Mainz 55129 Deutschland;X-APPLE-RADIUS=500;X-TITLE=Lion-Feuchtwanger Str. 14:geo:8.2738908,49.9621
END:VEVENT
BEGIN:VEVENT
DTSTART;TZID=Europe/Paris:20230105T160000
DTEND;TZID=Europe/Paris:20230105T160000
DTSTAMP:20260422T151907
CREATED:20221212T111515Z
LAST-MODIFIED:20221212T111515Z
UID:10001743-1672934400-1672934400@www.ekg-hechtsheim.de
SUMMARY:Werktagsgottesdienst mit Abendmahl
DESCRIPTION:
URL:https://www.ekg-hechtsheim.de/veranstaltungen/werktagsgottesdienst-mit-abendmahl-76/
LOCATION:16:00 - \, Deutschland
CATEGORIES:Gottesdienste
END:VEVENT
BEGIN:VEVENT
DTSTART;TZID=Europe/Paris:20230108T110000
DTEND;TZID=Europe/Paris:20230108T110000
DTSTAMP:20260422T151907
CREATED:20221212T111655Z
LAST-MODIFIED:20221212T111655Z
UID:10001744-1673175600-1673175600@www.ekg-hechtsheim.de
SUMMARY:Kinderkirche
DESCRIPTION:
URL:https://www.ekg-hechtsheim.de/veranstaltungen/kinderkirche-32/
LOCATION:Gemeindehaus Frankenhöhe\, Bodenheimer Straße 58\, Mainz\, 55129\, Deutschland
CATEGORIES:Gottesdienste
GEO:49.9667007;8.2872534
X-APPLE-STRUCTURED-LOCATION;VALUE=URI;X-ADDRESS=Gemeindehaus Frankenhöhe Bodenheimer Straße 58 Mainz 55129 Deutschland;X-APPLE-RADIUS=500;X-TITLE=Bodenheimer Straße 58:geo:8.2872534,49.9667007
END:VEVENT
BEGIN:VEVENT
DTSTART;TZID=Europe/Paris:20230108T170000
DTEND;TZID=Europe/Paris:20230108T170000
DTSTAMP:20260422T151907
CREATED:20221129T114051Z
LAST-MODIFIED:20221129T115754Z
UID:10001741-1673197200-1673197200@www.ekg-hechtsheim.de
SUMMARY:Ökumenischer Neujahrsgottesdienst in der Kirche St. Pankratius mit dem Chor "Sound connection" und anschließendem Neujahrsempfang
DESCRIPTION:
URL:https://www.ekg-hechtsheim.de/veranstaltungen/oekumenischer-neujahrsgottesdienst-in-der-kirche-st-pankratius-mit-dem-chor-sound-connection-und-anschliessendem-neujahrsempfang/
LOCATION:Pfarrkirche St. Pankratius\, Deutschland
CATEGORIES:Gottesdienste
GEO:51.165691;10.451526
END:VEVENT
BEGIN:VEVENT
DTSTART;TZID=Europe/Paris:20230114T150000
DTEND;TZID=Europe/Paris:20230114T150000
DTSTAMP:20260422T151907
CREATED:20221212T114026Z
LAST-MODIFIED:20221212T114026Z
UID:10001749-1673708400-1673708400@www.ekg-hechtsheim.de
SUMMARY:Seniorenclub - Gedanken zur Jahreslosung "Du bist ein Gott\, der mich sieht"
DESCRIPTION:
URL:https://www.ekg-hechtsheim.de/veranstaltungen/seniorenclub-gedanken-zur-jahreslosung-du-bist-ein-gott-der-mich-sieht/
LOCATION:Gemeindezentrum Lion-Feuchtwanger-Straße\, Lion-Feuchtwanger Str. 14\, Mainz\, 55129\, Deutschland
CATEGORIES:Gemeinde
GEO:49.9621;8.2738908
X-APPLE-STRUCTURED-LOCATION;VALUE=URI;X-ADDRESS=Gemeindezentrum Lion-Feuchtwanger-Straße Lion-Feuchtwanger Str. 14 Mainz 55129 Deutschland;X-APPLE-RADIUS=500;X-TITLE=Lion-Feuchtwanger Str. 14:geo:8.2738908,49.9621
END:VEVENT
BEGIN:VEVENT
DTSTART;VALUE=DATE:20230115
DTEND;VALUE=DATE:20230116
DTSTAMP:20260422T151907
CREATED:20221212T113415Z
LAST-MODIFIED:20221212T113415Z
UID:10001745-1673740800-1673827199@www.ekg-hechtsheim.de
SUMMARY:KEIN Gottesdienst im Gemeindezentrum
DESCRIPTION:
URL:https://www.ekg-hechtsheim.de/veranstaltungen/kein-gottesdienst-im-gemeindezentrum-15/
LOCATION:Gemeindezentrum Lion-Feuchtwanger-Straße\, Lion-Feuchtwanger Str. 14\, Mainz\, 55129\, Deutschland
CATEGORIES:Gottesdienste
GEO:49.9621;8.2738908
X-APPLE-STRUCTURED-LOCATION;VALUE=URI;X-ADDRESS=Gemeindezentrum Lion-Feuchtwanger-Straße Lion-Feuchtwanger Str. 14 Mainz 55129 Deutschland;X-APPLE-RADIUS=500;X-TITLE=Lion-Feuchtwanger Str. 14:geo:8.2738908,49.9621
END:VEVENT
BEGIN:VEVENT
DTSTART;TZID=Europe/Paris:20230115T110000
DTEND;TZID=Europe/Paris:20230115T110000
DTSTAMP:20260422T151907
CREATED:20221108T113834Z
LAST-MODIFIED:20221129T113905Z
UID:10001099-1673780400-1673780400@www.ekg-hechtsheim.de
SUMMARY:Gottesdienst zum Jahresauftakt mit dem Gospelchor "Sound connection" und Ausstellungseröffnung Christa Witzleb\, Malerei
DESCRIPTION:
URL:https://www.ekg-hechtsheim.de/veranstaltungen/gottesdienst-zum-jahresauftakt-mit-ausstellungseroeffnung-christa-witzleb-malerei/
LOCATION:Gemeindehaus Frankenhöhe\, Bodenheimer Straße 58\, Mainz\, 55129\, Deutschland
CATEGORIES:Gottesdienste
GEO:49.9667007;8.2872534
X-APPLE-STRUCTURED-LOCATION;VALUE=URI;X-ADDRESS=Gemeindehaus Frankenhöhe Bodenheimer Straße 58 Mainz 55129 Deutschland;X-APPLE-RADIUS=500;X-TITLE=Bodenheimer Straße 58:geo:8.2872534,49.9667007
END:VEVENT
BEGIN:VEVENT
DTSTART;VALUE=DATE:20230118
DTEND;VALUE=DATE:20230119
DTSTAMP:20260422T151907
CREATED:20230118T102021Z
LAST-MODIFIED:20230118T102021Z
UID:10001772-1674000000-1674086399@www.ekg-hechtsheim.de
SUMMARY:Männerwandern - Hallgarten - Kloster Eberbach
DESCRIPTION:
URL:https://www.ekg-hechtsheim.de/veranstaltungen/maennerwandern-hallgarten-kloster-eberbach/
CATEGORIES:Gemeinde
END:VEVENT
BEGIN:VEVENT
DTSTART;TZID=Europe/Paris:20230119T160000
DTEND;TZID=Europe/Paris:20230119T160000
DTSTAMP:20260422T151907
CREATED:20221212T113626Z
LAST-MODIFIED:20221212T113626Z
UID:10001746-1674144000-1674144000@www.ekg-hechtsheim.de
SUMMARY:Werktagsgottesdienst mit Abendmahl
DESCRIPTION:
URL:https://www.ekg-hechtsheim.de/veranstaltungen/werktagsgottesdienst-mit-abendmahl-77/
LOCATION:16:00 - \, Deutschland
CATEGORIES:Gottesdienste
END:VEVENT
BEGIN:VEVENT
DTSTART;TZID=Europe/Paris:20230120T180000
DTEND;TZID=Europe/Paris:20230120T183000
DTSTAMP:20260422T151907
CREATED:20221108T111855Z
LAST-MODIFIED:20221108T111855Z
UID:10001729-1674237600-1674239400@www.ekg-hechtsheim.de
SUMMARY:Musikalische Abendandacht zum Wochenausklang – Carolin Kaiser (Orgel) und Philippe Pape (Geige) musizieren zu ausgesuchten Psalmversen
DESCRIPTION:
URL:https://www.ekg-hechtsheim.de/veranstaltungen/musikalische-abendandacht-zum-wochenausklang-carolin-kaiser-orgel-und-philippe-pape-geige-musizieren-zu-ausgesuchten-psalmversen/
LOCATION:Gemeindezentrum Lion-Feuchtwanger-Straße\, Lion-Feuchtwanger Str. 14\, Mainz\, 55129\, Deutschland
CATEGORIES:Gemeinde,Gottesdienste
GEO:49.9621;8.2738908
X-APPLE-STRUCTURED-LOCATION;VALUE=URI;X-ADDRESS=Gemeindezentrum Lion-Feuchtwanger-Straße Lion-Feuchtwanger Str. 14 Mainz 55129 Deutschland;X-APPLE-RADIUS=500;X-TITLE=Lion-Feuchtwanger Str. 14:geo:8.2738908,49.9621
END:VEVENT
BEGIN:VEVENT
DTSTART;TZID=Europe/Paris:20230121T160000
DTEND;TZID=Europe/Paris:20230121T180000
DTSTAMP:20260422T151907
CREATED:20230118T184953Z
LAST-MODIFIED:20230118T184953Z
UID:10001779-1674316800-1674324000@www.ekg-hechtsheim.de
SUMMARY:ЛАСКАВО ПРОСИМО ДО ЗУСТРІЧ КАФЕ – CAFÉ DER BEGEGNUNG
DESCRIPTION:Unsere Ökumenische Flüchtlingsinitiative “Ankommen in Hechtsheim” (AIH) öffnet wieder das Café der Begegnung im \nGemeindezentrum Lion-Feuchtwanger-Str. 14\, \neinen Treffpunkt für Geflüchtete und “Alt-Hechtsheimer”\, der aktuell jeden dritten Samstag im Monat jeweils um 16.00 Uhr (falls nicht anders im Kalender beschrieben) stattfinden wird. \nBei Kaffee und Kuchen soll Gelegenheit zu Gesprächen sein\, den Geflüchteten ein bißchen Nähe\, ein “Nachbar-sein-Gefühl” zu geben\, ihnen bei Fragen und Problemen zur Seite zu stehen. \nDa es wegen der Feiertage usw. mal zu Terminverschiebungen kommen kann\, schauen Sie bitte in jedem Fall auch in den Veranstaltungskalender (–> Aktuelles – Veranstaltungen). \nWir laden alle Interessierten ein mal reinzuschnuppern ……
URL:https://www.ekg-hechtsheim.de/veranstaltungen/%d0%bb%d0%b0%d1%81%d0%ba%d0%b0%d0%b2%d0%be-%d0%bf%d1%80%d0%be%d1%81%d0%b8%d0%bc%d0%be-%d0%b4%d0%be-%d0%b7%d1%83%d1%81%d1%82%d1%80%d1%96%d1%87-%d0%ba%d0%b0%d1%84%d0%b5-cafe-der-begegnung-13/
LOCATION:Gemeindezentrum Lion-Feuchtwanger-Straße\, Lion-Feuchtwanger Str. 14\, Mainz\, 55129\, Deutschland
CATEGORIES:Kultur,Sonstiges
ORGANIZER;CN="%C3%96kumenische Fl%C3%BCchtlingsinitiative AIH":MAILTO:ankommen.in.hechtsheim@gmail.com
GEO:49.9621;8.2738908
X-APPLE-STRUCTURED-LOCATION;VALUE=URI;X-ADDRESS=Gemeindezentrum Lion-Feuchtwanger-Straße Lion-Feuchtwanger Str. 14 Mainz 55129 Deutschland;X-APPLE-RADIUS=500;X-TITLE=Lion-Feuchtwanger Str. 14:geo:8.2738908,49.9621
END:VEVENT
BEGIN:VEVENT
DTSTART;TZID=Europe/Paris:20230122T100000
DTEND;TZID=Europe/Paris:20230122T100000
DTSTAMP:20260422T151907
CREATED:20221212T113713Z
LAST-MODIFIED:20221212T113713Z
UID:10001747-1674381600-1674381600@www.ekg-hechtsheim.de
SUMMARY:Gottesdienst
DESCRIPTION:
URL:https://www.ekg-hechtsheim.de/veranstaltungen/gottesdienst-222/
LOCATION:Gemeindezentrum Lion-Feuchtwanger-Straße\, Lion-Feuchtwanger Str. 14\, Mainz\, 55129\, Deutschland
CATEGORIES:Gottesdienste
GEO:49.9621;8.2738908
X-APPLE-STRUCTURED-LOCATION;VALUE=URI;X-ADDRESS=Gemeindezentrum Lion-Feuchtwanger-Straße Lion-Feuchtwanger Str. 14 Mainz 55129 Deutschland;X-APPLE-RADIUS=500;X-TITLE=Lion-Feuchtwanger Str. 14:geo:8.2738908,49.9621
END:VEVENT
BEGIN:VEVENT
DTSTART;TZID=Europe/Paris:20230122T110000
DTEND;TZID=Europe/Paris:20230122T110000
DTSTAMP:20260422T151907
CREATED:20221212T113817Z
LAST-MODIFIED:20221212T113817Z
UID:10001748-1674385200-1674385200@www.ekg-hechtsheim.de
SUMMARY:Gottesdienst
DESCRIPTION:
URL:https://www.ekg-hechtsheim.de/veranstaltungen/gottesdienst-223/
LOCATION:Gemeindehaus Frankenhöhe\, Bodenheimer Straße 58\, Mainz\, 55129\, Deutschland
CATEGORIES:Gottesdienste
GEO:49.9667007;8.2872534
X-APPLE-STRUCTURED-LOCATION;VALUE=URI;X-ADDRESS=Gemeindehaus Frankenhöhe Bodenheimer Straße 58 Mainz 55129 Deutschland;X-APPLE-RADIUS=500;X-TITLE=Bodenheimer Straße 58:geo:8.2872534,49.9667007
END:VEVENT
BEGIN:VEVENT
DTSTART;TZID=Europe/Paris:20230127T180000
DTEND;TZID=Europe/Paris:20230127T190000
DTSTAMP:20260422T151907
CREATED:20221212T114522Z
LAST-MODIFIED:20221212T114522Z
UID:10001750-1674842400-1674846000@www.ekg-hechtsheim.de
SUMMARY:Lust auf Singen?! - Singkreis der ev. Kirchengemeinde Mainz-Hechtsheim - Weltliche und geistliche Lieder zu verschiedenen Themen\, Kanons und lockeres Stimmtraining - Diesmal: Lieder zum Jahresbeginn und Winterliches
DESCRIPTION:Alle sind willkommen!
URL:https://www.ekg-hechtsheim.de/veranstaltungen/lust-auf-singen-singkreis-der-ev-kirchengemeinde-mainz-hechtsheim-weltliche-und-geistliche-lieder-zu-verschiedenen-themen-kanons-und-lockeres-stimmtraining-diesmal-lieder-zum-jahresbeginn-u/
LOCATION:Gemeindezentrum Lion-Feuchtwanger-Straße\, Lion-Feuchtwanger Str. 14\, Mainz\, 55129\, Deutschland
CATEGORIES:Gemeinde
GEO:49.9621;8.2738908
X-APPLE-STRUCTURED-LOCATION;VALUE=URI;X-ADDRESS=Gemeindezentrum Lion-Feuchtwanger-Straße Lion-Feuchtwanger Str. 14 Mainz 55129 Deutschland;X-APPLE-RADIUS=500;X-TITLE=Lion-Feuchtwanger Str. 14:geo:8.2738908,49.9621
END:VEVENT
BEGIN:VEVENT
DTSTART;TZID=Europe/Paris:20230129T100000
DTEND;TZID=Europe/Paris:20230129T100000
DTSTAMP:20260422T151907
CREATED:20221214T105702Z
LAST-MODIFIED:20221214T105702Z
UID:10001751-1674986400-1674986400@www.ekg-hechtsheim.de
SUMMARY:Gottesdienst
DESCRIPTION:
URL:https://www.ekg-hechtsheim.de/veranstaltungen/gottesdienst-224/
LOCATION:Gemeindezentrum Lion-Feuchtwanger-Straße\, Lion-Feuchtwanger Str. 14\, Mainz\, 55129\, Deutschland
CATEGORIES:Gottesdienste
GEO:49.9621;8.2738908
X-APPLE-STRUCTURED-LOCATION;VALUE=URI;X-ADDRESS=Gemeindezentrum Lion-Feuchtwanger-Straße Lion-Feuchtwanger Str. 14 Mainz 55129 Deutschland;X-APPLE-RADIUS=500;X-TITLE=Lion-Feuchtwanger Str. 14:geo:8.2738908,49.9621
END:VEVENT
BEGIN:VEVENT
DTSTART;TZID=Europe/Paris:20230129T180000
DTEND;TZID=Europe/Paris:20230129T180000
DTSTAMP:20260422T151907
CREATED:20221214T105912Z
LAST-MODIFIED:20221214T110416Z
UID:10001752-1675015200-1675015200@www.ekg-hechtsheim.de
SUMMARY:LiteraturAbendGottesdienst - Literatur und Glaube - Gottesdienst und Gespräch - Joanne K. Rowling "Harry Potter"
DESCRIPTION:
URL:https://www.ekg-hechtsheim.de/veranstaltungen/literaturabendgottesdienst-gottesdienst-und-gespraech-joanne-k-rowling-harry-potter/
LOCATION:Gemeindehaus Frankenhöhe\, Bodenheimer Straße 58\, Mainz\, 55129\, Deutschland
CATEGORIES:Gottesdienste
GEO:49.9667007;8.2872534
X-APPLE-STRUCTURED-LOCATION;VALUE=URI;X-ADDRESS=Gemeindehaus Frankenhöhe Bodenheimer Straße 58 Mainz 55129 Deutschland;X-APPLE-RADIUS=500;X-TITLE=Bodenheimer Straße 58:geo:8.2872534,49.9667007
END:VEVENT
END:VCALENDAR