BEGIN:VCALENDAR
VERSION:2.0
PRODID:-//Evangelische Kirchengemeinde Mainz-Hechtsheim - ECPv6.15.20//NONSGML v1.0//EN
CALSCALE:GREGORIAN
METHOD:PUBLISH
X-WR-CALNAME:Evangelische Kirchengemeinde Mainz-Hechtsheim
X-ORIGINAL-URL:https://www.ekg-hechtsheim.de
X-WR-CALDESC:Veranstaltungen für Evangelische Kirchengemeinde Mainz-Hechtsheim
REFRESH-INTERVAL;VALUE=DURATION:PT1H
X-Robots-Tag:noindex
X-PUBLISHED-TTL:PT1H
BEGIN:VTIMEZONE
TZID:Europe/Paris
BEGIN:DAYLIGHT
TZOFFSETFROM:+0100
TZOFFSETTO:+0200
TZNAME:CEST
DTSTART:20210328T010000
END:DAYLIGHT
BEGIN:STANDARD
TZOFFSETFROM:+0200
TZOFFSETTO:+0100
TZNAME:CET
DTSTART:20211031T010000
END:STANDARD
BEGIN:DAYLIGHT
TZOFFSETFROM:+0100
TZOFFSETTO:+0200
TZNAME:CEST
DTSTART:20220327T010000
END:DAYLIGHT
BEGIN:STANDARD
TZOFFSETFROM:+0200
TZOFFSETTO:+0100
TZNAME:CET
DTSTART:20221030T010000
END:STANDARD
BEGIN:DAYLIGHT
TZOFFSETFROM:+0100
TZOFFSETTO:+0200
TZNAME:CEST
DTSTART:20230326T010000
END:DAYLIGHT
BEGIN:STANDARD
TZOFFSETFROM:+0200
TZOFFSETTO:+0100
TZNAME:CET
DTSTART:20231029T010000
END:STANDARD
END:VTIMEZONE
BEGIN:VEVENT
DTSTART;TZID=Europe/Paris:20221203T150000
DTEND;TZID=Europe/Paris:20221203T150000
DTSTAMP:20260422T165202
CREATED:20220629T092031Z
LAST-MODIFIED:20221108T114719Z
UID:10001693-1670079600-1670079600@www.ekg-hechtsheim.de
SUMMARY:Senioren- Adventsfeier
DESCRIPTION:
URL:https://www.ekg-hechtsheim.de/veranstaltungen/seniorenclub-grosse-adventsfeier/
LOCATION:Gemeindezentrum Lion-Feuchtwanger-Straße\, Lion-Feuchtwanger Str. 14\, Mainz\, 55129\, Deutschland
CATEGORIES:Gemeinde
GEO:49.9621;8.2738908
X-APPLE-STRUCTURED-LOCATION;VALUE=URI;X-ADDRESS=Gemeindezentrum Lion-Feuchtwanger-Straße Lion-Feuchtwanger Str. 14 Mainz 55129 Deutschland;X-APPLE-RADIUS=500;X-TITLE=Lion-Feuchtwanger Str. 14:geo:8.2738908,49.9621
END:VEVENT
BEGIN:VEVENT
DTSTART;VALUE=DATE:20221204
DTEND;VALUE=DATE:20221205
DTSTAMP:20260422T165202
CREATED:20221031T113852Z
LAST-MODIFIED:20221031T113852Z
UID:10001721-1670112000-1670198399@www.ekg-hechtsheim.de
SUMMARY:KEIN Gottesdienst am 2. Advent im Gemeindezentrum
DESCRIPTION:
URL:https://www.ekg-hechtsheim.de/veranstaltungen/kein-gottesdienst-am-2-advent-im-gemeindezentrum/
LOCATION:Gemeindezentrum Lion-Feuchtwanger-Straße\, Lion-Feuchtwanger Str. 14\, Mainz\, 55129\, Deutschland
CATEGORIES:Gottesdienste
GEO:49.9621;8.2738908
X-APPLE-STRUCTURED-LOCATION;VALUE=URI;X-ADDRESS=Gemeindezentrum Lion-Feuchtwanger-Straße Lion-Feuchtwanger Str. 14 Mainz 55129 Deutschland;X-APPLE-RADIUS=500;X-TITLE=Lion-Feuchtwanger Str. 14:geo:8.2738908,49.9621
END:VEVENT
BEGIN:VEVENT
DTSTART;TZID=Europe/Paris:20221204T110000
DTEND;TZID=Europe/Paris:20221204T110000
DTSTAMP:20260422T165202
CREATED:20221031T114018Z
LAST-MODIFIED:20221108T114927Z
UID:10001723-1670151600-1670151600@www.ekg-hechtsheim.de
SUMMARY:Gottesdienst am 2. Advent mit Verabschiedung unseres Vikars Tilman Zwanziger aus unserer Gemeinde mit dem Chor Sound Connection und anschließendem Umtrunk
DESCRIPTION:An diesem Tag kein Gottesdienst im Gemeindezentrum
URL:https://www.ekg-hechtsheim.de/veranstaltungen/gottesdienst-am-2-advent-mit-verabschiedung-unseres-vikars-tilman-zwanziger/
LOCATION:Gemeindehaus Frankenhöhe\, Bodenheimer Straße 58\, Mainz\, 55129\, Deutschland
CATEGORIES:Gottesdienste
GEO:49.9667007;8.2872534
X-APPLE-STRUCTURED-LOCATION;VALUE=URI;X-ADDRESS=Gemeindehaus Frankenhöhe Bodenheimer Straße 58 Mainz 55129 Deutschland;X-APPLE-RADIUS=500;X-TITLE=Bodenheimer Straße 58:geo:8.2872534,49.9667007
END:VEVENT
BEGIN:VEVENT
DTSTART;TZID=Europe/Paris:20221208T160000
DTEND;TZID=Europe/Paris:20221208T170000
DTSTAMP:20260422T165202
CREATED:20221108T115124Z
LAST-MODIFIED:20221108T115124Z
UID:10001101-1670515200-1670518800@www.ekg-hechtsheim.de
SUMMARY:Gottesdienst mit Abendmahl in der Seniorenresidenz
DESCRIPTION:
URL:https://www.ekg-hechtsheim.de/veranstaltungen/gottesdienst-mit-abendmahl-in-der-seniorenresidenz/
LOCATION:16:00 - \, Deutschland
CATEGORIES:Gottesdienste
END:VEVENT
BEGIN:VEVENT
DTSTART;TZID=Europe/Paris:20221209T180000
DTEND;TZID=Europe/Paris:20221209T180000
DTSTAMP:20260422T165202
CREATED:20221108T110151Z
LAST-MODIFIED:20221108T110151Z
UID:10001726-1670608800-1670608800@www.ekg-hechtsheim.de
SUMMARY:Singkreis - Weltliche und geistliche Lieder zu verschiedenen Themen mit Orgelbegleitung von Carolin Kaiser - diesmal: Offenes Weihnachtslieder-Singen
DESCRIPTION:
URL:https://www.ekg-hechtsheim.de/veranstaltungen/singkreis-weltliche-und-geistliche-lieder-zu-verschiedenen-themen-mit-orgelbegleitung-von-carolin-kaiser-diesmal-offenes-weihnachtslieder-singen/
LOCATION:Gemeindezentrum Lion-Feuchtwanger-Straße\, Lion-Feuchtwanger Str. 14\, Mainz\, 55129\, Deutschland
CATEGORIES:Gemeinde
GEO:49.9621;8.2738908
X-APPLE-STRUCTURED-LOCATION;VALUE=URI;X-ADDRESS=Gemeindezentrum Lion-Feuchtwanger-Straße Lion-Feuchtwanger Str. 14 Mainz 55129 Deutschland;X-APPLE-RADIUS=500;X-TITLE=Lion-Feuchtwanger Str. 14:geo:8.2738908,49.9621
END:VEVENT
BEGIN:VEVENT
DTSTART;TZID=Europe/Paris:20221211T100000
DTEND;TZID=Europe/Paris:20221211T100000
DTSTAMP:20260422T165202
CREATED:20221108T115259Z
LAST-MODIFIED:20221108T115259Z
UID:10001102-1670752800-1670752800@www.ekg-hechtsheim.de
SUMMARY:Gottesdienst am 3. Advent mit Abendmahl und anschließendem Advents-Kirchkaffee
DESCRIPTION:
URL:https://www.ekg-hechtsheim.de/veranstaltungen/gottesdienst-am-3-advent-mit-abendmahl-und-anschliessendem-advents-kirchkaffee/
LOCATION:Gemeindezentrum Lion-Feuchtwanger-Straße\, Lion-Feuchtwanger Str. 14\, Mainz\, 55129\, Deutschland
CATEGORIES:Gottesdienste
GEO:49.9621;8.2738908
X-APPLE-STRUCTURED-LOCATION;VALUE=URI;X-ADDRESS=Gemeindezentrum Lion-Feuchtwanger-Straße Lion-Feuchtwanger Str. 14 Mainz 55129 Deutschland;X-APPLE-RADIUS=500;X-TITLE=Lion-Feuchtwanger Str. 14:geo:8.2738908,49.9621
END:VEVENT
BEGIN:VEVENT
DTSTART;TZID=Europe/Paris:20221211T110000
DTEND;TZID=Europe/Paris:20221211T110000
DTSTAMP:20260422T165202
CREATED:20221108T115414Z
LAST-MODIFIED:20221108T115414Z
UID:10001104-1670756400-1670756400@www.ekg-hechtsheim.de
SUMMARY:Advents-Kinderkirche
DESCRIPTION:
URL:https://www.ekg-hechtsheim.de/veranstaltungen/advents-kinderkirche-2/
LOCATION:Gemeindehaus Frankenhöhe\, Bodenheimer Straße 58\, Mainz\, 55129\, Deutschland
CATEGORIES:Gottesdienste
GEO:49.9667007;8.2872534
X-APPLE-STRUCTURED-LOCATION;VALUE=URI;X-ADDRESS=Gemeindehaus Frankenhöhe Bodenheimer Straße 58 Mainz 55129 Deutschland;X-APPLE-RADIUS=500;X-TITLE=Bodenheimer Straße 58:geo:8.2872534,49.9667007
END:VEVENT
BEGIN:VEVENT
DTSTART;TZID=Europe/Paris:20221216T180000
DTEND;TZID=Europe/Paris:20221216T183000
DTSTAMP:20260422T165202
CREATED:20221108T111728Z
LAST-MODIFIED:20221108T111728Z
UID:10001728-1671213600-1671215400@www.ekg-hechtsheim.de
SUMMARY:Musikalische Abendandacht zum Wochenausklang – Carolin Kaiser (Orgel) und Katrin Koster (Saxophon) musizieren zu ausgesuchten Psalmversen
DESCRIPTION:
URL:https://www.ekg-hechtsheim.de/veranstaltungen/musikalische-abendandacht-zum-wochenausklang-carolin-kaiser-orgel-und-katrin-koster-saxophon-musizieren-zu-ausgesuchten-psalmversen/
LOCATION:Gemeindezentrum Lion-Feuchtwanger-Straße\, Lion-Feuchtwanger Str. 14\, Mainz\, 55129\, Deutschland
CATEGORIES:Gemeinde,Gottesdienste
GEO:49.9621;8.2738908
X-APPLE-STRUCTURED-LOCATION;VALUE=URI;X-ADDRESS=Gemeindezentrum Lion-Feuchtwanger-Straße Lion-Feuchtwanger Str. 14 Mainz 55129 Deutschland;X-APPLE-RADIUS=500;X-TITLE=Lion-Feuchtwanger Str. 14:geo:8.2738908,49.9621
END:VEVENT
BEGIN:VEVENT
DTSTART;TZID=Europe/Paris:20221218T100000
DTEND;TZID=Europe/Paris:20221218T100000
DTSTAMP:20260422T165202
CREATED:20221108T115916Z
LAST-MODIFIED:20221108T115916Z
UID:10001105-1671357600-1671357600@www.ekg-hechtsheim.de
SUMMARY:Gottesdienst am 4. Advent
DESCRIPTION:
URL:https://www.ekg-hechtsheim.de/veranstaltungen/gottesdienst-am-4-advent-2/
LOCATION:Gemeindezentrum Lion-Feuchtwanger-Straße\, Lion-Feuchtwanger Str. 14\, Mainz\, 55129\, Deutschland
CATEGORIES:Gottesdienste
GEO:49.9621;8.2738908
X-APPLE-STRUCTURED-LOCATION;VALUE=URI;X-ADDRESS=Gemeindezentrum Lion-Feuchtwanger-Straße Lion-Feuchtwanger Str. 14 Mainz 55129 Deutschland;X-APPLE-RADIUS=500;X-TITLE=Lion-Feuchtwanger Str. 14:geo:8.2738908,49.9621
END:VEVENT
BEGIN:VEVENT
DTSTART;TZID=Europe/Paris:20221218T110000
DTEND;TZID=Europe/Paris:20221218T110000
DTSTAMP:20260422T165202
CREATED:20221108T120229Z
LAST-MODIFIED:20221108T120229Z
UID:10001106-1671361200-1671361200@www.ekg-hechtsheim.de
SUMMARY:Gottesdienst am 4. Advent mit Abendmahl
DESCRIPTION:
URL:https://www.ekg-hechtsheim.de/veranstaltungen/gottesdienst-am-4-advent-mit-abendmahl/
LOCATION:Gemeindehaus Frankenhöhe\, Bodenheimer Straße 58\, Mainz\, 55129\, Deutschland
CATEGORIES:Gottesdienste
GEO:49.9667007;8.2872534
X-APPLE-STRUCTURED-LOCATION;VALUE=URI;X-ADDRESS=Gemeindehaus Frankenhöhe Bodenheimer Straße 58 Mainz 55129 Deutschland;X-APPLE-RADIUS=500;X-TITLE=Bodenheimer Straße 58:geo:8.2872534,49.9667007
END:VEVENT
BEGIN:VEVENT
DTSTART;TZID=Europe/Paris:20221224T150000
DTEND;TZID=Europe/Paris:20221224T150000
DTSTAMP:20260422T165202
CREATED:20221109T102102Z
LAST-MODIFIED:20221109T102102Z
UID:10001107-1671894000-1671894000@www.ekg-hechtsheim.de
SUMMARY:Weihnachtsgottesdienst mit Krippenspiel
DESCRIPTION:
URL:https://www.ekg-hechtsheim.de/veranstaltungen/weihnachtsgottesdienst-mit-krippenspiel/
LOCATION:Gemeindezentrum Lion-Feuchtwanger-Straße\, Lion-Feuchtwanger Str. 14\, Mainz\, 55129\, Deutschland
CATEGORIES:Gottesdienste
GEO:49.9621;8.2738908
X-APPLE-STRUCTURED-LOCATION;VALUE=URI;X-ADDRESS=Gemeindezentrum Lion-Feuchtwanger-Straße Lion-Feuchtwanger Str. 14 Mainz 55129 Deutschland;X-APPLE-RADIUS=500;X-TITLE=Lion-Feuchtwanger Str. 14:geo:8.2738908,49.9621
END:VEVENT
BEGIN:VEVENT
DTSTART;TZID=Europe/Paris:20221224T150000
DTEND;TZID=Europe/Paris:20221224T150000
DTSTAMP:20260422T165202
CREATED:20221109T110840Z
LAST-MODIFIED:20221109T111012Z
UID:10001730-1671894000-1671894000@www.ekg-hechtsheim.de
SUMMARY:Ökumenischer Gottesdienst in der Seniorenresidenz
DESCRIPTION:
URL:https://www.ekg-hechtsheim.de/veranstaltungen/oekumensischer-gottesdienst-in-der-seniorenresidenz/
LOCATION:16:00 - \, Deutschland
CATEGORIES:Gottesdienste
END:VEVENT
BEGIN:VEVENT
DTSTART;TZID=Europe/Paris:20221224T170000
DTEND;TZID=Europe/Paris:20221224T170000
DTSTAMP:20260422T165202
CREATED:20221109T110938Z
LAST-MODIFIED:20221109T110938Z
UID:10001731-1671901200-1671901200@www.ekg-hechtsheim.de
SUMMARY:Weihnachtsgottesdienst mit Krippenszenen
DESCRIPTION:
URL:https://www.ekg-hechtsheim.de/veranstaltungen/weihnachtsgottesdienst-mit-krippenszenen/
LOCATION:Gemeindehaus Frankenhöhe\, Bodenheimer Straße 58\, Mainz\, 55129\, Deutschland
CATEGORIES:Gottesdienste
GEO:49.9667007;8.2872534
X-APPLE-STRUCTURED-LOCATION;VALUE=URI;X-ADDRESS=Gemeindehaus Frankenhöhe Bodenheimer Straße 58 Mainz 55129 Deutschland;X-APPLE-RADIUS=500;X-TITLE=Bodenheimer Straße 58:geo:8.2872534,49.9667007
END:VEVENT
BEGIN:VEVENT
DTSTART;TZID=Europe/Paris:20221224T170000
DTEND;TZID=Europe/Paris:20221224T170000
DTSTAMP:20260422T165202
CREATED:20221109T111111Z
LAST-MODIFIED:20221109T111111Z
UID:10001732-1671901200-1671901200@www.ekg-hechtsheim.de
SUMMARY:Christvesper
DESCRIPTION:
URL:https://www.ekg-hechtsheim.de/veranstaltungen/christvesper-5/
LOCATION:Gemeindezentrum Lion-Feuchtwanger-Straße\, Lion-Feuchtwanger Str. 14\, Mainz\, 55129\, Deutschland
CATEGORIES:Gottesdienste
GEO:49.9621;8.2738908
X-APPLE-STRUCTURED-LOCATION;VALUE=URI;X-ADDRESS=Gemeindezentrum Lion-Feuchtwanger-Straße Lion-Feuchtwanger Str. 14 Mainz 55129 Deutschland;X-APPLE-RADIUS=500;X-TITLE=Lion-Feuchtwanger Str. 14:geo:8.2738908,49.9621
END:VEVENT
BEGIN:VEVENT
DTSTART;TZID=Europe/Paris:20221224T223000
DTEND;TZID=Europe/Paris:20221224T223000
DTSTAMP:20260422T165202
CREATED:20221109T111214Z
LAST-MODIFIED:20221109T111214Z
UID:10001733-1671921000-1671921000@www.ekg-hechtsheim.de
SUMMARY:Christmette
DESCRIPTION:
URL:https://www.ekg-hechtsheim.de/veranstaltungen/christmette-6/
LOCATION:Gemeindezentrum Lion-Feuchtwanger-Straße\, Lion-Feuchtwanger Str. 14\, Mainz\, 55129\, Deutschland
CATEGORIES:Gottesdienste
GEO:49.9621;8.2738908
X-APPLE-STRUCTURED-LOCATION;VALUE=URI;X-ADDRESS=Gemeindezentrum Lion-Feuchtwanger-Straße Lion-Feuchtwanger Str. 14 Mainz 55129 Deutschland;X-APPLE-RADIUS=500;X-TITLE=Lion-Feuchtwanger Str. 14:geo:8.2738908,49.9621
END:VEVENT
BEGIN:VEVENT
DTSTART;VALUE=DATE:20221225
DTEND;VALUE=DATE:20221226
DTSTAMP:20260422T165202
CREATED:20221129T112426Z
LAST-MODIFIED:20221129T112426Z
UID:10001735-1671926400-1672012799@www.ekg-hechtsheim.de
SUMMARY:KEIN Gottesdienst im Gemeindehaus an diesem Tag
DESCRIPTION:
URL:https://www.ekg-hechtsheim.de/veranstaltungen/kein-gottesdienst-im-gemeindehaus-an-diesem-tag/
LOCATION:Gemeindehaus Frankenhöhe\, Bodenheimer Straße 58\, Mainz\, 55129\, Deutschland
CATEGORIES:Gottesdienste
GEO:49.9667007;8.2872534
X-APPLE-STRUCTURED-LOCATION;VALUE=URI;X-ADDRESS=Gemeindehaus Frankenhöhe Bodenheimer Straße 58 Mainz 55129 Deutschland;X-APPLE-RADIUS=500;X-TITLE=Bodenheimer Straße 58:geo:8.2872534,49.9667007
END:VEVENT
BEGIN:VEVENT
DTSTART;TZID=Europe/Paris:20221225T100000
DTEND;TZID=Europe/Paris:20221225T100000
DTSTAMP:20260422T165202
CREATED:20221129T112333Z
LAST-MODIFIED:20221129T112648Z
UID:10001734-1671962400-1671962400@www.ekg-hechtsheim.de
SUMMARY:Gottesdienst mit Abendmahl am 1. Weihnachtsfeiertag
DESCRIPTION:
URL:https://www.ekg-hechtsheim.de/veranstaltungen/gottesdienst-mit-abendmahl-36/
LOCATION:Gemeindezentrum Lion-Feuchtwanger-Straße\, Lion-Feuchtwanger Str. 14\, Mainz\, 55129\, Deutschland
CATEGORIES:Gottesdienste
GEO:49.9621;8.2738908
X-APPLE-STRUCTURED-LOCATION;VALUE=URI;X-ADDRESS=Gemeindezentrum Lion-Feuchtwanger-Straße Lion-Feuchtwanger Str. 14 Mainz 55129 Deutschland;X-APPLE-RADIUS=500;X-TITLE=Lion-Feuchtwanger Str. 14:geo:8.2738908,49.9621
END:VEVENT
BEGIN:VEVENT
DTSTART;VALUE=DATE:20221226
DTEND;VALUE=DATE:20221227
DTSTAMP:20260422T165202
CREATED:20221129T112741Z
LAST-MODIFIED:20221129T112741Z
UID:10001737-1672012800-1672099199@www.ekg-hechtsheim.de
SUMMARY:KEIN Gottesdienst im Gemeindezentrum an diesem Tag
DESCRIPTION:
URL:https://www.ekg-hechtsheim.de/veranstaltungen/kein-gottesdienst-im-gemeindezentrum-an-diesem-tag/
LOCATION:Gemeindezentrum Lion-Feuchtwanger-Straße\, Lion-Feuchtwanger Str. 14\, Mainz\, 55129\, Deutschland
CATEGORIES:Gottesdienste
GEO:49.9621;8.2738908
X-APPLE-STRUCTURED-LOCATION;VALUE=URI;X-ADDRESS=Gemeindezentrum Lion-Feuchtwanger-Straße Lion-Feuchtwanger Str. 14 Mainz 55129 Deutschland;X-APPLE-RADIUS=500;X-TITLE=Lion-Feuchtwanger Str. 14:geo:8.2738908,49.9621
END:VEVENT
BEGIN:VEVENT
DTSTART;TZID=Europe/Paris:20221226T180000
DTEND;TZID=Europe/Paris:20221226T180000
DTSTAMP:20260422T165202
CREATED:20221129T112527Z
LAST-MODIFIED:20221129T112546Z
UID:10001736-1672077600-1672077600@www.ekg-hechtsheim.de
SUMMARY:Abend-Gottesdienst am 2. Weihnachtsfeiertag
DESCRIPTION:
URL:https://www.ekg-hechtsheim.de/veranstaltungen/abend-gottesdienst-2/
LOCATION:Gemeindehaus Frankenhöhe\, Bodenheimer Straße 58\, Mainz\, 55129\, Deutschland
CATEGORIES:Gottesdienste
GEO:49.9667007;8.2872534
X-APPLE-STRUCTURED-LOCATION;VALUE=URI;X-ADDRESS=Gemeindehaus Frankenhöhe Bodenheimer Straße 58 Mainz 55129 Deutschland;X-APPLE-RADIUS=500;X-TITLE=Bodenheimer Straße 58:geo:8.2872534,49.9667007
END:VEVENT
BEGIN:VEVENT
DTSTART;TZID=Europe/Paris:20221231T170000
DTEND;TZID=Europe/Paris:20221231T170000
DTSTAMP:20260422T165202
CREATED:20221212T110828Z
LAST-MODIFIED:20221212T110828Z
UID:10001742-1672506000-1672506000@www.ekg-hechtsheim.de
SUMMARY:Gottesdienst  zum Jahresschluss mit Verabschiedung unserer Organistin Carolin Kaiser
DESCRIPTION:
URL:https://www.ekg-hechtsheim.de/veranstaltungen/gottesdienst-zum-jahresschluss-mit-verabschiedung-unserer-organistin-carolin-kaiser/
LOCATION:Gemeindezentrum Lion-Feuchtwanger-Straße\, Lion-Feuchtwanger Str. 14\, Mainz\, 55129\, Deutschland
CATEGORIES:Gottesdienste
GEO:49.9621;8.2738908
X-APPLE-STRUCTURED-LOCATION;VALUE=URI;X-ADDRESS=Gemeindezentrum Lion-Feuchtwanger-Straße Lion-Feuchtwanger Str. 14 Mainz 55129 Deutschland;X-APPLE-RADIUS=500;X-TITLE=Lion-Feuchtwanger Str. 14:geo:8.2738908,49.9621
END:VEVENT
BEGIN:VEVENT
DTSTART;TZID=Europe/Paris:20221231T180000
DTEND;TZID=Europe/Paris:20221231T180000
DTSTAMP:20260422T165202
CREATED:20221108T112438Z
LAST-MODIFIED:20221129T112953Z
UID:10001095-1672509600-1672509600@www.ekg-hechtsheim.de
SUMMARY:Gottesdienst am Jahresschluss mit besonderer Musik - Sabine Möhrle spielt Werke von Bach\, Messiaen u.a.
DESCRIPTION:Sabine Möhrle spielt Werke von Bach\, Messiaen u.a.
URL:https://www.ekg-hechtsheim.de/veranstaltungen/gottesdienst-am-silvester-abend-mit-besonderer-musik/
LOCATION:Gemeindehaus Frankenhöhe\, Bodenheimer Straße 58\, Mainz\, 55129\, Deutschland
CATEGORIES:Gottesdienste
GEO:49.9667007;8.2872534
X-APPLE-STRUCTURED-LOCATION;VALUE=URI;X-ADDRESS=Gemeindehaus Frankenhöhe Bodenheimer Straße 58 Mainz 55129 Deutschland;X-APPLE-RADIUS=500;X-TITLE=Bodenheimer Straße 58:geo:8.2872534,49.9667007
END:VEVENT
END:VCALENDAR