BEGIN:VCALENDAR
VERSION:2.0
PRODID:-//Evangelische Kirchengemeinde Mainz-Hechtsheim - ECPv6.15.20//NONSGML v1.0//EN
CALSCALE:GREGORIAN
METHOD:PUBLISH
X-ORIGINAL-URL:https://www.ekg-hechtsheim.de
X-WR-CALDESC:Veranstaltungen für Evangelische Kirchengemeinde Mainz-Hechtsheim
REFRESH-INTERVAL;VALUE=DURATION:PT1H
X-Robots-Tag:noindex
X-PUBLISHED-TTL:PT1H
BEGIN:VTIMEZONE
TZID:Europe/Paris
BEGIN:DAYLIGHT
TZOFFSETFROM:+0100
TZOFFSETTO:+0200
TZNAME:CEST
DTSTART:20210328T010000
END:DAYLIGHT
BEGIN:STANDARD
TZOFFSETFROM:+0200
TZOFFSETTO:+0100
TZNAME:CET
DTSTART:20211031T010000
END:STANDARD
BEGIN:DAYLIGHT
TZOFFSETFROM:+0100
TZOFFSETTO:+0200
TZNAME:CEST
DTSTART:20220327T010000
END:DAYLIGHT
BEGIN:STANDARD
TZOFFSETFROM:+0200
TZOFFSETTO:+0100
TZNAME:CET
DTSTART:20221030T010000
END:STANDARD
BEGIN:DAYLIGHT
TZOFFSETFROM:+0100
TZOFFSETTO:+0200
TZNAME:CEST
DTSTART:20230326T010000
END:DAYLIGHT
BEGIN:STANDARD
TZOFFSETFROM:+0200
TZOFFSETTO:+0100
TZNAME:CET
DTSTART:20231029T010000
END:STANDARD
END:VTIMEZONE
BEGIN:VEVENT
DTSTART;TZID=Europe/Paris:20220804T160000
DTEND;TZID=Europe/Paris:20220804T160000
DTSTAMP:20260422T223716
CREATED:20220608T085426Z
LAST-MODIFIED:20220608T085426Z
UID:10001642-1659628800-1659628800@www.ekg-hechtsheim.de
SUMMARY:Werktagsgottesdienst mit Abendmahl
DESCRIPTION:
URL:https://www.ekg-hechtsheim.de/veranstaltungen/werktagsgottesdienst-mit-abendmahl-69/
LOCATION:16:00 - \, Deutschland
CATEGORIES:Gottesdienste
END:VEVENT
BEGIN:VEVENT
DTSTART;TZID=Europe/Paris:20220806T160000
DTEND;TZID=Europe/Paris:20220806T190000
DTSTAMP:20260422T223716
CREATED:20220626T173425Z
LAST-MODIFIED:20220721T180125Z
UID:10001064-1659801600-1659812400@www.ekg-hechtsheim.de
SUMMARY:УВАГА: сьогодні не буде кафе для зустрічей – ACHTUNG : heute KEIN Café der Begegnung
DESCRIPTION:Unsere Ökumenische Flüchtlingsinitiative “Ankommen in Hechtsheim” (AIH) öffnet wieder das Café der Begegnung im \nGemeindezentrum Lion-Feuchtwanger-Str. 14\, \neinen Treffpunkt für Geflüchtete und “Alt-Hechtsheimer”\, der aktuell jeden dritten Samstag im Monat jeweils um 16.00 Uhr (falls nicht anders im Kalender beschrieben) stattfinden wird. \nBei Kaffee und Kuchen soll Gelegenheit zu Gesprächen sein\, den Geflüchteten ein bißchen Nähe\, ein “Nachbar-sein-Gefühl” zu geben\, ihnen bei Fragen und Problemen zur Seite zu stehen. \nDa es wegen der Feiertage usw. mal zu Terminverschiebungen kommen kann\, schauen Sie bitte in jedem Fall auch in den Veranstaltungskalender (–> Aktuelles – Veranstaltungen). \nWir laden alle Interessierten ein mal reinzuschnuppern ……
URL:https://www.ekg-hechtsheim.de/veranstaltungen/%d0%bb%d0%b0%d1%81%d0%ba%d0%b0%d0%b2%d0%be-%d0%bf%d1%80%d0%be%d1%81%d0%b8%d0%bc%d0%be-%d0%b4%d0%be-%d0%b7%d1%83%d1%81%d1%82%d1%80%d1%96%d1%87-%d0%ba%d0%b0%d1%84%d0%b5-cafe-der-begegnung-9/
LOCATION:Gemeindezentrum Lion-Feuchtwanger-Straße\, Lion-Feuchtwanger Str. 14\, Mainz\, 55129\, Deutschland
CATEGORIES:Gemeinde,Kultur
ORGANIZER;CN="%C3%96kumenische Fl%C3%BCchtlingsinitiative AIH":MAILTO:ankommen.in.hechtsheim@gmail.com
GEO:49.9621;8.2738908
X-APPLE-STRUCTURED-LOCATION;VALUE=URI;X-ADDRESS=Gemeindezentrum Lion-Feuchtwanger-Straße Lion-Feuchtwanger Str. 14 Mainz 55129 Deutschland;X-APPLE-RADIUS=500;X-TITLE=Lion-Feuchtwanger Str. 14:geo:8.2738908,49.9621
END:VEVENT
BEGIN:VEVENT
DTSTART;VALUE=DATE:20220807
DTEND;VALUE=DATE:20220808
DTSTAMP:20260422T223716
CREATED:20220608T085752Z
LAST-MODIFIED:20220608T085752Z
UID:10001644-1659830400-1659916799@www.ekg-hechtsheim.de
SUMMARY:KEIN Gottesdienst im Gemeindezentrum
DESCRIPTION:
URL:https://www.ekg-hechtsheim.de/veranstaltungen/kein-gottesdienst-im-gemeindezentrum-10/
LOCATION:Gemeindezentrum Lion-Feuchtwanger-Straße\, Lion-Feuchtwanger Str. 14\, Mainz\, 55129\, Deutschland
CATEGORIES:Gottesdienste
GEO:49.9621;8.2738908
X-APPLE-STRUCTURED-LOCATION;VALUE=URI;X-ADDRESS=Gemeindezentrum Lion-Feuchtwanger-Straße Lion-Feuchtwanger Str. 14 Mainz 55129 Deutschland;X-APPLE-RADIUS=500;X-TITLE=Lion-Feuchtwanger Str. 14:geo:8.2738908,49.9621
END:VEVENT
BEGIN:VEVENT
DTSTART;TZID=Europe/Paris:20220807T110000
DTEND;TZID=Europe/Paris:20220807T110000
DTSTAMP:20260422T223716
CREATED:20220608T093537Z
LAST-MODIFIED:20220608T093537Z
UID:10001643-1659870000-1659870000@www.ekg-hechtsheim.de
SUMMARY:Gottesdienst
DESCRIPTION:
URL:https://www.ekg-hechtsheim.de/veranstaltungen/gottesdienst-209/
LOCATION:Gemeindehaus Frankenhöhe\, Bodenheimer Straße 58\, Mainz\, 55129\, Deutschland
CATEGORIES:Gottesdienste
GEO:49.9667007;8.2872534
X-APPLE-STRUCTURED-LOCATION;VALUE=URI;X-ADDRESS=Gemeindehaus Frankenhöhe Bodenheimer Straße 58 Mainz 55129 Deutschland;X-APPLE-RADIUS=500;X-TITLE=Bodenheimer Straße 58:geo:8.2872534,49.9667007
END:VEVENT
BEGIN:VEVENT
DTSTART;TZID=Europe/Paris:20220812T180000
DTEND;TZID=Europe/Paris:20220812T180000
DTSTAMP:20260422T223717
CREATED:20220614T064146Z
LAST-MODIFIED:20220614T064146Z
UID:10001651-1660327200-1660327200@www.ekg-hechtsheim.de
SUMMARY:Lust auf Singen?! - Singen von weltlichen und geistlichen Liedern mit Orgelbegleitung von Carolin Kaiser
DESCRIPTION:
URL:https://www.ekg-hechtsheim.de/veranstaltungen/lust-auf-singen-singen-von-weltlichen-und-geistlichen-liedern-mit-orgelbegleitung-von-carolin-kaiser-6/
LOCATION:Gemeindezentrum Lion-Feuchtwanger-Straße\, Lion-Feuchtwanger Str. 14\, Mainz\, 55129\, Deutschland
CATEGORIES:Gemeinde
GEO:49.9621;8.2738908
X-APPLE-STRUCTURED-LOCATION;VALUE=URI;X-ADDRESS=Gemeindezentrum Lion-Feuchtwanger-Straße Lion-Feuchtwanger Str. 14 Mainz 55129 Deutschland;X-APPLE-RADIUS=500;X-TITLE=Lion-Feuchtwanger Str. 14:geo:8.2738908,49.9621
END:VEVENT
BEGIN:VEVENT
DTSTART;VALUE=DATE:20220814
DTEND;VALUE=DATE:20220815
DTSTAMP:20260422T223717
CREATED:20220608T101754Z
LAST-MODIFIED:20220608T101754Z
UID:10001646-1660435200-1660521599@www.ekg-hechtsheim.de
SUMMARY:KEIN Gottesdienst im Gemeindehaus
DESCRIPTION:
URL:https://www.ekg-hechtsheim.de/veranstaltungen/kein-gottesdienst-im-gemeindehaus-8/
LOCATION:Gemeindehaus Frankenhöhe\, Bodenheimer Straße 58\, Mainz\, 55129\, Deutschland
CATEGORIES:Gottesdienste
GEO:49.9667007;8.2872534
X-APPLE-STRUCTURED-LOCATION;VALUE=URI;X-ADDRESS=Gemeindehaus Frankenhöhe Bodenheimer Straße 58 Mainz 55129 Deutschland;X-APPLE-RADIUS=500;X-TITLE=Bodenheimer Straße 58:geo:8.2872534,49.9667007
END:VEVENT
BEGIN:VEVENT
DTSTART;TZID=Europe/Paris:20220814T100000
DTEND;TZID=Europe/Paris:20220814T100000
DTSTAMP:20260422T223717
CREATED:20220608T093810Z
LAST-MODIFIED:20220608T093810Z
UID:10001645-1660471200-1660471200@www.ekg-hechtsheim.de
SUMMARY:Gottesdienst
DESCRIPTION:
URL:https://www.ekg-hechtsheim.de/veranstaltungen/gottesdienst-210/
LOCATION:Gemeindezentrum Lion-Feuchtwanger-Straße\, Lion-Feuchtwanger Str. 14\, Mainz\, 55129\, Deutschland
CATEGORIES:Gottesdienste
GEO:49.9621;8.2738908
X-APPLE-STRUCTURED-LOCATION;VALUE=URI;X-ADDRESS=Gemeindezentrum Lion-Feuchtwanger-Straße Lion-Feuchtwanger Str. 14 Mainz 55129 Deutschland;X-APPLE-RADIUS=500;X-TITLE=Lion-Feuchtwanger Str. 14:geo:8.2738908,49.9621
END:VEVENT
BEGIN:VEVENT
DTSTART;TZID=Europe/Paris:20220815T193000
DTEND;TZID=Europe/Paris:20220815T210000
DTSTAMP:20260422T223717
CREATED:20171218T090742Z
LAST-MODIFIED:20180108T083306Z
UID:10000338-1660591800-1660597200@www.ekg-hechtsheim.de
SUMMARY:Abend in der Stille
DESCRIPTION:Einmal im Monat findet ein Abend in der Stille in der Regel am 3. Montag im Monat im Gemeindezentrum von 19.30 – 21  Uhr (außer in den Schulferien) statt. \nExerzitien im Alltag sind ein Weg\, auf dem wir einüben können\, den Alltag bewusster und aufmerksamer wahrzunehmen und Gott dort zu entdecken\, wo er sich von uns finden lassen möchte: mitten im Leben. \nAus dem Projekt in der Passionszeit 2016 ist der Wunsch entstanden\, regelmäßig\, einmal im Monat\, solche „Exerzitien im Alltag“ miteinander zu teilen und in Gemeinschaft einen solchen Weg zu gehen. \nEinmal im Monat sind alle Interessierten eingeladen zusammen zu kommen: zum Einüben verschiedener Formen von Zeiten der Stille\, Meditation über biblischen Worten und Gebet\, zum Austausch über die Erfahrungen. \nTermine in 2018: 22. Januar\, 19. Februar\,  19. März\, 23. April 21. Mai\, 18. Juni\, im Juli Pause wegen Sommerferien. \nBequeme Kleidung\, möglicherweise eine wärmende Decke oder Wollsocken\, um im Sitzen und Schweigen einen warmen Rücken und warme Füße zu behalten\, bringen Sie bitte dazu von zu Hause mit.
URL:https://www.ekg-hechtsheim.de/veranstaltungen/abend-in-der-stille-mit-den-perlen-des-glaubens-beten-und-ueber-gott-und-die-welt-gemeinsam-nachsinnen-2018-04-16/2022-08-15/
LOCATION:16:00 - \, Deutschland
CATEGORIES:Gottesdienste
END:VEVENT
BEGIN:VEVENT
DTSTART;TZID=Europe/Paris:20220818T160000
DTEND;TZID=Europe/Paris:20220818T160000
DTSTAMP:20260422T223717
CREATED:20220608T102504Z
LAST-MODIFIED:20220608T102504Z
UID:10001647-1660838400-1660838400@www.ekg-hechtsheim.de
SUMMARY:Werktagsgottesdienst mit Abendmahl
DESCRIPTION:
URL:https://www.ekg-hechtsheim.de/veranstaltungen/werktagsgottesdienst-mit-abendmahl-70/
LOCATION:16:00 - \, Deutschland
CATEGORIES:Gottesdienste
END:VEVENT
BEGIN:VEVENT
DTSTART;TZID=Europe/Paris:20220820T160000
DTEND;TZID=Europe/Paris:20220820T190000
DTSTAMP:20260422T223717
CREATED:20220626T173628Z
LAST-MODIFIED:20220721T180242Z
UID:10001065-1661011200-1661022000@www.ekg-hechtsheim.de
SUMMARY:Ласкаво просимо до зустріч кафе – Café der Begegnung
DESCRIPTION:Unsere Ökumenische Flüchtlingsinitiative “Ankommen in Hechtsheim” (AIH) öffnet wieder das Café der Begegnung im \nGemeindezentrum Lion-Feuchtwanger-Str. 14\, \neinen Treffpunkt für Geflüchtete und “Alt-Hechtsheimer”\, der aktuell jeden dritten Samstag im Monat jeweils um 16.00 Uhr (falls nicht anders im Kalender beschrieben) stattfinden wird. \nBei Kaffee und Kuchen soll Gelegenheit zu Gesprächen sein\, den Geflüchteten ein bißchen Nähe\, ein “Nachbar-sein-Gefühl” zu geben\, ihnen bei Fragen und Problemen zur Seite zu stehen. \nDa es wegen der Feiertage usw. mal zu Terminverschiebungen kommen kann\, schauen Sie bitte in jedem Fall auch in den Veranstaltungskalender (–> Aktuelles – Veranstaltungen). \nWir laden alle Interessierten ein mal reinzuschnuppern ……
URL:https://www.ekg-hechtsheim.de/veranstaltungen/%d0%bb%d0%b0%d1%81%d0%ba%d0%b0%d0%b2%d0%be-%d0%bf%d1%80%d0%be%d1%81%d0%b8%d0%bc%d0%be-%d0%b4%d0%be-%d0%b7%d1%83%d1%81%d1%82%d1%80%d1%96%d1%87-%d0%ba%d0%b0%d1%84%d0%b5-cafe-der-begegnung-10/
LOCATION:Gemeindezentrum Lion-Feuchtwanger-Straße\, Lion-Feuchtwanger Str. 14\, Mainz\, 55129\, Deutschland
CATEGORIES:Gemeinde,Kultur
ORGANIZER;CN="%C3%96kumenische Fl%C3%BCchtlingsinitiative AIH":MAILTO:ankommen.in.hechtsheim@gmail.com
GEO:49.9621;8.2738908
X-APPLE-STRUCTURED-LOCATION;VALUE=URI;X-ADDRESS=Gemeindezentrum Lion-Feuchtwanger-Straße Lion-Feuchtwanger Str. 14 Mainz 55129 Deutschland;X-APPLE-RADIUS=500;X-TITLE=Lion-Feuchtwanger Str. 14:geo:8.2738908,49.9621
END:VEVENT
BEGIN:VEVENT
DTSTART;VALUE=DATE:20220821
DTEND;VALUE=DATE:20220822
DTSTAMP:20260422T223717
CREATED:20220608T102551Z
LAST-MODIFIED:20220608T102551Z
UID:10001648-1661040000-1661126399@www.ekg-hechtsheim.de
SUMMARY:KEIN Gottesdienst im Gemeindezentrum
DESCRIPTION:
URL:https://www.ekg-hechtsheim.de/veranstaltungen/kein-gottesdienst-im-gemeindezentrum-11/
LOCATION:Gemeindezentrum Lion-Feuchtwanger-Straße\, Lion-Feuchtwanger Str. 14\, Mainz\, 55129\, Deutschland
CATEGORIES:Gottesdienste
GEO:49.9621;8.2738908
X-APPLE-STRUCTURED-LOCATION;VALUE=URI;X-ADDRESS=Gemeindezentrum Lion-Feuchtwanger-Straße Lion-Feuchtwanger Str. 14 Mainz 55129 Deutschland;X-APPLE-RADIUS=500;X-TITLE=Lion-Feuchtwanger Str. 14:geo:8.2738908,49.9621
END:VEVENT
BEGIN:VEVENT
DTSTART;TZID=Europe/Paris:20220821T110000
DTEND;TZID=Europe/Paris:20220821T110000
DTSTAMP:20260422T223717
CREATED:20220608T102705Z
LAST-MODIFIED:20220608T102705Z
UID:10001649-1661079600-1661079600@www.ekg-hechtsheim.de
SUMMARY:Gottesdienst
DESCRIPTION:
URL:https://www.ekg-hechtsheim.de/veranstaltungen/gottesdienst-211/
LOCATION:Gemeindehaus Frankenhöhe\, Bodenheimer Straße 58\, Mainz\, 55129\, Deutschland
CATEGORIES:Gottesdienste
GEO:49.9667007;8.2872534
X-APPLE-STRUCTURED-LOCATION;VALUE=URI;X-ADDRESS=Gemeindehaus Frankenhöhe Bodenheimer Straße 58 Mainz 55129 Deutschland;X-APPLE-RADIUS=500;X-TITLE=Bodenheimer Straße 58:geo:8.2872534,49.9667007
END:VEVENT
BEGIN:VEVENT
DTSTART;TZID=Europe/Paris:20220827T140000
DTEND;TZID=Europe/Paris:20220827T180000
DTSTAMP:20260422T223717
CREATED:20220722T213419Z
LAST-MODIFIED:20220722T213419Z
UID:10001698-1661608800-1661623200@www.ekg-hechtsheim.de
SUMMARY:Aktionstag rund ums Gemeindezentrum
DESCRIPTION:Wir laden alle ein\, die Spaß daran haben\, kleinere Arbeiten mit Geselligkeit zu verbinden. Unser 2. Aktionstag rund um das Gemeindezentrum beginnt am Samstag\, 27. August\, um 14 Uhr in der Lion-Feuchtwanger-Straße 14. \nTee\, Kaffee und Kekse versüßen uns die Pausen\, gute Gespräche lassen die Zeit bis zum gemeinsamen Grillen zum Abschluss nicht lang werden. \nZur besseren Planung bitten wir um Anmeldung im Gemeindebüro bis zum 23. August\, spontane Helfende sind jedoch ebenfalls willkommen. \nWir freuen uns auf Sie!
URL:https://www.ekg-hechtsheim.de/veranstaltungen/aktionstag-rund-ums-gemeindezentrum/
LOCATION:Außengelände des Gemeindezentrums Lion-Feuchtwanger-Straße\, Lion-Feuchtwanger-Straße 14\, Mainz\, 55129\, Deutschland
CATEGORIES:Sonstiges
END:VEVENT
BEGIN:VEVENT
DTSTART;VALUE=DATE:20220828
DTEND;VALUE=DATE:20220829
DTSTAMP:20260422T223717
CREATED:20220614T093146Z
LAST-MODIFIED:20220614T093146Z
UID:10001656-1661644800-1661731199@www.ekg-hechtsheim.de
SUMMARY:KEIN Gottesdienst im Gemeindehaus
DESCRIPTION:
URL:https://www.ekg-hechtsheim.de/veranstaltungen/kein-gottesdienst-im-gemeindehaus-9/
LOCATION:Gemeindehaus Frankenhöhe\, Bodenheimer Straße 58\, Mainz\, 55129\, Deutschland
CATEGORIES:Gottesdienste
GEO:49.9667007;8.2872534
X-APPLE-STRUCTURED-LOCATION;VALUE=URI;X-ADDRESS=Gemeindehaus Frankenhöhe Bodenheimer Straße 58 Mainz 55129 Deutschland;X-APPLE-RADIUS=500;X-TITLE=Bodenheimer Straße 58:geo:8.2872534,49.9667007
END:VEVENT
BEGIN:VEVENT
DTSTART;TZID=Europe/Paris:20220828T100000
DTEND;TZID=Europe/Paris:20220828T100000
DTSTAMP:20260422T223717
CREATED:20220614T093106Z
LAST-MODIFIED:20220614T093106Z
UID:10001655-1661680800-1661680800@www.ekg-hechtsheim.de
SUMMARY:Gottesdienst
DESCRIPTION:
URL:https://www.ekg-hechtsheim.de/veranstaltungen/gottesdienst-206/
LOCATION:Gemeindezentrum Lion-Feuchtwanger-Straße\, Lion-Feuchtwanger Str. 14\, Mainz\, 55129\, Deutschland
CATEGORIES:Gottesdienste
GEO:49.9621;8.2738908
X-APPLE-STRUCTURED-LOCATION;VALUE=URI;X-ADDRESS=Gemeindezentrum Lion-Feuchtwanger-Straße Lion-Feuchtwanger Str. 14 Mainz 55129 Deutschland;X-APPLE-RADIUS=500;X-TITLE=Lion-Feuchtwanger Str. 14:geo:8.2738908,49.9621
END:VEVENT
END:VCALENDAR