BEGIN:VCALENDAR
VERSION:2.0
PRODID:-//Evangelische Kirchengemeinde Mainz-Hechtsheim - ECPv6.15.20//NONSGML v1.0//EN
CALSCALE:GREGORIAN
METHOD:PUBLISH
X-ORIGINAL-URL:https://www.ekg-hechtsheim.de
X-WR-CALDESC:Veranstaltungen für Evangelische Kirchengemeinde Mainz-Hechtsheim
REFRESH-INTERVAL;VALUE=DURATION:PT1H
X-Robots-Tag:noindex
X-PUBLISHED-TTL:PT1H
BEGIN:VTIMEZONE
TZID:Europe/Paris
BEGIN:DAYLIGHT
TZOFFSETFROM:+0100
TZOFFSETTO:+0200
TZNAME:CEST
DTSTART:20210328T010000
END:DAYLIGHT
BEGIN:STANDARD
TZOFFSETFROM:+0200
TZOFFSETTO:+0100
TZNAME:CET
DTSTART:20211031T010000
END:STANDARD
BEGIN:DAYLIGHT
TZOFFSETFROM:+0100
TZOFFSETTO:+0200
TZNAME:CEST
DTSTART:20220327T010000
END:DAYLIGHT
BEGIN:STANDARD
TZOFFSETFROM:+0200
TZOFFSETTO:+0100
TZNAME:CET
DTSTART:20221030T010000
END:STANDARD
BEGIN:DAYLIGHT
TZOFFSETFROM:+0100
TZOFFSETTO:+0200
TZNAME:CEST
DTSTART:20230326T010000
END:DAYLIGHT
BEGIN:STANDARD
TZOFFSETFROM:+0200
TZOFFSETTO:+0100
TZNAME:CET
DTSTART:20231029T010000
END:STANDARD
END:VTIMEZONE
BEGIN:VEVENT
DTSTART;TZID=Europe/Paris:20220401T173000
DTEND;TZID=Europe/Paris:20220401T173000
DTSTAMP:20260423T040848
CREATED:20220124T100916Z
LAST-MODIFIED:20220216T104403Z
UID:10001589-1648834200-1648834200@www.ekg-hechtsheim.de
SUMMARY:"Mitarbeiteradvent" - Unser nachgeholtes "Dankeschön" an alle haupt- und ehrenamtlichen Mitarbeiter:innen
DESCRIPTION:
URL:https://www.ekg-hechtsheim.de/veranstaltungen/mitarbeiteradvent-unser-nachgeholtes-dankeschoen-fuer-alle-haupt-und-ehrenamtlichen-mitarbeiterinnen/
LOCATION:Außengelände des Gemeindezentrums Lion-Feuchtwanger-Straße\, Lion-Feuchtwanger-Straße 14\, Mainz\, 55129\, Deutschland
CATEGORIES:Gemeinde
END:VEVENT
BEGIN:VEVENT
DTSTART;TZID=Europe/Paris:20220402T170000
DTEND;TZID=Europe/Paris:20220402T190000
DTSTAMP:20260423T040848
CREATED:20220320T214244Z
LAST-MODIFIED:20220320T214244Z
UID:10001611-1648918800-1648926000@www.ekg-hechtsheim.de
SUMMARY:Ласкаво просимо до зустріч кафе   -   Café der Begegnung
DESCRIPTION:Ласкаво просимо \nUnsere Ökumenische Flüchtlingsinitiative „Ankommen in Hechtsheim“ (AIH) öffnet wieder das Café der Begegnung im \nGemeindezentrum Lion-Feuchtwanger-Str. 14. \nErstmals am 02.04.22 (Achtung: 17.00 Uhr) und dann wieder am 23.04.22 um 16.00 Uhr bieten wir wieder einen Treffpunkt für Geflüchtete und „Alt-Hechtsheimer“.\nder danach jeden ersten und dritten Samstag im Monat stattfinden wird. \nBei Kaffee und Kuchen soll Gelegenheit zu Gesprächen sein\, den Geflüchteten ein bißchen Nähe\, ein „Nachbar-sein-Gefühl“ zu geben\, ihnen bei Fragen und Problemen zur Seite zu stehen. \nDa es wegen der Feiertage usw. mal zu Terminverschiebungen kommen kann\, schauen Sie bitte in jedem Fall auch in den Veranstaltungskalender (–> Aktuelles – Veranstaltungen). \nWir laden alle Interessierten ein mal reinzuschnuppern ……
URL:https://www.ekg-hechtsheim.de/veranstaltungen/%d0%bb%d0%b0%d1%81%d0%ba%d0%b0%d0%b2%d0%be-%d0%bf%d1%80%d0%be%d1%81%d0%b8%d0%bc%d0%be-%d0%b4%d0%be-%d0%b7%d1%83%d1%81%d1%82%d1%80%d1%96%d1%87-%d0%ba%d0%b0%d1%84%d0%b5-cafe-der-begegnung/
LOCATION:Gemeindezentrum Lion-Feuchtwanger-Straße\, Lion-Feuchtwanger Str. 14\, Mainz\, 55129\, Deutschland
CATEGORIES:Kultur,Sonstiges
ORGANIZER;CN="%C3%96kumenische Fl%C3%BCchtlingsinitiative AIH":MAILTO:ankommen.in.hechtsheim@gmail.com
GEO:49.9621;8.2738908
X-APPLE-STRUCTURED-LOCATION;VALUE=URI;X-ADDRESS=Gemeindezentrum Lion-Feuchtwanger-Straße Lion-Feuchtwanger Str. 14 Mainz 55129 Deutschland;X-APPLE-RADIUS=500;X-TITLE=Lion-Feuchtwanger Str. 14:geo:8.2738908,49.9621
END:VEVENT
BEGIN:VEVENT
DTSTART;TZID=Europe/Paris:20220403T100000
DTEND;TZID=Europe/Paris:20220403T100000
DTSTAMP:20260423T040848
CREATED:20220308T105041Z
LAST-MODIFIED:20220328T091112Z
UID:10000983-1648980000-1648980000@www.ekg-hechtsheim.de
SUMMARY:Gottesdienst mit musikalischem Schwerpunkt auf Chorälen aus Johann Sebastian Bachs "Orgelbüchlein" - Passion "Christe\, Du Lamm Gottes"
DESCRIPTION:
URL:https://www.ekg-hechtsheim.de/veranstaltungen/gottesdienst-mit-musikalischem-schwerpunkt-auf-choraelen-aus-johann-sebastian-bachs-orgelbuechlein-passion-christe-du-lamm-gottes/
LOCATION:Gemeindezentrum Lion-Feuchtwanger-Straße\, Lion-Feuchtwanger Str. 14\, Mainz\, 55129\, Deutschland
CATEGORIES:Gottesdienste
GEO:49.9621;8.2738908
X-APPLE-STRUCTURED-LOCATION;VALUE=URI;X-ADDRESS=Gemeindezentrum Lion-Feuchtwanger-Straße Lion-Feuchtwanger Str. 14 Mainz 55129 Deutschland;X-APPLE-RADIUS=500;X-TITLE=Lion-Feuchtwanger Str. 14:geo:8.2738908,49.9621
END:VEVENT
BEGIN:VEVENT
DTSTART;TZID=Europe/Paris:20220403T110000
DTEND;TZID=Europe/Paris:20220403T110000
DTSTAMP:20260423T040848
CREATED:20220216T104810Z
LAST-MODIFIED:20220216T104810Z
UID:10001594-1648983600-1648983600@www.ekg-hechtsheim.de
SUMMARY:Gottesdienst
DESCRIPTION:
URL:https://www.ekg-hechtsheim.de/veranstaltungen/gottesdienst-193/
LOCATION:Gemeindehaus Frankenhöhe\, Bodenheimer Straße 58\, Mainz\, 55129\, Deutschland
CATEGORIES:Gottesdienste
GEO:49.9667007;8.2872534
X-APPLE-STRUCTURED-LOCATION;VALUE=URI;X-ADDRESS=Gemeindehaus Frankenhöhe Bodenheimer Straße 58 Mainz 55129 Deutschland;X-APPLE-RADIUS=500;X-TITLE=Bodenheimer Straße 58:geo:8.2872534,49.9667007
END:VEVENT
BEGIN:VEVENT
DTSTART;TZID=Europe/Paris:20220410T100000
DTEND;TZID=Europe/Paris:20220410T100000
DTSTAMP:20260423T040848
CREATED:20220216T104922Z
LAST-MODIFIED:20220216T104922Z
UID:10001595-1649584800-1649584800@www.ekg-hechtsheim.de
SUMMARY:Gottesdienst
DESCRIPTION:
URL:https://www.ekg-hechtsheim.de/veranstaltungen/gottesdienst-194/
LOCATION:Gemeindezentrum Lion-Feuchtwanger-Straße\, Lion-Feuchtwanger Str. 14\, Mainz\, 55129\, Deutschland
CATEGORIES:Gottesdienste
GEO:49.9621;8.2738908
X-APPLE-STRUCTURED-LOCATION;VALUE=URI;X-ADDRESS=Gemeindezentrum Lion-Feuchtwanger-Straße Lion-Feuchtwanger Str. 14 Mainz 55129 Deutschland;X-APPLE-RADIUS=500;X-TITLE=Lion-Feuchtwanger Str. 14:geo:8.2738908,49.9621
END:VEVENT
BEGIN:VEVENT
DTSTART;TZID=Europe/Paris:20220410T110000
DTEND;TZID=Europe/Paris:20220410T110000
DTSTAMP:20260423T040848
CREATED:20220216T105039Z
LAST-MODIFIED:20220216T105039Z
UID:10001596-1649588400-1649588400@www.ekg-hechtsheim.de
SUMMARY:Kinderkirche
DESCRIPTION:
URL:https://www.ekg-hechtsheim.de/veranstaltungen/kinderkirche-26/
LOCATION:Gemeindehaus Frankenhöhe\, Bodenheimer Straße 58\, Mainz\, 55129\, Deutschland
CATEGORIES:Gottesdienste
GEO:49.9667007;8.2872534
X-APPLE-STRUCTURED-LOCATION;VALUE=URI;X-ADDRESS=Gemeindehaus Frankenhöhe Bodenheimer Straße 58 Mainz 55129 Deutschland;X-APPLE-RADIUS=500;X-TITLE=Bodenheimer Straße 58:geo:8.2872534,49.9667007
END:VEVENT
BEGIN:VEVENT
DTSTART;TZID=Europe/Paris:20220414T160000
DTEND;TZID=Europe/Paris:20220414T160000
DTSTAMP:20260423T040848
CREATED:20220404T080457Z
LAST-MODIFIED:20220404T080457Z
UID:10001597-1649952000-1649952000@www.ekg-hechtsheim.de
SUMMARY:Werktagsgottesdienst am Gründonnerstag mit Abendmahl
DESCRIPTION:
URL:https://www.ekg-hechtsheim.de/veranstaltungen/werktagsgottesdienst-am-gruendonnerstag-mit-abendmahl/
LOCATION:16:00 - \, Deutschland
CATEGORIES:Gottesdienste
END:VEVENT
BEGIN:VEVENT
DTSTART;TZID=Europe/Paris:20220414T170000
DTEND;TZID=Europe/Paris:20220414T170000
DTSTAMP:20260423T040848
CREATED:20220314T090515Z
LAST-MODIFIED:20220328T090821Z
UID:10000987-1649955600-1649955600@www.ekg-hechtsheim.de
SUMMARY:Abendmahlsgottesdienst "Du bereitest vor mir einen Tisch im Angesicht meiner Feinde"
DESCRIPTION:
URL:https://www.ekg-hechtsheim.de/veranstaltungen/abendmahlsgottesdienst-an-tischen/
LOCATION:Gemeindezentrum Lion-Feuchtwanger-Straße\, Lion-Feuchtwanger Str. 14\, Mainz\, 55129\, Deutschland
CATEGORIES:Gottesdienste
GEO:49.9621;8.2738908
X-APPLE-STRUCTURED-LOCATION;VALUE=URI;X-ADDRESS=Gemeindezentrum Lion-Feuchtwanger-Straße Lion-Feuchtwanger Str. 14 Mainz 55129 Deutschland;X-APPLE-RADIUS=500;X-TITLE=Lion-Feuchtwanger Str. 14:geo:8.2738908,49.9621
END:VEVENT
BEGIN:VEVENT
DTSTART;TZID=Europe/Paris:20220414T190000
DTEND;TZID=Europe/Paris:20220414T190000
DTSTAMP:20260423T040848
CREATED:20220314T090652Z
LAST-MODIFIED:20220314T090652Z
UID:10000988-1649962800-1649962800@www.ekg-hechtsheim.de
SUMMARY:Abendgottesdienst mit Abendmahl "Du bereitest vor mir einen Tisch im Angesicht meiner Feinde"
DESCRIPTION:end
URL:https://www.ekg-hechtsheim.de/veranstaltungen/abendgottesdienst-mit-abendmahl-du-bereitest-vor-mir-einen-tisch-im-angesicht-meiner-feinde/
LOCATION:Gemeindehaus Frankenhöhe\, Bodenheimer Straße 58\, Mainz\, 55129\, Deutschland
CATEGORIES:Gottesdienste
GEO:49.9667007;8.2872534
X-APPLE-STRUCTURED-LOCATION;VALUE=URI;X-ADDRESS=Gemeindehaus Frankenhöhe Bodenheimer Straße 58 Mainz 55129 Deutschland;X-APPLE-RADIUS=500;X-TITLE=Bodenheimer Straße 58:geo:8.2872534,49.9667007
END:VEVENT
BEGIN:VEVENT
DTSTART;TZID=Europe/Paris:20220415T100000
DTEND;TZID=Europe/Paris:20220415T100000
DTSTAMP:20260423T040848
CREATED:20220314T090820Z
LAST-MODIFIED:20220314T090845Z
UID:10000989-1650016800-1650016800@www.ekg-hechtsheim.de
SUMMARY:Gottesdienst mit Abendmahl "Seht\, welch ein Mensch"
DESCRIPTION:
URL:https://www.ekg-hechtsheim.de/veranstaltungen/gottesdienst-mit-abendmahl-35/
LOCATION:Gemeindezentrum Lion-Feuchtwanger-Straße\, Lion-Feuchtwanger Str. 14\, Mainz\, 55129\, Deutschland
CATEGORIES:Gottesdienste
GEO:49.9621;8.2738908
X-APPLE-STRUCTURED-LOCATION;VALUE=URI;X-ADDRESS=Gemeindezentrum Lion-Feuchtwanger-Straße Lion-Feuchtwanger Str. 14 Mainz 55129 Deutschland;X-APPLE-RADIUS=500;X-TITLE=Lion-Feuchtwanger Str. 14:geo:8.2738908,49.9621
END:VEVENT
BEGIN:VEVENT
DTSTART;TZID=Europe/Paris:20220415T110000
DTEND;TZID=Europe/Paris:20220415T110000
DTSTAMP:20260423T040848
CREATED:20220314T091000Z
LAST-MODIFIED:20220314T091000Z
UID:10001606-1650020400-1650020400@www.ekg-hechtsheim.de
SUMMARY:Gottesdienst mit Abendmahl "Seht\, welch ein Mensch"
DESCRIPTION:
URL:https://www.ekg-hechtsheim.de/veranstaltungen/gottesdienst-mit-abendmahl-seht-welch-ein-mensch/
LOCATION:Gemeindehaus Frankenhöhe\, Bodenheimer Straße 58\, Mainz\, 55129\, Deutschland
CATEGORIES:Gottesdienste
GEO:49.9667007;8.2872534
X-APPLE-STRUCTURED-LOCATION;VALUE=URI;X-ADDRESS=Gemeindehaus Frankenhöhe Bodenheimer Straße 58 Mainz 55129 Deutschland;X-APPLE-RADIUS=500;X-TITLE=Bodenheimer Straße 58:geo:8.2872534,49.9667007
END:VEVENT
BEGIN:VEVENT
DTSTART;TZID=Europe/Paris:20220417T060000
DTEND;TZID=Europe/Paris:20220417T060000
DTSTAMP:20260423T040848
CREATED:20220314T091248Z
LAST-MODIFIED:20220314T091248Z
UID:10001607-1650175200-1650175200@www.ekg-hechtsheim.de
SUMMARY:Frühgottesdienst mit Osterfeuer und anschließend Osterfrühstück
DESCRIPTION:
URL:https://www.ekg-hechtsheim.de/veranstaltungen/fruehgottesdienst-mit-osterfeuer-und-anschliessend-osterfruehstueck/
LOCATION:Gemeindezentrum Lion-Feuchtwanger-Straße\, Lion-Feuchtwanger Str. 14\, Mainz\, 55129\, Deutschland
CATEGORIES:Gottesdienste
GEO:49.9621;8.2738908
X-APPLE-STRUCTURED-LOCATION;VALUE=URI;X-ADDRESS=Gemeindezentrum Lion-Feuchtwanger-Straße Lion-Feuchtwanger Str. 14 Mainz 55129 Deutschland;X-APPLE-RADIUS=500;X-TITLE=Lion-Feuchtwanger Str. 14:geo:8.2738908,49.9621
END:VEVENT
BEGIN:VEVENT
DTSTART;TZID=Europe/Paris:20220417T110000
DTEND;TZID=Europe/Paris:20220417T110000
DTSTAMP:20260423T040848
CREATED:20220314T091359Z
LAST-MODIFIED:20220314T091359Z
UID:10001608-1650193200-1650193200@www.ekg-hechtsheim.de
SUMMARY:Ostergottesdienst "Im hellen Licht des Morgens"
DESCRIPTION:
URL:https://www.ekg-hechtsheim.de/veranstaltungen/ostergottesdienst-im-hellen-licht-des-morgens/
LOCATION:Gemeindehaus Frankenhöhe\, Bodenheimer Straße 58\, Mainz\, 55129\, Deutschland
CATEGORIES:Gottesdienste
GEO:49.9667007;8.2872534
X-APPLE-STRUCTURED-LOCATION;VALUE=URI;X-ADDRESS=Gemeindehaus Frankenhöhe Bodenheimer Straße 58 Mainz 55129 Deutschland;X-APPLE-RADIUS=500;X-TITLE=Bodenheimer Straße 58:geo:8.2872534,49.9667007
END:VEVENT
BEGIN:VEVENT
DTSTART;TZID=Europe/Paris:20220418T100000
DTEND;TZID=Europe/Paris:20220418T100000
DTSTAMP:20260423T040848
CREATED:20220314T091512Z
LAST-MODIFIED:20220404T103857Z
UID:10001609-1650276000-1650276000@www.ekg-hechtsheim.de
SUMMARY:Ostergottesdienst mit Schwerpunkt auf Chorälen aus Johann Sebastian Bachs "Orgelbüchlein": „Erschienen ist der herrliche Tag“
DESCRIPTION:
URL:https://www.ekg-hechtsheim.de/veranstaltungen/ostergottesdienst-2/
LOCATION:Gemeindezentrum Lion-Feuchtwanger-Straße\, Lion-Feuchtwanger Str. 14\, Mainz\, 55129\, Deutschland
CATEGORIES:Gottesdienste
GEO:49.9621;8.2738908
X-APPLE-STRUCTURED-LOCATION;VALUE=URI;X-ADDRESS=Gemeindezentrum Lion-Feuchtwanger-Straße Lion-Feuchtwanger Str. 14 Mainz 55129 Deutschland;X-APPLE-RADIUS=500;X-TITLE=Lion-Feuchtwanger Str. 14:geo:8.2738908,49.9621
END:VEVENT
BEGIN:VEVENT
DTSTART;TZID=Europe/Paris:20220418T193000
DTEND;TZID=Europe/Paris:20220418T210000
DTSTAMP:20260423T040848
CREATED:20171218T090742Z
LAST-MODIFIED:20180108T083306Z
UID:10000334-1650310200-1650315600@www.ekg-hechtsheim.de
SUMMARY:Abend in der Stille
DESCRIPTION:Einmal im Monat findet ein Abend in der Stille in der Regel am 3. Montag im Monat im Gemeindezentrum von 19.30 – 21  Uhr (außer in den Schulferien) statt. \nExerzitien im Alltag sind ein Weg\, auf dem wir einüben können\, den Alltag bewusster und aufmerksamer wahrzunehmen und Gott dort zu entdecken\, wo er sich von uns finden lassen möchte: mitten im Leben. \nAus dem Projekt in der Passionszeit 2016 ist der Wunsch entstanden\, regelmäßig\, einmal im Monat\, solche „Exerzitien im Alltag“ miteinander zu teilen und in Gemeinschaft einen solchen Weg zu gehen. \nEinmal im Monat sind alle Interessierten eingeladen zusammen zu kommen: zum Einüben verschiedener Formen von Zeiten der Stille\, Meditation über biblischen Worten und Gebet\, zum Austausch über die Erfahrungen. \nTermine in 2018: 22. Januar\, 19. Februar\,  19. März\, 23. April 21. Mai\, 18. Juni\, im Juli Pause wegen Sommerferien. \nBequeme Kleidung\, möglicherweise eine wärmende Decke oder Wollsocken\, um im Sitzen und Schweigen einen warmen Rücken und warme Füße zu behalten\, bringen Sie bitte dazu von zu Hause mit.
URL:https://www.ekg-hechtsheim.de/veranstaltungen/abend-in-der-stille-mit-den-perlen-des-glaubens-beten-und-ueber-gott-und-die-welt-gemeinsam-nachsinnen-2018-04-16/2022-04-18/
LOCATION:16:00 - \, Deutschland
CATEGORIES:Gottesdienste
END:VEVENT
BEGIN:VEVENT
DTSTART;TZID=Europe/Paris:20220422T180000
DTEND;TZID=Europe/Paris:20220422T180000
DTSTAMP:20260423T040848
CREATED:20220307T120257Z
LAST-MODIFIED:20220307T120308Z
UID:10000975-1650650400-1650650400@www.ekg-hechtsheim.de
SUMMARY:Lust auf Singen?! - Singen von weltlichen und geistlichen Liedern mit Orgelbegleitung von Carolin Kaiser
DESCRIPTION:
URL:https://www.ekg-hechtsheim.de/veranstaltungen/lust-auf-singen-singen-von-weltlichen-und-geistlichen-liedern-mit-orgelbegleitung-von-carolin-kaiser-2/
LOCATION:Gemeindezentrum Lion-Feuchtwanger-Straße\, Lion-Feuchtwanger Str. 14\, Mainz\, 55129\, Deutschland
CATEGORIES:Gemeinde
GEO:49.9621;8.2738908
X-APPLE-STRUCTURED-LOCATION;VALUE=URI;X-ADDRESS=Gemeindezentrum Lion-Feuchtwanger-Straße Lion-Feuchtwanger Str. 14 Mainz 55129 Deutschland;X-APPLE-RADIUS=500;X-TITLE=Lion-Feuchtwanger Str. 14:geo:8.2738908,49.9621
END:VEVENT
BEGIN:VEVENT
DTSTART;TZID=Europe/Paris:20220423T160000
DTEND;TZID=Europe/Paris:20220423T190000
DTSTAMP:20260423T040848
CREATED:20220320T214514Z
LAST-MODIFIED:20220320T214514Z
UID:10001613-1650729600-1650740400@www.ekg-hechtsheim.de
SUMMARY:Ласкаво просимо до зустріч кафе – Café der Begegnung
DESCRIPTION:Ласкаво просимо \nUnsere Ökumenische Flüchtlingsinitiative „Ankommen in Hechtsheim“ (AIH) öffnet wieder das Café der Begegnung im Gemeindezentrum Lion-Feuchtwanger-Str. 14. \nErstmals am 02.04.22 (Achtung: 17.00 Uhr) und dann wieder am 23.04.22 um 16.00 Uhr bieten wir wieder einen Treffpunkt für Geflüchtete und „Alt-Hechtsheimer“.\nder danach jeden ersten und dritten Samstag im Monat stattfinden wird. \nBei Kaffee und Kuchen soll Gelegenheit zu Gesprächen sein\, den Geflüchteten ein bißchen Nähe\, ein „Nachbar-sein-Gefühl“ zu geben\, ihnen bei Fragen und Problemen zur Seite zu stehen. \nDa es wegen der Feiertage usw. mal zu Terminverschiebungen kommen kann\, schauen Sie bitte in jedem Fall auch in den Veranstaltungskalender (–> Aktuelles – Veranstaltungen). \nWir laden alle Interessierten ein mal reinzuschnuppern ……
URL:https://www.ekg-hechtsheim.de/veranstaltungen/%d0%bb%d0%b0%d1%81%d0%ba%d0%b0%d0%b2%d0%be-%d0%bf%d1%80%d0%be%d1%81%d0%b8%d0%bc%d0%be-%d0%b4%d0%be-%d0%b7%d1%83%d1%81%d1%82%d1%80%d1%96%d1%87-%d0%ba%d0%b0%d1%84%d0%b5-cafe-der-begegnung-2/
LOCATION:Gemeindezentrum Lion-Feuchtwanger-Straße\, Lion-Feuchtwanger Str. 14\, Mainz\, 55129\, Deutschland
CATEGORIES:Kultur,Sonstiges
ORGANIZER;CN="%C3%96kumenische Fl%C3%BCchtlingsinitiative AIH":MAILTO:ankommen.in.hechtsheim@gmail.com
GEO:49.9621;8.2738908
X-APPLE-STRUCTURED-LOCATION;VALUE=URI;X-ADDRESS=Gemeindezentrum Lion-Feuchtwanger-Straße Lion-Feuchtwanger Str. 14 Mainz 55129 Deutschland;X-APPLE-RADIUS=500;X-TITLE=Lion-Feuchtwanger Str. 14:geo:8.2738908,49.9621
END:VEVENT
BEGIN:VEVENT
DTSTART;TZID=Europe/Paris:20220424T100000
DTEND;TZID=Europe/Paris:20220424T100000
DTSTAMP:20260423T040848
CREATED:20220314T091900Z
LAST-MODIFIED:20220314T091900Z
UID:10001610-1650794400-1650794400@www.ekg-hechtsheim.de
SUMMARY:Gottesdienst
DESCRIPTION:
URL:https://www.ekg-hechtsheim.de/veranstaltungen/gottesdienst-186/
LOCATION:Gemeindezentrum Lion-Feuchtwanger-Straße\, Lion-Feuchtwanger Str. 14\, Mainz\, 55129\, Deutschland
CATEGORIES:Gottesdienste
GEO:49.9621;8.2738908
X-APPLE-STRUCTURED-LOCATION;VALUE=URI;X-ADDRESS=Gemeindezentrum Lion-Feuchtwanger-Straße Lion-Feuchtwanger Str. 14 Mainz 55129 Deutschland;X-APPLE-RADIUS=500;X-TITLE=Lion-Feuchtwanger Str. 14:geo:8.2738908,49.9621
END:VEVENT
BEGIN:VEVENT
DTSTART;TZID=Europe/Paris:20220424T110000
DTEND;TZID=Europe/Paris:20220424T110000
DTSTAMP:20260423T040848
CREATED:20220314T092003Z
LAST-MODIFIED:20220314T092003Z
UID:10001612-1650798000-1650798000@www.ekg-hechtsheim.de
SUMMARY:KEIN Gottesdienst im Gemeindehaus
DESCRIPTION:
URL:https://www.ekg-hechtsheim.de/veranstaltungen/kein-gottesdienst-im-gemeindehaus-5/
LOCATION:Gemeindehaus Frankenhöhe\, Bodenheimer Straße 58\, Mainz\, 55129\, Deutschland
CATEGORIES:Gottesdienste
GEO:49.9667007;8.2872534
X-APPLE-STRUCTURED-LOCATION;VALUE=URI;X-ADDRESS=Gemeindehaus Frankenhöhe Bodenheimer Straße 58 Mainz 55129 Deutschland;X-APPLE-RADIUS=500;X-TITLE=Bodenheimer Straße 58:geo:8.2872534,49.9667007
END:VEVENT
BEGIN:VEVENT
DTSTART;TZID=Europe/Paris:20220428T160000
DTEND;TZID=Europe/Paris:20220428T160000
DTSTAMP:20260423T040848
CREATED:20220406T092027Z
LAST-MODIFIED:20220406T092027Z
UID:10000995-1651161600-1651161600@www.ekg-hechtsheim.de
SUMMARY:Werktagsgottesdienst mit Abendmahl
DESCRIPTION:
URL:https://www.ekg-hechtsheim.de/veranstaltungen/werktagsgottesdienst-mit-abendmahl-64/
LOCATION:16:00 - \, Deutschland
CATEGORIES:Gottesdienste
END:VEVENT
BEGIN:VEVENT
DTSTART;TZID=Europe/Paris:20220429T180000
DTEND;TZID=Europe/Paris:20220429T180000
DTSTAMP:20260423T040848
CREATED:20220330T084643Z
LAST-MODIFIED:20220404T103956Z
UID:10001614-1651255200-1651255200@www.ekg-hechtsheim.de
SUMMARY:Musikalische Abendandacht zum Wochenausklang mit Organistin Carolin Kaiser
DESCRIPTION:
URL:https://www.ekg-hechtsheim.de/veranstaltungen/musikalische-abendandacht-zum-wochenausklang-3/
LOCATION:Gemeindezentrum Lion-Feuchtwanger-Straße\, Lion-Feuchtwanger Str. 14\, Mainz\, 55129\, Deutschland
CATEGORIES:Gemeinde,Gottesdienste
GEO:49.9621;8.2738908
X-APPLE-STRUCTURED-LOCATION;VALUE=URI;X-ADDRESS=Gemeindezentrum Lion-Feuchtwanger-Straße Lion-Feuchtwanger Str. 14 Mainz 55129 Deutschland;X-APPLE-RADIUS=500;X-TITLE=Lion-Feuchtwanger Str. 14:geo:8.2738908,49.9621
END:VEVENT
END:VCALENDAR