BEGIN:VCALENDAR
VERSION:2.0
PRODID:-//Evangelische Kirchengemeinde Mainz-Hechtsheim - ECPv6.15.20//NONSGML v1.0//EN
CALSCALE:GREGORIAN
METHOD:PUBLISH
X-ORIGINAL-URL:https://www.ekg-hechtsheim.de
X-WR-CALDESC:Veranstaltungen für Evangelische Kirchengemeinde Mainz-Hechtsheim
REFRESH-INTERVAL;VALUE=DURATION:PT1H
X-Robots-Tag:noindex
X-PUBLISHED-TTL:PT1H
BEGIN:VTIMEZONE
TZID:Europe/Paris
BEGIN:DAYLIGHT
TZOFFSETFROM:+0100
TZOFFSETTO:+0200
TZNAME:CEST
DTSTART:20210328T010000
END:DAYLIGHT
BEGIN:STANDARD
TZOFFSETFROM:+0200
TZOFFSETTO:+0100
TZNAME:CET
DTSTART:20211031T010000
END:STANDARD
BEGIN:DAYLIGHT
TZOFFSETFROM:+0100
TZOFFSETTO:+0200
TZNAME:CEST
DTSTART:20220327T010000
END:DAYLIGHT
BEGIN:STANDARD
TZOFFSETFROM:+0200
TZOFFSETTO:+0100
TZNAME:CET
DTSTART:20221030T010000
END:STANDARD
BEGIN:DAYLIGHT
TZOFFSETFROM:+0100
TZOFFSETTO:+0200
TZNAME:CEST
DTSTART:20230326T010000
END:DAYLIGHT
BEGIN:STANDARD
TZOFFSETFROM:+0200
TZOFFSETTO:+0100
TZNAME:CET
DTSTART:20231029T010000
END:STANDARD
END:VTIMEZONE
BEGIN:VEVENT
DTSTART;TZID=Europe/Paris:20220102T170000
DTEND;TZID=Europe/Paris:20220102T170000
DTSTAMP:20260423T075818
CREATED:20211130T102851Z
LAST-MODIFIED:20211222T095812Z
UID:10001573-1641142800-1641142800@www.ekg-hechtsheim.de
SUMMARY:Ökumenischer Neujahrsgottesdienst im Gemeindezentrum
DESCRIPTION:
URL:https://www.ekg-hechtsheim.de/veranstaltungen/oekumenischer-neujahrsgottesdienst-im-gemeindezentrum-im-anschluss-oekumenischer-neujahrsempfang-mit-umtrunk/
LOCATION:Gemeindezentrum Lion-Feuchtwanger-Straße\, Lion-Feuchtwanger Str. 14\, Mainz\, 55129\, Deutschland
CATEGORIES:Gemeinde,Gottesdienste
GEO:49.9621;8.2738908
X-APPLE-STRUCTURED-LOCATION;VALUE=URI;X-ADDRESS=Gemeindezentrum Lion-Feuchtwanger-Straße Lion-Feuchtwanger Str. 14 Mainz 55129 Deutschland;X-APPLE-RADIUS=500;X-TITLE=Lion-Feuchtwanger Str. 14:geo:8.2738908,49.9621
END:VEVENT
BEGIN:VEVENT
DTSTART;TZID=Europe/Paris:20220106T160000
DTEND;TZID=Europe/Paris:20220106T160000
DTSTAMP:20260423T075818
CREATED:20211222T095934Z
LAST-MODIFIED:20211222T095934Z
UID:10001577-1641484800-1641484800@www.ekg-hechtsheim.de
SUMMARY:Werktagsgottesdienst mit Abendmahl
DESCRIPTION:
URL:https://www.ekg-hechtsheim.de/veranstaltungen/werktagsgottesdienst-mit-abendmahl-56/
LOCATION:16:00 - \, Deutschland
CATEGORIES:Gottesdienste
END:VEVENT
BEGIN:VEVENT
DTSTART;TZID=Europe/Paris:20220109T100000
DTEND;TZID=Europe/Paris:20220109T100000
DTSTAMP:20260423T075818
CREATED:20211222T100049Z
LAST-MODIFIED:20211222T100049Z
UID:10001578-1641722400-1641722400@www.ekg-hechtsheim.de
SUMMARY:Gottesdienst
DESCRIPTION:
URL:https://www.ekg-hechtsheim.de/veranstaltungen/gottesdienst-179/
LOCATION:Gemeindezentrum Lion-Feuchtwanger-Straße\, Lion-Feuchtwanger Str. 14\, Mainz\, 55129\, Deutschland
CATEGORIES:Gottesdienste
GEO:49.9621;8.2738908
X-APPLE-STRUCTURED-LOCATION;VALUE=URI;X-ADDRESS=Gemeindezentrum Lion-Feuchtwanger-Straße Lion-Feuchtwanger Str. 14 Mainz 55129 Deutschland;X-APPLE-RADIUS=500;X-TITLE=Lion-Feuchtwanger Str. 14:geo:8.2738908,49.9621
END:VEVENT
BEGIN:VEVENT
DTSTART;TZID=Europe/Paris:20220109T110000
DTEND;TZID=Europe/Paris:20220109T110000
DTSTAMP:20260423T075818
CREATED:20211222T100233Z
LAST-MODIFIED:20211222T100233Z
UID:10001579-1641726000-1641726000@www.ekg-hechtsheim.de
SUMMARY:Kinderkirche
DESCRIPTION:
URL:https://www.ekg-hechtsheim.de/veranstaltungen/kinderkirche-23/
LOCATION:Gemeindehaus Frankenhöhe\, Bodenheimer Straße 58\, Mainz\, 55129\, Deutschland
CATEGORIES:Gemeinde,Gottesdienste
GEO:49.9667007;8.2872534
X-APPLE-STRUCTURED-LOCATION;VALUE=URI;X-ADDRESS=Gemeindehaus Frankenhöhe Bodenheimer Straße 58 Mainz 55129 Deutschland;X-APPLE-RADIUS=500;X-TITLE=Bodenheimer Straße 58:geo:8.2872534,49.9667007
END:VEVENT
BEGIN:VEVENT
DTSTART;TZID=Europe/Paris:20220116T100000
DTEND;TZID=Europe/Paris:20220116T100000
DTSTAMP:20260423T075818
CREATED:20211222T100334Z
LAST-MODIFIED:20211222T100334Z
UID:10001580-1642327200-1642327200@www.ekg-hechtsheim.de
SUMMARY:Gottesdienst
DESCRIPTION:
URL:https://www.ekg-hechtsheim.de/veranstaltungen/gottesdienst-180/
LOCATION:Gemeindezentrum Lion-Feuchtwanger-Straße\, Lion-Feuchtwanger Str. 14\, Mainz\, 55129\, Deutschland
CATEGORIES:Gottesdienste
GEO:49.9621;8.2738908
X-APPLE-STRUCTURED-LOCATION;VALUE=URI;X-ADDRESS=Gemeindezentrum Lion-Feuchtwanger-Straße Lion-Feuchtwanger Str. 14 Mainz 55129 Deutschland;X-APPLE-RADIUS=500;X-TITLE=Lion-Feuchtwanger Str. 14:geo:8.2738908,49.9621
END:VEVENT
BEGIN:VEVENT
DTSTART;TZID=Europe/Paris:20220116T110000
DTEND;TZID=Europe/Paris:20220116T110000
DTSTAMP:20260423T075818
CREATED:20211222T100456Z
LAST-MODIFIED:20211222T100530Z
UID:10001581-1642330800-1642330800@www.ekg-hechtsheim.de
SUMMARY:Kein Gottesdienst im Gemeindehaus
DESCRIPTION:
URL:https://www.ekg-hechtsheim.de/veranstaltungen/kein-gottesdienst-im-gemeindehaus-4/
LOCATION:Gemeindehaus Frankenhöhe\, Bodenheimer Straße 58\, Mainz\, 55129\, Deutschland
GEO:49.9667007;8.2872534
X-APPLE-STRUCTURED-LOCATION;VALUE=URI;X-ADDRESS=Gemeindehaus Frankenhöhe Bodenheimer Straße 58 Mainz 55129 Deutschland;X-APPLE-RADIUS=500;X-TITLE=Bodenheimer Straße 58:geo:8.2872534,49.9667007
END:VEVENT
BEGIN:VEVENT
DTSTART;TZID=Europe/Paris:20220117T193000
DTEND;TZID=Europe/Paris:20220117T210000
DTSTAMP:20260423T075818
CREATED:20171218T090742Z
LAST-MODIFIED:20180108T083306Z
UID:10000331-1642447800-1642453200@www.ekg-hechtsheim.de
SUMMARY:Abend in der Stille
DESCRIPTION:Einmal im Monat findet ein Abend in der Stille in der Regel am 3. Montag im Monat im Gemeindezentrum von 19.30 – 21  Uhr (außer in den Schulferien) statt. \nExerzitien im Alltag sind ein Weg\, auf dem wir einüben können\, den Alltag bewusster und aufmerksamer wahrzunehmen und Gott dort zu entdecken\, wo er sich von uns finden lassen möchte: mitten im Leben. \nAus dem Projekt in der Passionszeit 2016 ist der Wunsch entstanden\, regelmäßig\, einmal im Monat\, solche „Exerzitien im Alltag“ miteinander zu teilen und in Gemeinschaft einen solchen Weg zu gehen. \nEinmal im Monat sind alle Interessierten eingeladen zusammen zu kommen: zum Einüben verschiedener Formen von Zeiten der Stille\, Meditation über biblischen Worten und Gebet\, zum Austausch über die Erfahrungen. \nTermine in 2018: 22. Januar\, 19. Februar\,  19. März\, 23. April 21. Mai\, 18. Juni\, im Juli Pause wegen Sommerferien. \nBequeme Kleidung\, möglicherweise eine wärmende Decke oder Wollsocken\, um im Sitzen und Schweigen einen warmen Rücken und warme Füße zu behalten\, bringen Sie bitte dazu von zu Hause mit.
URL:https://www.ekg-hechtsheim.de/veranstaltungen/abend-in-der-stille-mit-den-perlen-des-glaubens-beten-und-ueber-gott-und-die-welt-gemeinsam-nachsinnen-2018-04-16/2022-01-17/
LOCATION:16:00 - \, Deutschland
CATEGORIES:Gottesdienste
END:VEVENT
BEGIN:VEVENT
DTSTART;TZID=Europe/Paris:20220120T160000
DTEND;TZID=Europe/Paris:20220120T160000
DTSTAMP:20260423T075818
CREATED:20211222T100640Z
LAST-MODIFIED:20220119T105714Z
UID:10001582-1642694400-1642694400@www.ekg-hechtsheim.de
SUMMARY:Werktagsgottesdienst mit Abendmahl
DESCRIPTION:
URL:https://www.ekg-hechtsheim.de/veranstaltungen/werktagsgottesdienst-mit-abendmahl-57/
LOCATION:16:00 - \, Deutschland
CATEGORIES:Gottesdienste
END:VEVENT
BEGIN:VEVENT
DTSTART;TZID=Europe/Paris:20220121T180000
DTEND;TZID=Europe/Paris:20220121T183000
DTSTAMP:20260423T075818
CREATED:20210311T175841Z
LAST-MODIFIED:20220113T101247Z
UID:10001486-1642788000-1642789800@www.ekg-hechtsheim.de
SUMMARY:Musikalische Abendandacht zum Wochenausklang
DESCRIPTION:Musikalischen Abendandacht zum Wochenausklang im Evangelischen Gemeindezentrum\, Lion-Feuchtwanger-Str.14-16\, ein Mal im Monat freitags von 18 bis 18.30 Uhr. Carolin Kaiser (Orgel) und Gäste spielen zu ausgesuchten Psalmversen. \n  \n\n\n19. November: Orgel: Carolin Kaiser\, Geige: Lea Landmann (Sonaten\, Werke unterschiedlicher Epochen\,von stimmungsvoll bis klassisch) \n10. Dezember: Vocalquartett „Quartuos“ mit Liedern rund um die Adventszeit \n21. Januar: Orgel und Fagott \n18. Februar: Orgel und Trompete \n\nDie Veranstaltungen finden unter den aktuell geltenden Hygieneregeln statt.\nEine Anmeldung ist nicht erforderlich. \n 
URL:https://www.ekg-hechtsheim.de/veranstaltungen/musikalische-abendandacht-zum-wochenausklang-2/2022-01-21/
LOCATION:Gemeindezentrum Lion-Feuchtwanger-Straße\, Lion-Feuchtwanger Str. 14\, Mainz\, 55129\, Deutschland
CATEGORIES:Gottesdienste
GEO:49.9621;8.2738908
X-APPLE-STRUCTURED-LOCATION;VALUE=URI;X-ADDRESS=Gemeindezentrum Lion-Feuchtwanger-Straße Lion-Feuchtwanger Str. 14 Mainz 55129 Deutschland;X-APPLE-RADIUS=500;X-TITLE=Lion-Feuchtwanger Str. 14:geo:8.2738908,49.9621
END:VEVENT
BEGIN:VEVENT
DTSTART;TZID=Europe/Paris:20220123T100000
DTEND;TZID=Europe/Paris:20220123T100000
DTSTAMP:20260423T075818
CREATED:20211222T100843Z
LAST-MODIFIED:20211222T100843Z
UID:10001583-1642932000-1642932000@www.ekg-hechtsheim.de
SUMMARY:Gottesdienst
DESCRIPTION:
URL:https://www.ekg-hechtsheim.de/veranstaltungen/gottesdienst-181/
LOCATION:Gemeindezentrum Lion-Feuchtwanger-Straße\, Lion-Feuchtwanger Str. 14\, Mainz\, 55129\, Deutschland
CATEGORIES:Gottesdienste
GEO:49.9621;8.2738908
X-APPLE-STRUCTURED-LOCATION;VALUE=URI;X-ADDRESS=Gemeindezentrum Lion-Feuchtwanger-Straße Lion-Feuchtwanger Str. 14 Mainz 55129 Deutschland;X-APPLE-RADIUS=500;X-TITLE=Lion-Feuchtwanger Str. 14:geo:8.2738908,49.9621
END:VEVENT
BEGIN:VEVENT
DTSTART;TZID=Europe/Paris:20220123T110000
DTEND;TZID=Europe/Paris:20220123T110000
DTSTAMP:20260423T075818
CREATED:20211130T103823Z
LAST-MODIFIED:20220108T101106Z
UID:10001574-1642935600-1642935600@www.ekg-hechtsheim.de
SUMMARY:Gottesdienst zum Jahresauftakt mit Ausstellungseröffnung und musikalischer Gestaltung durch das Treppenquartett
DESCRIPTION:Wir laden ein zu einem Gottesdienst zum Jahresanfang: „ZeitGedanken“ mit Malerei und Objekten von Anne Arend-Schulten am Sonntag\, 23. Januar 2022\, um 11 Uhr im evangelischen Gemeindehaus Frankenhöhe\, Bodenheimer Straße 58. \n\nDie Eröffnung der Ausstellung findet im Rahmen des Gottesdienstes statt. Die Künstlerin ist anwesend.\n\nDer Gottesdienst mit Ausstellungseröffnung  wird musikalisch vom „Treppenquartett” begleitet.\n\nDie Veranstaltung erfolgt unter 3G-Regeln\, dabei steht nur eine begrenzte Platzzahl zur Verfügung. Bitte melden Sie sich daher nach Möglichkeit an per E-Mail an sfeucht-muench@t-online.de.\nGeöffnet ist die Ausstellung ab 23. Januar mittwochs von 16 bis 18 Uhr oder nach Vereinbarung bis einschließlich 13. Februar 2022.Wir bitten um Anmeldung per Telefon oder E-Mail bei Brigitte Zander 06131 58 26 01 | zander.malerei@t-online.de oder bei Pfarrerin Sabine Feucht-Münch | 06131 50 46 59 | pfrin.feucht-muench@ekg-hechtsheim.de. \nAusstellung und Gottesdienst finden nach aktuell geltenden Corona-Bestimmungen statt!
URL:https://www.ekg-hechtsheim.de/veranstaltungen/gottesdienst-zum-jahresauftakt-mit-ausstellungseroeffnung-und-musikalischer-gestaltung-durch-das-treppenquartett/
LOCATION:Gemeindehaus Frankenhöhe\, Bodenheimer Straße 58\, Mainz\, 55129\, Deutschland
CATEGORIES:Gemeinde,Gottesdienste
GEO:49.9667007;8.2872534
X-APPLE-STRUCTURED-LOCATION;VALUE=URI;X-ADDRESS=Gemeindehaus Frankenhöhe Bodenheimer Straße 58 Mainz 55129 Deutschland;X-APPLE-RADIUS=500;X-TITLE=Bodenheimer Straße 58:geo:8.2872534,49.9667007
END:VEVENT
BEGIN:VEVENT
DTSTART;TZID=Europe/Paris:20220130T100000
DTEND;TZID=Europe/Paris:20220130T100000
DTSTAMP:20260423T075818
CREATED:20211222T101013Z
LAST-MODIFIED:20211222T101013Z
UID:10001585-1643536800-1643536800@www.ekg-hechtsheim.de
SUMMARY:Gottesdienst
DESCRIPTION:
URL:https://www.ekg-hechtsheim.de/veranstaltungen/gottesdienst-182/
LOCATION:Gemeindezentrum Lion-Feuchtwanger-Straße\, Lion-Feuchtwanger Str. 14\, Mainz\, 55129\, Deutschland
CATEGORIES:Gottesdienste
GEO:49.9621;8.2738908
X-APPLE-STRUCTURED-LOCATION;VALUE=URI;X-ADDRESS=Gemeindezentrum Lion-Feuchtwanger-Straße Lion-Feuchtwanger Str. 14 Mainz 55129 Deutschland;X-APPLE-RADIUS=500;X-TITLE=Lion-Feuchtwanger Str. 14:geo:8.2738908,49.9621
END:VEVENT
BEGIN:VEVENT
DTSTART;TZID=Europe/Paris:20220130T180000
DTEND;TZID=Europe/Paris:20220130T180000
DTSTAMP:20260423T075818
CREATED:20210727T094425Z
LAST-MODIFIED:20210727T094425Z
UID:10000897-1643565600-1643565600@www.ekg-hechtsheim.de
SUMMARY:Literatur-Abend-Gottesdienst zum Thema Carl Zuckmayer
DESCRIPTION:
URL:https://www.ekg-hechtsheim.de/veranstaltungen/literatur-abend-gottesdienst-zum-thema-carl-zuckmayer/
LOCATION:Gemeindehaus Frankenhöhe\, Bodenheimer Straße 58\, Mainz\, 55129\, Deutschland
CATEGORIES:Gemeinde,Gottesdienste
GEO:49.9667007;8.2872534
X-APPLE-STRUCTURED-LOCATION;VALUE=URI;X-ADDRESS=Gemeindehaus Frankenhöhe Bodenheimer Straße 58 Mainz 55129 Deutschland;X-APPLE-RADIUS=500;X-TITLE=Bodenheimer Straße 58:geo:8.2872534,49.9667007
END:VEVENT
END:VCALENDAR