BEGIN:VCALENDAR
VERSION:2.0
PRODID:-//Evangelische Kirchengemeinde Mainz-Hechtsheim - ECPv6.15.20//NONSGML v1.0//EN
CALSCALE:GREGORIAN
METHOD:PUBLISH
X-WR-CALNAME:Evangelische Kirchengemeinde Mainz-Hechtsheim
X-ORIGINAL-URL:https://www.ekg-hechtsheim.de
X-WR-CALDESC:Veranstaltungen für Evangelische Kirchengemeinde Mainz-Hechtsheim
REFRESH-INTERVAL;VALUE=DURATION:PT1H
X-Robots-Tag:noindex
X-PUBLISHED-TTL:PT1H
BEGIN:VTIMEZONE
TZID:Europe/Paris
BEGIN:DAYLIGHT
TZOFFSETFROM:+0100
TZOFFSETTO:+0200
TZNAME:CEST
DTSTART:20200329T010000
END:DAYLIGHT
BEGIN:STANDARD
TZOFFSETFROM:+0200
TZOFFSETTO:+0100
TZNAME:CET
DTSTART:20201025T010000
END:STANDARD
BEGIN:DAYLIGHT
TZOFFSETFROM:+0100
TZOFFSETTO:+0200
TZNAME:CEST
DTSTART:20210328T010000
END:DAYLIGHT
BEGIN:STANDARD
TZOFFSETFROM:+0200
TZOFFSETTO:+0100
TZNAME:CET
DTSTART:20211031T010000
END:STANDARD
BEGIN:DAYLIGHT
TZOFFSETFROM:+0100
TZOFFSETTO:+0200
TZNAME:CEST
DTSTART:20220327T010000
END:DAYLIGHT
BEGIN:STANDARD
TZOFFSETFROM:+0200
TZOFFSETTO:+0100
TZNAME:CET
DTSTART:20221030T010000
END:STANDARD
END:VTIMEZONE
BEGIN:VEVENT
DTSTART;TZID=Europe/Paris:20211205T100000
DTEND;TZID=Europe/Paris:20211205T100000
DTSTAMP:20260423T092237
CREATED:20211013T081825Z
LAST-MODIFIED:20211013T081825Z
UID:10001565-1638698400-1638698400@www.ekg-hechtsheim.de
SUMMARY:Gottesdienst am 2. Advent
DESCRIPTION:
URL:https://www.ekg-hechtsheim.de/veranstaltungen/gottesdienst-am-2-advent/
LOCATION:Gemeindezentrum Lion-Feuchtwanger-Straße\, Lion-Feuchtwanger Str. 14\, Mainz\, 55129\, Deutschland
CATEGORIES:Gottesdienste
GEO:49.9621;8.2738908
X-APPLE-STRUCTURED-LOCATION;VALUE=URI;X-ADDRESS=Gemeindezentrum Lion-Feuchtwanger-Straße Lion-Feuchtwanger Str. 14 Mainz 55129 Deutschland;X-APPLE-RADIUS=500;X-TITLE=Lion-Feuchtwanger Str. 14:geo:8.2738908,49.9621
END:VEVENT
BEGIN:VEVENT
DTSTART;TZID=Europe/Paris:20211205T110000
DTEND;TZID=Europe/Paris:20211205T110000
DTSTAMP:20260423T092237
CREATED:20211013T081935Z
LAST-MODIFIED:20211013T081935Z
UID:10001566-1638702000-1638702000@www.ekg-hechtsheim.de
SUMMARY:Gottesdienst am 2. Advent
DESCRIPTION:ottesdienst
URL:https://www.ekg-hechtsheim.de/veranstaltungen/gottesdienst-am-2-advent-2/
LOCATION:Gemeindehaus Frankenhöhe\, Bodenheimer Straße 58\, Mainz\, 55129\, Deutschland
CATEGORIES:Gottesdienste
GEO:49.9667007;8.2872534
X-APPLE-STRUCTURED-LOCATION;VALUE=URI;X-ADDRESS=Gemeindehaus Frankenhöhe Bodenheimer Straße 58 Mainz 55129 Deutschland;X-APPLE-RADIUS=500;X-TITLE=Bodenheimer Straße 58:geo:8.2872534,49.9667007
END:VEVENT
BEGIN:VEVENT
DTSTART;TZID=Europe/Paris:20211209T160000
DTEND;TZID=Europe/Paris:20211209T160000
DTSTAMP:20260423T092237
CREATED:20210922T083039Z
LAST-MODIFIED:20210922T083039Z
UID:10001562-1639065600-1639065600@www.ekg-hechtsheim.de
SUMMARY:Advents-Gottesdienst mit Abendmahl
DESCRIPTION:
URL:https://www.ekg-hechtsheim.de/veranstaltungen/advents-gottesdienst-mit-abendmahl/
LOCATION:16:00 - \, Deutschland
CATEGORIES:Gottesdienste
END:VEVENT
BEGIN:VEVENT
DTSTART;TZID=Europe/Paris:20211210T180000
DTEND;TZID=Europe/Paris:20211210T183000
DTSTAMP:20260423T092237
CREATED:20210311T175841Z
LAST-MODIFIED:20220113T101247Z
UID:10001485-1639159200-1639161000@www.ekg-hechtsheim.de
SUMMARY:Musikalische Abendandacht zum Wochenausklang
DESCRIPTION:Musikalischen Abendandacht zum Wochenausklang im Evangelischen Gemeindezentrum\, Lion-Feuchtwanger-Str.14-16\, ein Mal im Monat freitags von 18 bis 18.30 Uhr. Carolin Kaiser (Orgel) und Gäste spielen zu ausgesuchten Psalmversen. \n  \n\n\n19. November: Orgel: Carolin Kaiser\, Geige: Lea Landmann (Sonaten\, Werke unterschiedlicher Epochen\,von stimmungsvoll bis klassisch) \n10. Dezember: Vocalquartett „Quartuos“ mit Liedern rund um die Adventszeit \n21. Januar: Orgel und Fagott \n18. Februar: Orgel und Trompete \n\nDie Veranstaltungen finden unter den aktuell geltenden Hygieneregeln statt.\nEine Anmeldung ist nicht erforderlich. \n 
URL:https://www.ekg-hechtsheim.de/veranstaltungen/musikalische-abendandacht-zum-wochenausklang-2/2021-12-10/
LOCATION:Gemeindezentrum Lion-Feuchtwanger-Straße\, Lion-Feuchtwanger Str. 14\, Mainz\, 55129\, Deutschland
CATEGORIES:Gottesdienste
GEO:49.9621;8.2738908
X-APPLE-STRUCTURED-LOCATION;VALUE=URI;X-ADDRESS=Gemeindezentrum Lion-Feuchtwanger-Straße Lion-Feuchtwanger Str. 14 Mainz 55129 Deutschland;X-APPLE-RADIUS=500;X-TITLE=Lion-Feuchtwanger Str. 14:geo:8.2738908,49.9621
END:VEVENT
BEGIN:VEVENT
DTSTART;TZID=Europe/Paris:20211212T100000
DTEND;TZID=Europe/Paris:20211212T100000
DTSTAMP:20260423T092237
CREATED:20211013T082044Z
LAST-MODIFIED:20211013T082044Z
UID:10001569-1639303200-1639303200@www.ekg-hechtsheim.de
SUMMARY:Gottesdienst am 3. Advent mit Abendmahl
DESCRIPTION:
URL:https://www.ekg-hechtsheim.de/veranstaltungen/gottesdienst-am-3-advent-mit-abendmahl/
LOCATION:Gemeindezentrum Lion-Feuchtwanger-Straße\, Lion-Feuchtwanger Str. 14\, Mainz\, 55129\, Deutschland
CATEGORIES:Gottesdienste
GEO:49.9621;8.2738908
X-APPLE-STRUCTURED-LOCATION;VALUE=URI;X-ADDRESS=Gemeindezentrum Lion-Feuchtwanger-Straße Lion-Feuchtwanger Str. 14 Mainz 55129 Deutschland;X-APPLE-RADIUS=500;X-TITLE=Lion-Feuchtwanger Str. 14:geo:8.2738908,49.9621
END:VEVENT
BEGIN:VEVENT
DTSTART;TZID=Europe/Paris:20211212T110000
DTEND;TZID=Europe/Paris:20211212T110000
DTSTAMP:20260423T092237
CREATED:20211013T082147Z
LAST-MODIFIED:20211013T082147Z
UID:10001570-1639306800-1639306800@www.ekg-hechtsheim.de
SUMMARY:Advents-Kinderkirche
DESCRIPTION:
URL:https://www.ekg-hechtsheim.de/veranstaltungen/advents-kinderkirche/
LOCATION:Gemeindehaus Frankenhöhe\, Bodenheimer Straße 58\, Mainz\, 55129\, Deutschland
CATEGORIES:Gottesdienste
GEO:49.9667007;8.2872534
X-APPLE-STRUCTURED-LOCATION;VALUE=URI;X-ADDRESS=Gemeindehaus Frankenhöhe Bodenheimer Straße 58 Mainz 55129 Deutschland;X-APPLE-RADIUS=500;X-TITLE=Bodenheimer Straße 58:geo:8.2872534,49.9667007
END:VEVENT
BEGIN:VEVENT
DTSTART;TZID=Europe/Paris:20211219T100000
DTEND;TZID=Europe/Paris:20211219T100000
DTSTAMP:20260423T092237
CREATED:20211130T094458Z
LAST-MODIFIED:20211130T094458Z
UID:10001571-1639908000-1639908000@www.ekg-hechtsheim.de
SUMMARY:Gottesdienst am 4. Advent
DESCRIPTION:
URL:https://www.ekg-hechtsheim.de/veranstaltungen/gottesdienst-am-4-advent/
LOCATION:Gemeindezentrum Lion-Feuchtwanger-Straße\, Lion-Feuchtwanger Str. 14\, Mainz\, 55129\, Deutschland
CATEGORIES:Gottesdienste
GEO:49.9621;8.2738908
X-APPLE-STRUCTURED-LOCATION;VALUE=URI;X-ADDRESS=Gemeindezentrum Lion-Feuchtwanger-Straße Lion-Feuchtwanger Str. 14 Mainz 55129 Deutschland;X-APPLE-RADIUS=500;X-TITLE=Lion-Feuchtwanger Str. 14:geo:8.2738908,49.9621
END:VEVENT
BEGIN:VEVENT
DTSTART;TZID=Europe/Paris:20211219T110000
DTEND;TZID=Europe/Paris:20211219T110000
DTSTAMP:20260423T092237
CREATED:20211130T094739Z
LAST-MODIFIED:20211130T094739Z
UID:10000941-1639911600-1639911600@www.ekg-hechtsheim.de
SUMMARY:Gottesdienst mit Abendmahl am 4. Advent
DESCRIPTION:
URL:https://www.ekg-hechtsheim.de/veranstaltungen/gottesdienst-mit-abendmahl-am-4-advent/
LOCATION:Gemeindehaus Frankenhöhe\, Bodenheimer Straße 58\, Mainz\, 55129\, Deutschland
CATEGORIES:Gottesdienste
GEO:49.9667007;8.2872534
X-APPLE-STRUCTURED-LOCATION;VALUE=URI;X-ADDRESS=Gemeindehaus Frankenhöhe Bodenheimer Straße 58 Mainz 55129 Deutschland;X-APPLE-RADIUS=500;X-TITLE=Bodenheimer Straße 58:geo:8.2872534,49.9667007
END:VEVENT
BEGIN:VEVENT
DTSTART;TZID=Europe/Paris:20211220T193000
DTEND;TZID=Europe/Paris:20211220T210000
DTSTAMP:20260423T092237
CREATED:20171218T090742Z
LAST-MODIFIED:20180108T083306Z
UID:10000330-1640028600-1640034000@www.ekg-hechtsheim.de
SUMMARY:Abend in der Stille
DESCRIPTION:Einmal im Monat findet ein Abend in der Stille in der Regel am 3. Montag im Monat im Gemeindezentrum von 19.30 – 21  Uhr (außer in den Schulferien) statt. \nExerzitien im Alltag sind ein Weg\, auf dem wir einüben können\, den Alltag bewusster und aufmerksamer wahrzunehmen und Gott dort zu entdecken\, wo er sich von uns finden lassen möchte: mitten im Leben. \nAus dem Projekt in der Passionszeit 2016 ist der Wunsch entstanden\, regelmäßig\, einmal im Monat\, solche „Exerzitien im Alltag“ miteinander zu teilen und in Gemeinschaft einen solchen Weg zu gehen. \nEinmal im Monat sind alle Interessierten eingeladen zusammen zu kommen: zum Einüben verschiedener Formen von Zeiten der Stille\, Meditation über biblischen Worten und Gebet\, zum Austausch über die Erfahrungen. \nTermine in 2018: 22. Januar\, 19. Februar\,  19. März\, 23. April 21. Mai\, 18. Juni\, im Juli Pause wegen Sommerferien. \nBequeme Kleidung\, möglicherweise eine wärmende Decke oder Wollsocken\, um im Sitzen und Schweigen einen warmen Rücken und warme Füße zu behalten\, bringen Sie bitte dazu von zu Hause mit.
URL:https://www.ekg-hechtsheim.de/veranstaltungen/abend-in-der-stille-mit-den-perlen-des-glaubens-beten-und-ueber-gott-und-die-welt-gemeinsam-nachsinnen-2018-04-16/2021-12-20/
LOCATION:16:00 - \, Deutschland
CATEGORIES:Gottesdienste
END:VEVENT
BEGIN:VEVENT
DTSTART;TZID=Europe/Paris:20211224T150000
DTEND;TZID=Europe/Paris:20211224T150000
DTSTAMP:20260423T092237
CREATED:20211130T095621Z
LAST-MODIFIED:20211130T095621Z
UID:10000942-1640358000-1640358000@www.ekg-hechtsheim.de
SUMMARY:Wiesen-Weihnacht für Familien am Außenaltar des Gemeindezentrums mit Krippenspiel
DESCRIPTION:
URL:https://www.ekg-hechtsheim.de/veranstaltungen/wiesen-weihnacht-fuer-familien-am-aussenaltar-des-gemeindezentrums-mit-krippenspiel/
LOCATION:Gemeindezentrum Lion-Feuchtwanger-Straße\, Lion-Feuchtwanger Str. 14\, Mainz\, 55129\, Deutschland
CATEGORIES:Gottesdienste
GEO:49.9621;8.2738908
X-APPLE-STRUCTURED-LOCATION;VALUE=URI;X-ADDRESS=Gemeindezentrum Lion-Feuchtwanger-Straße Lion-Feuchtwanger Str. 14 Mainz 55129 Deutschland;X-APPLE-RADIUS=500;X-TITLE=Lion-Feuchtwanger Str. 14:geo:8.2738908,49.9621
END:VEVENT
BEGIN:VEVENT
DTSTART;TZID=Europe/Paris:20211224T150000
DTEND;TZID=Europe/Paris:20211224T150000
DTSTAMP:20260423T092237
CREATED:20211130T095806Z
LAST-MODIFIED:20211130T095806Z
UID:10000944-1640358000-1640358000@www.ekg-hechtsheim.de
SUMMARY:Ökumenischer Heiligabend-Gottesdienst in der Seniorenresidenz (nicht öffentlich)
DESCRIPTION:
URL:https://www.ekg-hechtsheim.de/veranstaltungen/oekumenischer-heiligabend-gottesdienst-in-der-seniorenresidenz-nicht-oeffentlich/
LOCATION:16:00 - \, Deutschland
CATEGORIES:Gottesdienste
END:VEVENT
BEGIN:VEVENT
DTSTART;TZID=Europe/Paris:20211224T170000
DTEND;TZID=Europe/Paris:20211224T170000
DTSTAMP:20260423T092237
CREATED:20211130T100154Z
LAST-MODIFIED:20211130T100154Z
UID:10000946-1640365200-1640365200@www.ekg-hechtsheim.de
SUMMARY:Heiligabend-Gottesdienst mit Krippenszenen
DESCRIPTION:
URL:https://www.ekg-hechtsheim.de/veranstaltungen/heiligabend-gottesdienst-mit-krippenszenen/
LOCATION:Gemeindehaus Frankenhöhe\, Bodenheimer Straße 58\, Mainz\, 55129\, Deutschland
CATEGORIES:Gottesdienste
GEO:49.9667007;8.2872534
X-APPLE-STRUCTURED-LOCATION;VALUE=URI;X-ADDRESS=Gemeindehaus Frankenhöhe Bodenheimer Straße 58 Mainz 55129 Deutschland;X-APPLE-RADIUS=500;X-TITLE=Bodenheimer Straße 58:geo:8.2872534,49.9667007
END:VEVENT
BEGIN:VEVENT
DTSTART;TZID=Europe/Paris:20211224T170000
DTEND;TZID=Europe/Paris:20211224T170000
DTSTAMP:20260423T092237
CREATED:20211130T100355Z
LAST-MODIFIED:20211130T100355Z
UID:10000948-1640365200-1640365200@www.ekg-hechtsheim.de
SUMMARY:Wiesen-Weihnacht am Außenaltar des Gemeindezentrums
DESCRIPTION:
URL:https://www.ekg-hechtsheim.de/veranstaltungen/wiesen-weihnacht-am-aussenaltar-des-gemeindezentrums/
LOCATION:Gemeindezentrum Lion-Feuchtwanger-Straße\, Lion-Feuchtwanger Str. 14\, Mainz\, 55129\, Deutschland
CATEGORIES:Gottesdienste
GEO:49.9621;8.2738908
X-APPLE-STRUCTURED-LOCATION;VALUE=URI;X-ADDRESS=Gemeindezentrum Lion-Feuchtwanger-Straße Lion-Feuchtwanger Str. 14 Mainz 55129 Deutschland;X-APPLE-RADIUS=500;X-TITLE=Lion-Feuchtwanger Str. 14:geo:8.2738908,49.9621
END:VEVENT
BEGIN:VEVENT
DTSTART;TZID=Europe/Paris:20211224T223000
DTEND;TZID=Europe/Paris:20211224T223000
DTSTAMP:20260423T092237
CREATED:20211130T100543Z
LAST-MODIFIED:20211130T100543Z
UID:10000950-1640385000-1640385000@www.ekg-hechtsheim.de
SUMMARY:Christmette
DESCRIPTION:
URL:https://www.ekg-hechtsheim.de/veranstaltungen/christmette-5/
LOCATION:Gemeindezentrum Lion-Feuchtwanger-Straße\, Lion-Feuchtwanger Str. 14\, Mainz\, 55129\, Deutschland
CATEGORIES:Gottesdienste
GEO:49.9621;8.2738908
X-APPLE-STRUCTURED-LOCATION;VALUE=URI;X-ADDRESS=Gemeindezentrum Lion-Feuchtwanger-Straße Lion-Feuchtwanger Str. 14 Mainz 55129 Deutschland;X-APPLE-RADIUS=500;X-TITLE=Lion-Feuchtwanger Str. 14:geo:8.2738908,49.9621
END:VEVENT
BEGIN:VEVENT
DTSTART;TZID=Europe/Paris:20211225T100000
DTEND;TZID=Europe/Paris:20211225T100000
DTSTAMP:20260423T092237
CREATED:20211130T100746Z
LAST-MODIFIED:20211130T100746Z
UID:10000952-1640426400-1640426400@www.ekg-hechtsheim.de
SUMMARY:Christfestgottesdienst mit Abendmahl
DESCRIPTION:
URL:https://www.ekg-hechtsheim.de/veranstaltungen/christfestgottesdienst-mit-abendmahl-5/
LOCATION:Gemeindezentrum Lion-Feuchtwanger-Straße\, Lion-Feuchtwanger Str. 14\, Mainz\, 55129\, Deutschland
CATEGORIES:Gottesdienste
GEO:49.9621;8.2738908
X-APPLE-STRUCTURED-LOCATION;VALUE=URI;X-ADDRESS=Gemeindezentrum Lion-Feuchtwanger-Straße Lion-Feuchtwanger Str. 14 Mainz 55129 Deutschland;X-APPLE-RADIUS=500;X-TITLE=Lion-Feuchtwanger Str. 14:geo:8.2738908,49.9621
END:VEVENT
BEGIN:VEVENT
DTSTART;TZID=Europe/Paris:20211226T180000
DTEND;TZID=Europe/Paris:20211226T180000
DTSTAMP:20260423T092237
CREATED:20211130T101445Z
LAST-MODIFIED:20211130T101445Z
UID:10000954-1640541600-1640541600@www.ekg-hechtsheim.de
SUMMARY:Musikalischer Abendgottesdienst im Gemeindehaus mit dem "Treppenquartett"
DESCRIPTION:
URL:https://www.ekg-hechtsheim.de/veranstaltungen/musikalischer-abendgottesdienst-im-gemeindehaus-mit-dem-treppenquartett/
LOCATION:Gemeindehaus Frankenhöhe\, Bodenheimer Straße 58\, Mainz\, 55129\, Deutschland
CATEGORIES:Gottesdienste
GEO:49.9667007;8.2872534
X-APPLE-STRUCTURED-LOCATION;VALUE=URI;X-ADDRESS=Gemeindehaus Frankenhöhe Bodenheimer Straße 58 Mainz 55129 Deutschland;X-APPLE-RADIUS=500;X-TITLE=Bodenheimer Straße 58:geo:8.2872534,49.9667007
END:VEVENT
BEGIN:VEVENT
DTSTART;TZID=Europe/Paris:20211231T170000
DTEND;TZID=Europe/Paris:20211231T170000
DTSTAMP:20260423T092237
CREATED:20211130T101608Z
LAST-MODIFIED:20211130T101608Z
UID:10000956-1640970000-1640970000@www.ekg-hechtsheim.de
SUMMARY:Gottesdienst zum Jahresschluss
DESCRIPTION:
URL:https://www.ekg-hechtsheim.de/veranstaltungen/gottesdienst-zum-jahresschluss-2/
LOCATION:Gemeindezentrum Lion-Feuchtwanger-Straße\, Lion-Feuchtwanger Str. 14\, Mainz\, 55129\, Deutschland
CATEGORIES:Gottesdienste
GEO:49.9621;8.2738908
X-APPLE-STRUCTURED-LOCATION;VALUE=URI;X-ADDRESS=Gemeindezentrum Lion-Feuchtwanger-Straße Lion-Feuchtwanger Str. 14 Mainz 55129 Deutschland;X-APPLE-RADIUS=500;X-TITLE=Lion-Feuchtwanger Str. 14:geo:8.2738908,49.9621
END:VEVENT
BEGIN:VEVENT
DTSTART;TZID=Europe/Paris:20211231T180000
DTEND;TZID=Europe/Paris:20211231T180000
DTSTAMP:20260423T092237
CREATED:20211130T102125Z
LAST-MODIFIED:20211229T111221Z
UID:10000957-1640973600-1640973600@www.ekg-hechtsheim.de
SUMMARY:Gottesdienst zum Jahresschluss - Anmeldungen sind leider nicht mehr möglich.
DESCRIPTION:Gottesdienst mit besonderer musikalischer Gestaltung durch Sabine Möhrle am Flügel und Margret Johst am Cello. Anmeldungen sind leider nicht mehr möglich.
URL:https://www.ekg-hechtsheim.de/veranstaltungen/gottesdienst-zum-jahresschluss-mit-besonderer-musikalischer-gestaltung-durch-sabine-moehrle-am-fluegel-und-margret-johst-am-cello/
LOCATION:Gemeindehaus Frankenhöhe\, Bodenheimer Straße 58\, Mainz\, 55129\, Deutschland
CATEGORIES:Gottesdienste
GEO:49.9667007;8.2872534
X-APPLE-STRUCTURED-LOCATION;VALUE=URI;X-ADDRESS=Gemeindehaus Frankenhöhe Bodenheimer Straße 58 Mainz 55129 Deutschland;X-APPLE-RADIUS=500;X-TITLE=Bodenheimer Straße 58:geo:8.2872534,49.9667007
END:VEVENT
END:VCALENDAR