BEGIN:VCALENDAR
VERSION:2.0
PRODID:-//Evangelische Kirchengemeinde Mainz-Hechtsheim - ECPv6.15.20//NONSGML v1.0//EN
CALSCALE:GREGORIAN
METHOD:PUBLISH
X-ORIGINAL-URL:https://www.ekg-hechtsheim.de
X-WR-CALDESC:Veranstaltungen für Evangelische Kirchengemeinde Mainz-Hechtsheim
REFRESH-INTERVAL;VALUE=DURATION:PT1H
X-Robots-Tag:noindex
X-PUBLISHED-TTL:PT1H
BEGIN:VTIMEZONE
TZID:Europe/Paris
BEGIN:DAYLIGHT
TZOFFSETFROM:+0100
TZOFFSETTO:+0200
TZNAME:CEST
DTSTART:20200329T010000
END:DAYLIGHT
BEGIN:STANDARD
TZOFFSETFROM:+0200
TZOFFSETTO:+0100
TZNAME:CET
DTSTART:20201025T010000
END:STANDARD
BEGIN:DAYLIGHT
TZOFFSETFROM:+0100
TZOFFSETTO:+0200
TZNAME:CEST
DTSTART:20210328T010000
END:DAYLIGHT
BEGIN:STANDARD
TZOFFSETFROM:+0200
TZOFFSETTO:+0100
TZNAME:CET
DTSTART:20211031T010000
END:STANDARD
BEGIN:DAYLIGHT
TZOFFSETFROM:+0100
TZOFFSETTO:+0200
TZNAME:CEST
DTSTART:20220327T010000
END:DAYLIGHT
BEGIN:STANDARD
TZOFFSETFROM:+0200
TZOFFSETTO:+0100
TZNAME:CET
DTSTART:20221030T010000
END:STANDARD
END:VTIMEZONE
BEGIN:VEVENT
DTSTART;TZID=Europe/Paris:20210902T160000
DTEND;TZID=Europe/Paris:20210902T170000
DTSTAMP:20260423T134233
CREATED:20210623T075214Z
LAST-MODIFIED:20210623T075214Z
UID:10001516-1630598400-1630602000@www.ekg-hechtsheim.de
SUMMARY:Werktagsgottesdienst mit Abendmahl
DESCRIPTION:
URL:https://www.ekg-hechtsheim.de/veranstaltungen/werktagsgottesdienst-mit-abendmahl-51/
LOCATION:16:00 - \, Deutschland
CATEGORIES:Gottesdienste
END:VEVENT
BEGIN:VEVENT
DTSTART;TZID=Europe/Paris:20210903T160000
DTEND;TZID=Europe/Paris:20210903T160000
DTSTAMP:20260423T134233
CREATED:20210727T092950Z
LAST-MODIFIED:20210803T071713Z
UID:10000890-1630684800-1630684800@www.ekg-hechtsheim.de
SUMMARY:Kerbeauftakt im Christophorus-Hof - Benefizaktion mit Popmusik\, Jazz und Rockballaden bei freiem Eintritt zugunsten der Krippe der Ev. Kirchengemeinde Mainz-Hechtsheim
DESCRIPTION:Ab 16.00 Uhr kurzweilieg Unterhaltung mit den KiTa -Kindern \nAb 18.00 Uhr abwechslungsreiches Musikprogramm auf der kleinsten Bühne Hechtsheims \nEs bedienen Pfarrerin Sabine Feucht-Münch\, Pfarrer Adrian Ladner und Mitglieder der Ev. Kirchengemeinde. \nDies alles für eine gute Sache: Die Gagen der Interpreten werden\, ebenso wie die Trinkgelder aller tatkräftig Helfenden\, für die Krippe gespendet.
URL:https://www.ekg-hechtsheim.de/veranstaltungen/kerbeauftakt-im-christophorus-hof-mit-den-kita-kindern-sowie-verschiedenen-kuenstlern-auf-der-kleinsten-buehne-hechtsheims/
LOCATION:Weingut Christophorus-Hof\, Heuerstr. 13\, Mainz Hechtsheim\, Deutschland
CATEGORIES:Gemeinde
GEO:49.959951;8.277935
X-APPLE-STRUCTURED-LOCATION;VALUE=URI;X-ADDRESS=Weingut Christophorus-Hof Heuerstr. 13 Mainz Hechtsheim Deutschland;X-APPLE-RADIUS=500;X-TITLE=Heuerstr. 13:geo:8.277935,49.959951
END:VEVENT
BEGIN:VEVENT
DTSTART;TZID=Europe/Paris:20210905T080000
DTEND;TZID=Europe/Paris:20210905T170000
DTSTAMP:20260423T134233
CREATED:20210623T075510Z
LAST-MODIFIED:20210623T075510Z
UID:10001518-1630828800-1630861200@www.ekg-hechtsheim.de
SUMMARY:KEIN Gottesdienst im Gemeindehaus
DESCRIPTION:
URL:https://www.ekg-hechtsheim.de/veranstaltungen/kein-gottesdienst-im-gemeindehaus-3/
LOCATION:Gemeindehaus Frankenhöhe\, Bodenheimer Straße 58\, Mainz\, 55129\, Deutschland
CATEGORIES:Gottesdienste
GEO:49.9667007;8.2872534
X-APPLE-STRUCTURED-LOCATION;VALUE=URI;X-ADDRESS=Gemeindehaus Frankenhöhe Bodenheimer Straße 58 Mainz 55129 Deutschland;X-APPLE-RADIUS=500;X-TITLE=Bodenheimer Straße 58:geo:8.2872534,49.9667007
END:VEVENT
BEGIN:VEVENT
DTSTART;TZID=Europe/Paris:20210905T100000
DTEND;TZID=Europe/Paris:20210905T100000
DTSTAMP:20260423T134233
CREATED:20210623T075403Z
LAST-MODIFIED:20210623T075403Z
UID:10001517-1630836000-1630836000@www.ekg-hechtsheim.de
SUMMARY:Gottesdienst mit Verabschiedung des alten und Einführung des neuen Kirchenvorstandes
DESCRIPTION:
URL:https://www.ekg-hechtsheim.de/veranstaltungen/gottesdienst-mit-verabschiedung-des-alten-und-einfuehrung-des-neuen-kirchenvorstandes/
LOCATION:Gemeindezentrum Lion-Feuchtwanger-Straße\, Lion-Feuchtwanger Str. 14\, Mainz\, 55129\, Deutschland
CATEGORIES:Gemeinde,Gottesdienste
GEO:49.9621;8.2738908
X-APPLE-STRUCTURED-LOCATION;VALUE=URI;X-ADDRESS=Gemeindezentrum Lion-Feuchtwanger-Straße Lion-Feuchtwanger Str. 14 Mainz 55129 Deutschland;X-APPLE-RADIUS=500;X-TITLE=Lion-Feuchtwanger Str. 14:geo:8.2738908,49.9621
END:VEVENT
BEGIN:VEVENT
DTSTART;TZID=Europe/Paris:20210911T140000
DTEND;TZID=Europe/Paris:20210911T160000
DTSTAMP:20260423T134233
CREATED:20210623T080230Z
LAST-MODIFIED:20210623T080230Z
UID:10001507-1631368800-1631376000@www.ekg-hechtsheim.de
SUMMARY:Christlich-Islamischer Begegnungstag
DESCRIPTION:
URL:https://www.ekg-hechtsheim.de/veranstaltungen/christlich-islamischer-begegnungstag/
LOCATION:Gemeindezentrum Lion-Feuchtwanger-Straße\, Lion-Feuchtwanger Str. 14\, Mainz\, 55129\, Deutschland
CATEGORIES:Gemeinde
GEO:49.9621;8.2738908
X-APPLE-STRUCTURED-LOCATION;VALUE=URI;X-ADDRESS=Gemeindezentrum Lion-Feuchtwanger-Straße Lion-Feuchtwanger Str. 14 Mainz 55129 Deutschland;X-APPLE-RADIUS=500;X-TITLE=Lion-Feuchtwanger Str. 14:geo:8.2738908,49.9621
END:VEVENT
BEGIN:VEVENT
DTSTART;TZID=Europe/Paris:20210911T150000
DTEND;TZID=Europe/Paris:20210911T150000
DTSTAMP:20260423T134233
CREATED:20210720T075343Z
LAST-MODIFIED:20210720T075343Z
UID:10001527-1631372400-1631372400@www.ekg-hechtsheim.de
SUMMARY:Seniorenclub - Rechtsanwältin Leonie Lehrmann informiert zum Thema Patienten- und Betreuungsverfügung
DESCRIPTION:Nur nach vorheriger Anmeldung bitte bei Brigitte Zander!
URL:https://www.ekg-hechtsheim.de/veranstaltungen/seniorenclub-rechtsanwaeltin-leonie-lehrmann-informiert-zum-thema-patienten-und-betreuungsverfuegung/
LOCATION:Gemeindezentrum Lion-Feuchtwanger-Straße\, Lion-Feuchtwanger Str. 14\, Mainz\, 55129\, Deutschland
CATEGORIES:Gemeinde
GEO:49.9621;8.2738908
X-APPLE-STRUCTURED-LOCATION;VALUE=URI;X-ADDRESS=Gemeindezentrum Lion-Feuchtwanger-Straße Lion-Feuchtwanger Str. 14 Mainz 55129 Deutschland;X-APPLE-RADIUS=500;X-TITLE=Lion-Feuchtwanger Str. 14:geo:8.2738908,49.9621
END:VEVENT
BEGIN:VEVENT
DTSTART;TZID=Europe/Paris:20210912T110000
DTEND;TZID=Europe/Paris:20210912T110000
DTSTAMP:20260423T134233
CREATED:20210623T075849Z
LAST-MODIFIED:20210825T080433Z
UID:10001504-1631444400-1631444400@www.ekg-hechtsheim.de
SUMMARY:Gottesdienst zum Gemeindehaus-Jubiläum mit Einführung der neuen Konfirmanden unter Mitwirkung des Gospelchors "soundConnection"
DESCRIPTION:
URL:https://www.ekg-hechtsheim.de/veranstaltungen/gottesdienst-zum-gemeindehaus-jubilaeum-mit-kinderkirche-und-ausstellung-sowie-einfuehrung-der-neuen-konfirmanden/
LOCATION:Gemeindehaus Frankenhöhe\, Bodenheimer Straße 58\, Mainz\, 55129\, Deutschland
CATEGORIES:Gemeinde,Gottesdienste
GEO:49.9667007;8.2872534
X-APPLE-STRUCTURED-LOCATION;VALUE=URI;X-ADDRESS=Gemeindehaus Frankenhöhe Bodenheimer Straße 58 Mainz 55129 Deutschland;X-APPLE-RADIUS=500;X-TITLE=Bodenheimer Straße 58:geo:8.2872534,49.9667007
END:VEVENT
BEGIN:VEVENT
DTSTART;TZID=Europe/Paris:20210912T180000
DTEND;TZID=Europe/Paris:20210912T180000
DTSTAMP:20260423T134233
CREATED:20210727T093456Z
LAST-MODIFIED:20210727T093456Z
UID:10000891-1631469600-1631469600@www.ekg-hechtsheim.de
SUMMARY:Gottesdienst und Ausstellungseröffnung "Mensch_sein" - Malerei und Plastik von Kristin Bonn mit Begleitung des Gospelchors "Sound Connection"
DESCRIPTION:Wir bitten um Anmeldung. \nDie Veranstaltung findet unter den geltenden Corona-Bedingungen statt.
URL:https://www.ekg-hechtsheim.de/veranstaltungen/gottesdienst-und-ausstellungseroeffnung-mensch_sein-malerei-und-plastik-von-kristin-bonn-mit-begleitung-des-gospelchors-sound-connection/
LOCATION:Gemeindehaus Frankenhöhe\, Bodenheimer Straße 58\, Mainz\, 55129\, Deutschland
CATEGORIES:Gemeinde,Gottesdienste
GEO:49.9667007;8.2872534
X-APPLE-STRUCTURED-LOCATION;VALUE=URI;X-ADDRESS=Gemeindehaus Frankenhöhe Bodenheimer Straße 58 Mainz 55129 Deutschland;X-APPLE-RADIUS=500;X-TITLE=Bodenheimer Straße 58:geo:8.2872534,49.9667007
END:VEVENT
BEGIN:VEVENT
DTSTART;TZID=Europe/Paris:20210916T160000
DTEND;TZID=Europe/Paris:20210916T160000
DTSTAMP:20260423T134233
CREATED:20210825T085538Z
LAST-MODIFIED:20210906T070307Z
UID:10001539-1631808000-1631808000@www.ekg-hechtsheim.de
SUMMARY:Werktagsgottesdienst mit Abendmahl
DESCRIPTION:
URL:https://www.ekg-hechtsheim.de/veranstaltungen/werktagsgottesdienst-mit-abendmahl-52/
LOCATION:16:00 - \, Deutschland
CATEGORIES:Gottesdienste
END:VEVENT
BEGIN:VEVENT
DTSTART;TZID=Europe/Paris:20210918T170000
DTEND;TZID=Europe/Paris:20210918T170000
DTSTAMP:20260423T134233
CREATED:20210831T063019Z
LAST-MODIFIED:20210831T063019Z
UID:10000933-1631984400-1631984400@www.ekg-hechtsheim.de
SUMMARY:Vorabendgottesdienst zur Konfirmation mit Abendmahl - Nicht öffentlich!
DESCRIPTION:
URL:https://www.ekg-hechtsheim.de/veranstaltungen/vorabendgottesdienst-zur-konfirmation-mit-abendmahl-nicht-oeffentlich/
LOCATION:Gemeindezentrum Lion-Feuchtwanger-Straße\, Lion-Feuchtwanger Str. 14\, Mainz\, 55129\, Deutschland
CATEGORIES:Gottesdienste
GEO:49.9621;8.2738908
X-APPLE-STRUCTURED-LOCATION;VALUE=URI;X-ADDRESS=Gemeindezentrum Lion-Feuchtwanger-Straße Lion-Feuchtwanger Str. 14 Mainz 55129 Deutschland;X-APPLE-RADIUS=500;X-TITLE=Lion-Feuchtwanger Str. 14:geo:8.2738908,49.9621
END:VEVENT
BEGIN:VEVENT
DTSTART;TZID=Europe/Paris:20210919T100000
DTEND;TZID=Europe/Paris:20210919T100000
DTSTAMP:20260423T134233
CREATED:20210623T080050Z
LAST-MODIFIED:20210623T080050Z
UID:10001502-1632045600-1632045600@www.ekg-hechtsheim.de
SUMMARY:Konfirmation - nicht öffentlich!
DESCRIPTION:
URL:https://www.ekg-hechtsheim.de/veranstaltungen/konfirmation-nicht-oeffentlich/
LOCATION:Gemeindezentrum Lion-Feuchtwanger-Straße\, Lion-Feuchtwanger Str. 14\, Mainz\, 55129\, Deutschland
CATEGORIES:Gottesdienste
GEO:49.9621;8.2738908
X-APPLE-STRUCTURED-LOCATION;VALUE=URI;X-ADDRESS=Gemeindezentrum Lion-Feuchtwanger-Straße Lion-Feuchtwanger Str. 14 Mainz 55129 Deutschland;X-APPLE-RADIUS=500;X-TITLE=Lion-Feuchtwanger Str. 14:geo:8.2738908,49.9621
END:VEVENT
BEGIN:VEVENT
DTSTART;TZID=Europe/Paris:20210919T110000
DTEND;TZID=Europe/Paris:20210919T110000
DTSTAMP:20260423T134233
CREATED:20210825T085629Z
LAST-MODIFIED:20210825T085629Z
UID:10001548-1632049200-1632049200@www.ekg-hechtsheim.de
SUMMARY:Gottesdienst
DESCRIPTION:
URL:https://www.ekg-hechtsheim.de/veranstaltungen/gottesdienst-169/
LOCATION:Gemeindehaus Frankenhöhe\, Bodenheimer Straße 58\, Mainz\, 55129\, Deutschland
CATEGORIES:Gottesdienste
GEO:49.9667007;8.2872534
X-APPLE-STRUCTURED-LOCATION;VALUE=URI;X-ADDRESS=Gemeindehaus Frankenhöhe Bodenheimer Straße 58 Mainz 55129 Deutschland;X-APPLE-RADIUS=500;X-TITLE=Bodenheimer Straße 58:geo:8.2872534,49.9667007
END:VEVENT
BEGIN:VEVENT
DTSTART;TZID=Europe/Paris:20210920T193000
DTEND;TZID=Europe/Paris:20210920T210000
DTSTAMP:20260423T134233
CREATED:20171218T090742Z
LAST-MODIFIED:20180108T083306Z
UID:10000327-1632166200-1632171600@www.ekg-hechtsheim.de
SUMMARY:Abend in der Stille
DESCRIPTION:Einmal im Monat findet ein Abend in der Stille in der Regel am 3. Montag im Monat im Gemeindezentrum von 19.30 – 21  Uhr (außer in den Schulferien) statt. \nExerzitien im Alltag sind ein Weg\, auf dem wir einüben können\, den Alltag bewusster und aufmerksamer wahrzunehmen und Gott dort zu entdecken\, wo er sich von uns finden lassen möchte: mitten im Leben. \nAus dem Projekt in der Passionszeit 2016 ist der Wunsch entstanden\, regelmäßig\, einmal im Monat\, solche „Exerzitien im Alltag“ miteinander zu teilen und in Gemeinschaft einen solchen Weg zu gehen. \nEinmal im Monat sind alle Interessierten eingeladen zusammen zu kommen: zum Einüben verschiedener Formen von Zeiten der Stille\, Meditation über biblischen Worten und Gebet\, zum Austausch über die Erfahrungen. \nTermine in 2018: 22. Januar\, 19. Februar\,  19. März\, 23. April 21. Mai\, 18. Juni\, im Juli Pause wegen Sommerferien. \nBequeme Kleidung\, möglicherweise eine wärmende Decke oder Wollsocken\, um im Sitzen und Schweigen einen warmen Rücken und warme Füße zu behalten\, bringen Sie bitte dazu von zu Hause mit.
URL:https://www.ekg-hechtsheim.de/veranstaltungen/abend-in-der-stille-mit-den-perlen-des-glaubens-beten-und-ueber-gott-und-die-welt-gemeinsam-nachsinnen-2018-04-16/2021-09-20/
LOCATION:16:00 - \, Deutschland
CATEGORIES:Gottesdienste
END:VEVENT
BEGIN:VEVENT
DTSTART;TZID=Europe/Paris:20210922T180000
DTEND;TZID=Europe/Paris:20210922T190000
DTSTAMP:20260423T134233
CREATED:20210622T081548Z
LAST-MODIFIED:20210622T081548Z
UID:10001509-1632333600-1632337200@www.ekg-hechtsheim.de
SUMMARY:Lust auf Singen?!
DESCRIPTION:Das ökumenische Angebot zum gemeinsamen Singen von weltlichen und geistlichen Liedern mit Klavierbegleitung findet jeden 4. Mittwoch eines Monats auf der Wiese des Ev. Gemeindezentrums statt \nAlle sind zum Mitsingen herzlich eingeladen und willkommen!
URL:https://www.ekg-hechtsheim.de/veranstaltungen/lust-auf-singen-2/
LOCATION:Außengelände des Gemeindezentrums Lion-Feuchtwanger-Straße\, Lion-Feuchtwanger-Straße 14\, Mainz\, 55129\, Deutschland
CATEGORIES:Gemeinde
END:VEVENT
BEGIN:VEVENT
DTSTART;TZID=Europe/Paris:20210925T150000
DTEND;TZID=Europe/Paris:20210925T150000
DTSTAMP:20260423T134233
CREATED:20210914T083718Z
LAST-MODIFIED:20210914T083718Z
UID:10001540-1632582000-1632582000@www.ekg-hechtsheim.de
SUMMARY:Kinderkirche - anlässlich des Gemeindehaus-Einweihungs-Jubiläums
DESCRIPTION:
URL:https://www.ekg-hechtsheim.de/veranstaltungen/kinderkirche-anlaesslich-des-gemeindehaus-einweihungs-jubilaeums/
LOCATION:Gemeindehaus Frankenhöhe\, Bodenheimer Straße 58\, Mainz\, 55129\, Deutschland
CATEGORIES:Gottesdienste
GEO:49.9667007;8.2872534
X-APPLE-STRUCTURED-LOCATION;VALUE=URI;X-ADDRESS=Gemeindehaus Frankenhöhe Bodenheimer Straße 58 Mainz 55129 Deutschland;X-APPLE-RADIUS=500;X-TITLE=Bodenheimer Straße 58:geo:8.2872534,49.9667007
END:VEVENT
BEGIN:VEVENT
DTSTART;TZID=Europe/Paris:20210926T100000
DTEND;TZID=Europe/Paris:20210926T100000
DTSTAMP:20260423T134233
CREATED:20210825T085729Z
LAST-MODIFIED:20210825T085729Z
UID:10001549-1632650400-1632650400@www.ekg-hechtsheim.de
SUMMARY:Gottesdienst
DESCRIPTION:
URL:https://www.ekg-hechtsheim.de/veranstaltungen/gottesdienst-170/
LOCATION:Gemeindezentrum Lion-Feuchtwanger-Straße\, Lion-Feuchtwanger Str. 14\, Mainz\, 55129\, Deutschland
CATEGORIES:Gottesdienste
GEO:49.9621;8.2738908
X-APPLE-STRUCTURED-LOCATION;VALUE=URI;X-ADDRESS=Gemeindezentrum Lion-Feuchtwanger-Straße Lion-Feuchtwanger Str. 14 Mainz 55129 Deutschland;X-APPLE-RADIUS=500;X-TITLE=Lion-Feuchtwanger Str. 14:geo:8.2738908,49.9621
END:VEVENT
BEGIN:VEVENT
DTSTART;TZID=Europe/Paris:20210926T180000
DTEND;TZID=Europe/Paris:20210926T180000
DTSTAMP:20260423T134233
CREATED:20210727T094316Z
LAST-MODIFIED:20210727T094316Z
UID:10000896-1632679200-1632679200@www.ekg-hechtsheim.de
SUMMARY:Literatur-Abend-Gottesdienst zum Thema Ernest Hemingway
DESCRIPTION:
URL:https://www.ekg-hechtsheim.de/veranstaltungen/literatur-abend-gottesdienst-zum-thema-ernest-hemingway/
LOCATION:Gemeindehaus Frankenhöhe\, Bodenheimer Straße 58\, Mainz\, 55129\, Deutschland
CATEGORIES:Gemeinde,Gottesdienste
GEO:49.9667007;8.2872534
X-APPLE-STRUCTURED-LOCATION;VALUE=URI;X-ADDRESS=Gemeindehaus Frankenhöhe Bodenheimer Straße 58 Mainz 55129 Deutschland;X-APPLE-RADIUS=500;X-TITLE=Bodenheimer Straße 58:geo:8.2872534,49.9667007
END:VEVENT
BEGIN:VEVENT
DTSTART;TZID=Europe/Paris:20210930T160000
DTEND;TZID=Europe/Paris:20210930T160000
DTSTAMP:20260423T134233
CREATED:20210825T090312Z
LAST-MODIFIED:20210825T090312Z
UID:10001550-1633017600-1633017600@www.ekg-hechtsheim.de
SUMMARY:Werktagsgottesdienst mit Abendmahl
DESCRIPTION:
URL:https://www.ekg-hechtsheim.de/veranstaltungen/werktagsgottesdienst-mit-abendmahl-53/
LOCATION:16:00 - \, Deutschland
CATEGORIES:Gottesdienste
END:VEVENT
END:VCALENDAR