BEGIN:VCALENDAR
VERSION:2.0
PRODID:-//Evangelische Kirchengemeinde Mainz-Hechtsheim - ECPv6.15.20//NONSGML v1.0//EN
CALSCALE:GREGORIAN
METHOD:PUBLISH
X-ORIGINAL-URL:https://www.ekg-hechtsheim.de
X-WR-CALDESC:Veranstaltungen für Evangelische Kirchengemeinde Mainz-Hechtsheim
REFRESH-INTERVAL;VALUE=DURATION:PT1H
X-Robots-Tag:noindex
X-PUBLISHED-TTL:PT1H
BEGIN:VTIMEZONE
TZID:Europe/Paris
BEGIN:DAYLIGHT
TZOFFSETFROM:+0100
TZOFFSETTO:+0200
TZNAME:CEST
DTSTART:20200329T010000
END:DAYLIGHT
BEGIN:STANDARD
TZOFFSETFROM:+0200
TZOFFSETTO:+0100
TZNAME:CET
DTSTART:20201025T010000
END:STANDARD
BEGIN:DAYLIGHT
TZOFFSETFROM:+0100
TZOFFSETTO:+0200
TZNAME:CEST
DTSTART:20210328T010000
END:DAYLIGHT
BEGIN:STANDARD
TZOFFSETFROM:+0200
TZOFFSETTO:+0100
TZNAME:CET
DTSTART:20211031T010000
END:STANDARD
BEGIN:DAYLIGHT
TZOFFSETFROM:+0100
TZOFFSETTO:+0200
TZNAME:CEST
DTSTART:20220327T010000
END:DAYLIGHT
BEGIN:STANDARD
TZOFFSETFROM:+0200
TZOFFSETTO:+0100
TZNAME:CET
DTSTART:20221030T010000
END:STANDARD
END:VTIMEZONE
BEGIN:VEVENT
DTSTART;TZID=Europe/Paris:20210401T170000
DTEND;TZID=Europe/Paris:20210401T180000
DTSTAMP:20260423T211121
CREATED:20210311T110410Z
LAST-MODIFIED:20210325T195713Z
UID:10001473-1617296400-1617300000@www.ekg-hechtsheim.de
SUMMARY:„Offene Kirche“ am Außenaltar zu Gründonnerstag
DESCRIPTION:17 Uhr: „Offene Kirche“ am Außenaltar am Gemeindezentrum
URL:https://www.ekg-hechtsheim.de/veranstaltungen/gottesdienst-zum-gruendonnerstag/
LOCATION:Außengelände des Gemeindezentrums Lion-Feuchtwanger-Straße\, Lion-Feuchtwanger-Straße 14\, Mainz\, 55129\, Deutschland
CATEGORIES:Gottesdienste
END:VEVENT
BEGIN:VEVENT
DTSTART;TZID=Europe/Paris:20210401T190000
DTEND;TZID=Europe/Paris:20210401T200000
DTSTAMP:20260423T211121
CREATED:20210311T110501Z
LAST-MODIFIED:20210325T195620Z
UID:10001474-1617303600-1617307200@www.ekg-hechtsheim.de
SUMMARY:„Offene Kirche“ am Gründonnerstag
DESCRIPTION:19 Uhr: „Offene Kirche“ im Gemeindehaus\, „Abendmahl zum Mitnehmen“
URL:https://www.ekg-hechtsheim.de/veranstaltungen/gottesdienst-zum-gruendonnerstag-2/
LOCATION:Gemeindehaus Frankenhöhe\, Bodenheimer Straße 58\, Mainz\, 55129\, Deutschland
CATEGORIES:Gottesdienste
GEO:49.9667007;8.2872534
X-APPLE-STRUCTURED-LOCATION;VALUE=URI;X-ADDRESS=Gemeindehaus Frankenhöhe Bodenheimer Straße 58 Mainz 55129 Deutschland;X-APPLE-RADIUS=500;X-TITLE=Bodenheimer Straße 58:geo:8.2872534,49.9667007
END:VEVENT
BEGIN:VEVENT
DTSTART;TZID=Europe/Paris:20210402T103000
DTEND;TZID=Europe/Paris:20210402T123000
DTSTAMP:20260423T211121
CREATED:20210311T110709Z
LAST-MODIFIED:20210329T144800Z
UID:10001475-1617359400-1617366600@www.ekg-hechtsheim.de
SUMMARY:Online-Gottesdienst an Karfreitag
DESCRIPTION:10.30 Uhr: Online-Gottesdienst . Link zur Teilnahme: \nhttps://us02web.zoom.us/j/86282859228?pwd=b2N1ZHRWTWo4bXpMcG15NGZ6U082QT09 \nMeeting-ID: 862 8285 9228\, \nKenncode: 761069 \nTelefonische Einwahl unter der Nummer 069 – 3807 9883. \nIm Anschluss ist von 11.30 Uhr bis 12.30 Uhr „Offene Karfreitags-Kirche“ im Gemeindehaus und im Gemeindezentrum.
URL:https://www.ekg-hechtsheim.de/veranstaltungen/gottesdienst-an-karfreitag-2/
LOCATION:online\, Deutschland
CATEGORIES:Gottesdienste
END:VEVENT
BEGIN:VEVENT
DTSTART;TZID=Europe/Paris:20210404T060000
DTEND;TZID=Europe/Paris:20210404T070000
DTSTAMP:20260423T211121
CREATED:20210311T110813Z
LAST-MODIFIED:20210325T195003Z
UID:10001478-1617516000-1617519600@www.ekg-hechtsheim.de
SUMMARY:„Offene Kirche“ mit Osterfeuer am Weg
DESCRIPTION:„Offene Kirche“ im Gemeindezentrum mit Osterfeuer am Weg\, Osterkerzen und anderem zum Mitnehmen.
URL:https://www.ekg-hechtsheim.de/veranstaltungen/gottesdienst-mit-osterfeuer/
LOCATION:Außengelände des Gemeindezentrums Lion-Feuchtwanger-Straße\, Lion-Feuchtwanger-Straße 14\, Mainz\, 55129\, Deutschland
CATEGORIES:Gottesdienste
END:VEVENT
BEGIN:VEVENT
DTSTART;TZID=Europe/Paris:20210404T110000
DTEND;TZID=Europe/Paris:20210404T123000
DTSTAMP:20260423T211121
CREATED:20210311T110905Z
LAST-MODIFIED:20210326T100229Z
UID:10001479-1617534000-1617539400@www.ekg-hechtsheim.de
SUMMARY:„Offene Kirche“ mit Osterkerze
DESCRIPTION:11 Uhr: „Offene Kirche“ im Gemeindehaus mit Osterkerze auf dem Vorplatz\, Osterkerzen zum Mitnehmen und gemeinsamer Gestaltung eines „Osterfensters“. Bringen Sie\, wenn Sie möchten\, ein österliches Bild oder einen Gegenstand zum Aufhängen im Fenster mit.
URL:https://www.ekg-hechtsheim.de/veranstaltungen/gottesdienst-zu-ostersonntag/
LOCATION:Gemeindehaus Frankenhöhe\, Bodenheimer Straße 58\, Mainz\, 55129\, Deutschland
CATEGORIES:Gottesdienste
GEO:49.9667007;8.2872534
X-APPLE-STRUCTURED-LOCATION;VALUE=URI;X-ADDRESS=Gemeindehaus Frankenhöhe Bodenheimer Straße 58 Mainz 55129 Deutschland;X-APPLE-RADIUS=500;X-TITLE=Bodenheimer Straße 58:geo:8.2872534,49.9667007
END:VEVENT
BEGIN:VEVENT
DTSTART;VALUE=DATE:20210411
DTEND;VALUE=DATE:20210412
DTSTAMP:20260423T211121
CREATED:20210311T173219Z
LAST-MODIFIED:20210413T100946Z
UID:10001482-1618099200-1618185599@www.ekg-hechtsheim.de
SUMMARY:Briefkasten-KinderKirche
DESCRIPTION:Die geplante Oster-KinderKirche findet nochmals als Briefkasten-KinderKirche statt.
URL:https://www.ekg-hechtsheim.de/veranstaltungen/oster-kinder-kirche/
LOCATION:Gemeindehaus Frankenhöhe\, Bodenheimer Straße 58\, Mainz\, 55129\, Deutschland
CATEGORIES:Gottesdienste
GEO:49.9667007;8.2872534
X-APPLE-STRUCTURED-LOCATION;VALUE=URI;X-ADDRESS=Gemeindehaus Frankenhöhe Bodenheimer Straße 58 Mainz 55129 Deutschland;X-APPLE-RADIUS=500;X-TITLE=Bodenheimer Straße 58:geo:8.2872534,49.9667007
END:VEVENT
BEGIN:VEVENT
DTSTART;TZID=Europe/Paris:20210411T103000
DTEND;TZID=Europe/Paris:20210411T110000
DTSTAMP:20260423T211121
CREATED:20210311T172757Z
LAST-MODIFIED:20210325T194737Z
UID:10001480-1618137000-1618138800@www.ekg-hechtsheim.de
SUMMARY:Online-Gottesdienst
DESCRIPTION:10.30 Uhr: Online-Gottesdienst – Einwahldaten folgen
URL:https://www.ekg-hechtsheim.de/veranstaltungen/gottesdienst-153/
LOCATION:Gemeindezentrum Lion-Feuchtwanger-Straße\, Lion-Feuchtwanger Str. 14\, Mainz\, 55129\, Deutschland
CATEGORIES:Gottesdienste
GEO:49.9621;8.2738908
X-APPLE-STRUCTURED-LOCATION;VALUE=URI;X-ADDRESS=Gemeindezentrum Lion-Feuchtwanger-Straße Lion-Feuchtwanger Str. 14 Mainz 55129 Deutschland;X-APPLE-RADIUS=500;X-TITLE=Lion-Feuchtwanger Str. 14:geo:8.2738908,49.9621
END:VEVENT
BEGIN:VEVENT
DTSTART;VALUE=DATE:20210412
DTEND;VALUE=DATE:20210418
DTSTAMP:20260423T211121
CREATED:20210128T094203Z
LAST-MODIFIED:20210128T094323Z
UID:10000821-1618185600-1618703999@www.ekg-hechtsheim.de
SUMMARY:Kleidersammlung für Bethel
DESCRIPTION:Sie können Ihre Kleiderspenden vom 12. bis 17. April ganztägig im Gemeindezentrum und im Gemeindehaus Frankenhöhe abgeben.
URL:https://www.ekg-hechtsheim.de/veranstaltungen/kleidersammlung-fuer-bethel-2/
CATEGORIES:Sonstiges
END:VEVENT
BEGIN:VEVENT
DTSTART;TZID=Europe/Paris:20210415T160000
DTEND;TZID=Europe/Paris:20210415T170000
DTSTAMP:20260423T211121
CREATED:20210304T110807Z
LAST-MODIFIED:20210304T110807Z
UID:10001173-1618502400-1618506000@www.ekg-hechtsheim.de
SUMMARY:Gottesdienst\, nur für Bewohner der Seniorenresidenz
DESCRIPTION:Gottesdienst mit Abendmahl in der Seniorenresidenz\, nur für Bewohner der Seniorenresidenz\, eine Anmeldung ist verpflichtend. Alle Termine: 4.3.\,  18.3.\,  15.4.\,  29.4.\,  13.5. (Himmelfahrt)\,  27.5.\, jeweils 16Uhr
URL:https://www.ekg-hechtsheim.de/veranstaltungen/gottesdienst-nur-fuer-bewohner-der-seniorenresidenz/2021-04-15/
LOCATION:16:00 - \, Deutschland
CATEGORIES:Gottesdienste
END:VEVENT
BEGIN:VEVENT
DTSTART;TZID=Europe/Paris:20210418T103000
DTEND;TZID=Europe/Paris:20210418T113000
DTSTAMP:20260423T211121
CREATED:20210413T100642Z
LAST-MODIFIED:20210414T175126Z
UID:10001483-1618741800-1618745400@www.ekg-hechtsheim.de
SUMMARY:Online-Gottesdienst
DESCRIPTION:Online-Gottesdienst mit folgenden Einwahldaten: \nhttps://us02web.zoom.us/j/82401192965?pwd=cFJ4RGNoZzJIRlRkRVRRZFpUeGtsdz09 \nMeeting-ID: 824 0119 2965 \nKenncode: 620964 \nTelefon. Einwahl: 069  71 04  99 22 \nPlakat mit QR-Code
URL:https://www.ekg-hechtsheim.de/veranstaltungen/online-gottesdienst-2/
LOCATION:online\, Deutschland
CATEGORIES:Gottesdienste
END:VEVENT
BEGIN:VEVENT
DTSTART;TZID=Europe/Paris:20210419T153000
DTEND;TZID=Europe/Paris:20210419T160000
DTSTAMP:20260423T211121
CREATED:20210304T111451Z
LAST-MODIFIED:20210304T111451Z
UID:10001463-1618846200-1618848000@www.ekg-hechtsheim.de
SUMMARY:Sprechstunde von Pfarrerin Feucht-Münch in der Seniorenresidenz
DESCRIPTION:Sprechstunde von Pfarrerin Feucht-Münch in der Seniorenresidenz: montags von 15. 30 bis 16Uhr am 8.3.\,  15.3.\,  22.3.\,  19.4\,  26.4.\,  3.5.\, 10.5\,  17.5.\,  31.5.\,  7.6.2021
URL:https://www.ekg-hechtsheim.de/veranstaltungen/sprechstunde-von-pfarrerin-feucht-muench-in-der-seniorenresidenz/2021-04-19/
CATEGORIES:Sonstiges
END:VEVENT
BEGIN:VEVENT
DTSTART;TZID=Europe/Paris:20210419T193000
DTEND;TZID=Europe/Paris:20210419T210000
DTSTAMP:20260423T211121
CREATED:20171218T090742Z
LAST-MODIFIED:20180108T083306Z
UID:10000322-1618860600-1618866000@www.ekg-hechtsheim.de
SUMMARY:Abend in der Stille
DESCRIPTION:Einmal im Monat findet ein Abend in der Stille in der Regel am 3. Montag im Monat im Gemeindezentrum von 19.30 – 21  Uhr (außer in den Schulferien) statt. \nExerzitien im Alltag sind ein Weg\, auf dem wir einüben können\, den Alltag bewusster und aufmerksamer wahrzunehmen und Gott dort zu entdecken\, wo er sich von uns finden lassen möchte: mitten im Leben. \nAus dem Projekt in der Passionszeit 2016 ist der Wunsch entstanden\, regelmäßig\, einmal im Monat\, solche „Exerzitien im Alltag“ miteinander zu teilen und in Gemeinschaft einen solchen Weg zu gehen. \nEinmal im Monat sind alle Interessierten eingeladen zusammen zu kommen: zum Einüben verschiedener Formen von Zeiten der Stille\, Meditation über biblischen Worten und Gebet\, zum Austausch über die Erfahrungen. \nTermine in 2018: 22. Januar\, 19. Februar\,  19. März\, 23. April 21. Mai\, 18. Juni\, im Juli Pause wegen Sommerferien. \nBequeme Kleidung\, möglicherweise eine wärmende Decke oder Wollsocken\, um im Sitzen und Schweigen einen warmen Rücken und warme Füße zu behalten\, bringen Sie bitte dazu von zu Hause mit.
URL:https://www.ekg-hechtsheim.de/veranstaltungen/abend-in-der-stille-mit-den-perlen-des-glaubens-beten-und-ueber-gott-und-die-welt-gemeinsam-nachsinnen-2018-04-16/2021-04-19/
LOCATION:16:00 - \, Deutschland
CATEGORIES:Gottesdienste
END:VEVENT
BEGIN:VEVENT
DTSTART;TZID=Europe/Paris:20210425T180000
DTEND;TZID=Europe/Paris:20210425T190000
DTSTAMP:20260423T211121
CREATED:20210413T105214Z
LAST-MODIFIED:20210419T083835Z
UID:10001492-1619373600-1619377200@www.ekg-hechtsheim.de
SUMMARY:Online-Literatur-Abend-Gottesdienst
DESCRIPTION:LiteraturAbendGottesdienst „Friedrich Dürrenmatt“ um 18 Uhr online. Die nötigen Einwahlinformationen: \nhttps://us02web.zoom.us/j/85769069170?pwd=NnRzNitnVmN4bEM2bHN0MTg0eDNnZz09 \nMeeting-ID: 857 6906 9170 \nKenncode: 795405 \nSchnelleinwahl mobil: \n+49 69 5050 2596 oder +49 69 7104 9922
URL:https://www.ekg-hechtsheim.de/veranstaltungen/online-gottesdienst-4/
LOCATION:online\, Deutschland
CATEGORIES:Gottesdienste
END:VEVENT
BEGIN:VEVENT
DTSTART;TZID=Europe/Paris:20210426T153000
DTEND;TZID=Europe/Paris:20210426T160000
DTSTAMP:20260423T211121
CREATED:20210304T111451Z
LAST-MODIFIED:20210304T111451Z
UID:10001464-1619451000-1619452800@www.ekg-hechtsheim.de
SUMMARY:Sprechstunde von Pfarrerin Feucht-Münch in der Seniorenresidenz
DESCRIPTION:Sprechstunde von Pfarrerin Feucht-Münch in der Seniorenresidenz: montags von 15. 30 bis 16Uhr am 8.3.\,  15.3.\,  22.3.\,  19.4\,  26.4.\,  3.5.\, 10.5\,  17.5.\,  31.5.\,  7.6.2021
URL:https://www.ekg-hechtsheim.de/veranstaltungen/sprechstunde-von-pfarrerin-feucht-muench-in-der-seniorenresidenz/2021-04-26/
CATEGORIES:Sonstiges
END:VEVENT
BEGIN:VEVENT
DTSTART;TZID=Europe/Paris:20210429T160000
DTEND;TZID=Europe/Paris:20210429T170000
DTSTAMP:20260423T211121
CREATED:20210304T110807Z
LAST-MODIFIED:20210304T110807Z
UID:10001174-1619712000-1619715600@www.ekg-hechtsheim.de
SUMMARY:Gottesdienst\, nur für Bewohner der Seniorenresidenz
DESCRIPTION:Gottesdienst mit Abendmahl in der Seniorenresidenz\, nur für Bewohner der Seniorenresidenz\, eine Anmeldung ist verpflichtend. Alle Termine: 4.3.\,  18.3.\,  15.4.\,  29.4.\,  13.5. (Himmelfahrt)\,  27.5.\, jeweils 16Uhr
URL:https://www.ekg-hechtsheim.de/veranstaltungen/gottesdienst-nur-fuer-bewohner-der-seniorenresidenz/2021-04-29/
LOCATION:16:00 - \, Deutschland
CATEGORIES:Gottesdienste
END:VEVENT
END:VCALENDAR