BEGIN:VCALENDAR
VERSION:2.0
PRODID:-//Evangelische Kirchengemeinde Mainz-Hechtsheim - ECPv6.15.20//NONSGML v1.0//EN
CALSCALE:GREGORIAN
METHOD:PUBLISH
X-ORIGINAL-URL:https://www.ekg-hechtsheim.de
X-WR-CALDESC:Veranstaltungen für Evangelische Kirchengemeinde Mainz-Hechtsheim
REFRESH-INTERVAL;VALUE=DURATION:PT1H
X-Robots-Tag:noindex
X-PUBLISHED-TTL:PT1H
BEGIN:VTIMEZONE
TZID:Europe/Paris
BEGIN:DAYLIGHT
TZOFFSETFROM:+0100
TZOFFSETTO:+0200
TZNAME:CEST
DTSTART:20200329T010000
END:DAYLIGHT
BEGIN:STANDARD
TZOFFSETFROM:+0200
TZOFFSETTO:+0100
TZNAME:CET
DTSTART:20201025T010000
END:STANDARD
BEGIN:DAYLIGHT
TZOFFSETFROM:+0100
TZOFFSETTO:+0200
TZNAME:CEST
DTSTART:20210328T010000
END:DAYLIGHT
BEGIN:STANDARD
TZOFFSETFROM:+0200
TZOFFSETTO:+0100
TZNAME:CET
DTSTART:20211031T010000
END:STANDARD
BEGIN:DAYLIGHT
TZOFFSETFROM:+0100
TZOFFSETTO:+0200
TZNAME:CEST
DTSTART:20220327T010000
END:DAYLIGHT
BEGIN:STANDARD
TZOFFSETFROM:+0200
TZOFFSETTO:+0100
TZNAME:CET
DTSTART:20221030T010000
END:STANDARD
END:VTIMEZONE
BEGIN:VEVENT
DTSTART;TZID=Europe/Paris:20210207T100000
DTEND;TZID=Europe/Paris:20210207T110000
DTSTAMP:20260424T002224
CREATED:20210114T101200Z
LAST-MODIFIED:20210213T172849Z
UID:10000825-1612692000-1612695600@www.ekg-hechtsheim.de
SUMMARY:Offene Kirche im GZ
DESCRIPTION:Herzliche Einladung zur „Offenen Kirche“ zwischen 10 und 11 Uhr ins Gemeindezentrum\, Lion Feuchtwanger-Straße.
URL:https://www.ekg-hechtsheim.de/veranstaltungen/offene-kirche-gz/2021-02-07/
LOCATION:Gemeindezentrum Lion-Feuchtwanger-Straße\, Lion-Feuchtwanger Str. 14\, Mainz\, 55129\, Deutschland
CATEGORIES:Gottesdienste
GEO:49.9621;8.2738908
X-APPLE-STRUCTURED-LOCATION;VALUE=URI;X-ADDRESS=Gemeindezentrum Lion-Feuchtwanger-Straße Lion-Feuchtwanger Str. 14 Mainz 55129 Deutschland;X-APPLE-RADIUS=500;X-TITLE=Lion-Feuchtwanger Str. 14:geo:8.2738908,49.9621
END:VEVENT
BEGIN:VEVENT
DTSTART;TZID=Europe/Paris:20210207T110000
DTEND;TZID=Europe/Paris:20210207T120000
DTSTAMP:20260424T002224
CREATED:20210114T101614Z
LAST-MODIFIED:20210213T172631Z
UID:10000831-1612695600-1612699200@www.ekg-hechtsheim.de
SUMMARY:Offene Kirche im GH
DESCRIPTION:Herzliche Einladung zur „Offenen Kirche“ von 11 bis 12 Uhr ins Gemeindehaus Frankenhöhe\, Bodenheimer Straße.
URL:https://www.ekg-hechtsheim.de/veranstaltungen/offene-kirche-im-gh/2021-02-07/
LOCATION:Gemeindehaus Frankenhöhe\, Bodenheimer Straße 58\, Mainz\, 55129\, Deutschland
CATEGORIES:Gottesdienste
GEO:49.9667007;8.2872534
X-APPLE-STRUCTURED-LOCATION;VALUE=URI;X-ADDRESS=Gemeindehaus Frankenhöhe Bodenheimer Straße 58 Mainz 55129 Deutschland;X-APPLE-RADIUS=500;X-TITLE=Bodenheimer Straße 58:geo:8.2872534,49.9667007
END:VEVENT
BEGIN:VEVENT
DTSTART;TZID=Europe/Paris:20210214T100000
DTEND;TZID=Europe/Paris:20210214T110000
DTSTAMP:20260424T002224
CREATED:20210114T101200Z
LAST-MODIFIED:20210213T172849Z
UID:10000826-1613296800-1613300400@www.ekg-hechtsheim.de
SUMMARY:Offene Kirche im GZ
DESCRIPTION:Herzliche Einladung zur „Offenen Kirche“ zwischen 10 und 11 Uhr ins Gemeindezentrum\, Lion Feuchtwanger-Straße.
URL:https://www.ekg-hechtsheim.de/veranstaltungen/offene-kirche-gz/2021-02-14/
LOCATION:Gemeindezentrum Lion-Feuchtwanger-Straße\, Lion-Feuchtwanger Str. 14\, Mainz\, 55129\, Deutschland
CATEGORIES:Gottesdienste
GEO:49.9621;8.2738908
X-APPLE-STRUCTURED-LOCATION;VALUE=URI;X-ADDRESS=Gemeindezentrum Lion-Feuchtwanger-Straße Lion-Feuchtwanger Str. 14 Mainz 55129 Deutschland;X-APPLE-RADIUS=500;X-TITLE=Lion-Feuchtwanger Str. 14:geo:8.2738908,49.9621
END:VEVENT
BEGIN:VEVENT
DTSTART;TZID=Europe/Paris:20210214T110000
DTEND;TZID=Europe/Paris:20210214T120000
DTSTAMP:20260424T002224
CREATED:20210114T101614Z
LAST-MODIFIED:20210213T172631Z
UID:10000832-1613300400-1613304000@www.ekg-hechtsheim.de
SUMMARY:Offene Kirche im GH
DESCRIPTION:Herzliche Einladung zur „Offenen Kirche“ von 11 bis 12 Uhr ins Gemeindehaus Frankenhöhe\, Bodenheimer Straße.
URL:https://www.ekg-hechtsheim.de/veranstaltungen/offene-kirche-im-gh/2021-02-14/
LOCATION:Gemeindehaus Frankenhöhe\, Bodenheimer Straße 58\, Mainz\, 55129\, Deutschland
CATEGORIES:Gottesdienste
GEO:49.9667007;8.2872534
X-APPLE-STRUCTURED-LOCATION;VALUE=URI;X-ADDRESS=Gemeindehaus Frankenhöhe Bodenheimer Straße 58 Mainz 55129 Deutschland;X-APPLE-RADIUS=500;X-TITLE=Bodenheimer Straße 58:geo:8.2872534,49.9667007
END:VEVENT
BEGIN:VEVENT
DTSTART;TZID=Europe/Paris:20210215T193000
DTEND;TZID=Europe/Paris:20210215T210000
DTSTAMP:20260424T002224
CREATED:20171218T090742Z
LAST-MODIFIED:20180108T083306Z
UID:10000320-1613417400-1613422800@www.ekg-hechtsheim.de
SUMMARY:Abend in der Stille
DESCRIPTION:Einmal im Monat findet ein Abend in der Stille in der Regel am 3. Montag im Monat im Gemeindezentrum von 19.30 – 21  Uhr (außer in den Schulferien) statt. \nExerzitien im Alltag sind ein Weg\, auf dem wir einüben können\, den Alltag bewusster und aufmerksamer wahrzunehmen und Gott dort zu entdecken\, wo er sich von uns finden lassen möchte: mitten im Leben. \nAus dem Projekt in der Passionszeit 2016 ist der Wunsch entstanden\, regelmäßig\, einmal im Monat\, solche „Exerzitien im Alltag“ miteinander zu teilen und in Gemeinschaft einen solchen Weg zu gehen. \nEinmal im Monat sind alle Interessierten eingeladen zusammen zu kommen: zum Einüben verschiedener Formen von Zeiten der Stille\, Meditation über biblischen Worten und Gebet\, zum Austausch über die Erfahrungen. \nTermine in 2018: 22. Januar\, 19. Februar\,  19. März\, 23. April 21. Mai\, 18. Juni\, im Juli Pause wegen Sommerferien. \nBequeme Kleidung\, möglicherweise eine wärmende Decke oder Wollsocken\, um im Sitzen und Schweigen einen warmen Rücken und warme Füße zu behalten\, bringen Sie bitte dazu von zu Hause mit.
URL:https://www.ekg-hechtsheim.de/veranstaltungen/abend-in-der-stille-mit-den-perlen-des-glaubens-beten-und-ueber-gott-und-die-welt-gemeinsam-nachsinnen-2018-04-16/2021-02-15/
LOCATION:16:00 - \, Deutschland
CATEGORIES:Gottesdienste
END:VEVENT
BEGIN:VEVENT
DTSTART;TZID=Europe/Paris:20210219T180000
DTEND;TZID=Europe/Paris:20210219T183000
DTSTAMP:20260424T002224
CREATED:20201106T162415Z
LAST-MODIFIED:20210114T102853Z
UID:10001419-1613757600-1613759400@www.ekg-hechtsheim.de
SUMMARY:Musikalische Abendandacht zum Wochenausklang
DESCRIPTION:Herzliche Einladung zur „Musikalischen Abendandacht zum Wochenausklang in der dunklen Jahreszeit“ im Evangelischen Gemeindezentrum\, Lion-Feuchtwanger-Str.14-16. \nDiese besondere Abendandacht findet – je nach Lage der Pandemie – 14-täglich freitags von 18 bis 18.30 Uhr statt. Carolin Kaiser (Orgel) und Gäste spielen zu ausgesuchten Psalmversen. \nZu folgenden Terminen wird eingeladen: \n19. Februar: Carolin Kaiser (Orgel-Solo) \nDie Veranstaltungen finden unter den geltenden Hygieneregeln statt.\nBitte denken Sie an einen Mund-Nasen-Schutz und warme Kleidung.\nEine Anmeldung ist nicht erforderlich. \n 
URL:https://www.ekg-hechtsheim.de/veranstaltungen/musikalische-abendandacht-zum-wochenausklang/2021-02-19/
LOCATION:Gemeindezentrum Lion-Feuchtwanger-Straße\, Lion-Feuchtwanger Str. 14\, Mainz\, 55129\, Deutschland
CATEGORIES:Gottesdienste
GEO:49.9621;8.2738908
X-APPLE-STRUCTURED-LOCATION;VALUE=URI;X-ADDRESS=Gemeindezentrum Lion-Feuchtwanger-Straße Lion-Feuchtwanger Str. 14 Mainz 55129 Deutschland;X-APPLE-RADIUS=500;X-TITLE=Lion-Feuchtwanger Str. 14:geo:8.2738908,49.9621
END:VEVENT
BEGIN:VEVENT
DTSTART;TZID=Europe/Paris:20210221T103000
DTEND;TZID=Europe/Paris:20210221T113000
DTSTAMP:20260424T002224
CREATED:20210213T174425Z
LAST-MODIFIED:20210213T180523Z
UID:10000835-1613903400-1613907000@www.ekg-hechtsheim.de
SUMMARY:Online-Gottesdienst
DESCRIPTION:7 Wochen bis Ostern – ZOOM-Gottesdienst am Anfang der Passionszeit \nJede und jeder kann alleine oder mit der Familie am heimischen PC oder anderen Endgeräten den Gottesdienst mitfeiern\, der wie unsere „normalen“ Gottesdienste von Pfarrer und Pfarrerin und dem Kirchenvorstand gestaltet wird.\nMan kann selbst mit Bild dabei sein\, dann sehen wir uns gegenseitig wie im Gottesdienst vor Ort\, man kann aber auch ohne Bild dabei sein\, dann sieht man nur die anderen. Einfach den Link unten anklicken.  \nDie Einwahldaten für den ZOOM-Gottesdienst:\nSonntag 21.Februar 2021\, 10.30 Uhr\nhttps://us02web.zoom.us/j/84556272021?pwd=VWJqT0o2K3JPbjN5QUVBN0cvVTJSQT09\nMeeting-ID: 845 5627 2021\nKenncode: 705075 \nAlternative telefonische Einwahl: 069 – 7104 9922; Meeting-ID und Kenncode wie oben werden über die Telefontastatur eingegeben \nWichtig:\n1. Man kann auch ohne Internetzugang den Gottesdienst mitfeiern\, nämlich am Telefon. Geben Sie diese Information bitte an Personen weiter\, die vielleicht gerne teilnehmen würden\, aber keinen PC und Internetzugang haben.\n2. Es ist nicht zwingend erforderlich\, die von Zoom angebotene Software zu installieren\, es funktioniert auch nur im Browser. \nDas Meeting so eingestellt\, dass man jederzeit schon vorher reinschauen kann (sofern nicht gerade ein anderes Meeting läuft\, z.B. Konfi am Donnerstag). So haben alle die Möglichkeit\, sich erst einmal zurechtzufinden\, Mikro und Kamera usw. zu testen…  \nIm Anhang findet sich auch das Plakat hierzu mit allen Zugangsdaten – so wie es in den Schaukästen hängt. \nPlakat ZOOM-Gottesdienst Invokavit
URL:https://www.ekg-hechtsheim.de/veranstaltungen/online-gottesdienst/
LOCATION:online\, Deutschland
CATEGORIES:Gottesdienste
END:VEVENT
BEGIN:VEVENT
DTSTART;TZID=Europe/Paris:20210228T100000
DTEND;TZID=Europe/Paris:20210228T110000
DTSTAMP:20260424T002224
CREATED:20210114T101200Z
LAST-MODIFIED:20210213T172849Z
UID:10000827-1614506400-1614510000@www.ekg-hechtsheim.de
SUMMARY:Offene Kirche im GZ
DESCRIPTION:Herzliche Einladung zur „Offenen Kirche“ zwischen 10 und 11 Uhr ins Gemeindezentrum\, Lion Feuchtwanger-Straße.
URL:https://www.ekg-hechtsheim.de/veranstaltungen/offene-kirche-gz/2021-02-28/
LOCATION:Gemeindezentrum Lion-Feuchtwanger-Straße\, Lion-Feuchtwanger Str. 14\, Mainz\, 55129\, Deutschland
CATEGORIES:Gottesdienste
GEO:49.9621;8.2738908
X-APPLE-STRUCTURED-LOCATION;VALUE=URI;X-ADDRESS=Gemeindezentrum Lion-Feuchtwanger-Straße Lion-Feuchtwanger Str. 14 Mainz 55129 Deutschland;X-APPLE-RADIUS=500;X-TITLE=Lion-Feuchtwanger Str. 14:geo:8.2738908,49.9621
END:VEVENT
BEGIN:VEVENT
DTSTART;TZID=Europe/Paris:20210228T110000
DTEND;TZID=Europe/Paris:20210228T120000
DTSTAMP:20260424T002224
CREATED:20210114T101614Z
LAST-MODIFIED:20210213T172631Z
UID:10000833-1614510000-1614513600@www.ekg-hechtsheim.de
SUMMARY:Offene Kirche im GH
DESCRIPTION:Herzliche Einladung zur „Offenen Kirche“ von 11 bis 12 Uhr ins Gemeindehaus Frankenhöhe\, Bodenheimer Straße.
URL:https://www.ekg-hechtsheim.de/veranstaltungen/offene-kirche-im-gh/2021-02-28/
LOCATION:Gemeindehaus Frankenhöhe\, Bodenheimer Straße 58\, Mainz\, 55129\, Deutschland
CATEGORIES:Gottesdienste
GEO:49.9667007;8.2872534
X-APPLE-STRUCTURED-LOCATION;VALUE=URI;X-ADDRESS=Gemeindehaus Frankenhöhe Bodenheimer Straße 58 Mainz 55129 Deutschland;X-APPLE-RADIUS=500;X-TITLE=Bodenheimer Straße 58:geo:8.2872534,49.9667007
END:VEVENT
END:VCALENDAR