BEGIN:VCALENDAR
VERSION:2.0
PRODID:-//Evangelische Kirchengemeinde Mainz-Hechtsheim - ECPv6.15.20//NONSGML v1.0//EN
CALSCALE:GREGORIAN
METHOD:PUBLISH
X-WR-CALNAME:Evangelische Kirchengemeinde Mainz-Hechtsheim
X-ORIGINAL-URL:https://www.ekg-hechtsheim.de
X-WR-CALDESC:Veranstaltungen für Evangelische Kirchengemeinde Mainz-Hechtsheim
REFRESH-INTERVAL;VALUE=DURATION:PT1H
X-Robots-Tag:noindex
X-PUBLISHED-TTL:PT1H
BEGIN:VTIMEZONE
TZID:Europe/Paris
BEGIN:DAYLIGHT
TZOFFSETFROM:+0100
TZOFFSETTO:+0200
TZNAME:CEST
DTSTART:20200329T010000
END:DAYLIGHT
BEGIN:STANDARD
TZOFFSETFROM:+0200
TZOFFSETTO:+0100
TZNAME:CET
DTSTART:20201025T010000
END:STANDARD
BEGIN:DAYLIGHT
TZOFFSETFROM:+0100
TZOFFSETTO:+0200
TZNAME:CEST
DTSTART:20210328T010000
END:DAYLIGHT
BEGIN:STANDARD
TZOFFSETFROM:+0200
TZOFFSETTO:+0100
TZNAME:CET
DTSTART:20211031T010000
END:STANDARD
BEGIN:DAYLIGHT
TZOFFSETFROM:+0100
TZOFFSETTO:+0200
TZNAME:CEST
DTSTART:20220327T010000
END:DAYLIGHT
BEGIN:STANDARD
TZOFFSETFROM:+0200
TZOFFSETTO:+0100
TZNAME:CET
DTSTART:20221030T010000
END:STANDARD
END:VTIMEZONE
BEGIN:VEVENT
DTSTART;VALUE=DATE:20210101
DTEND;VALUE=DATE:20210102
DTSTAMP:20260424T015204
CREATED:20201128T133848Z
LAST-MODIFIED:20201128T133848Z
UID:10001451-1609459200-1609545599@www.ekg-hechtsheim.de
SUMMARY:Neujahrstag
DESCRIPTION:
URL:https://www.ekg-hechtsheim.de/veranstaltungen/neujahrstag/
CATEGORIES:Feiertag
END:VEVENT
BEGIN:VEVENT
DTSTART;TZID=Europe/Paris:20210103T100000
DTEND;TZID=Europe/Paris:20210103T110000
DTSTAMP:20260424T015204
CREATED:20201220T104735Z
LAST-MODIFIED:20201220T105014Z
UID:10000813-1609668000-1609671600@www.ekg-hechtsheim.de
SUMMARY:Offene Kirche im Gemeindezentrum
DESCRIPTION:Für alle\, die nur kurz vorbeischauen möchten\, aber den Weg zur Kirche nicht missen wollen.\nVerweilen Sie einen kurzen Moment. \nHinweise zum Infektionsschutz
URL:https://www.ekg-hechtsheim.de/veranstaltungen/offene-kirche-im-gemeindezentrum-2/2021-01-03/
LOCATION:Gemeindezentrum Lion-Feuchtwanger-Straße\, Lion-Feuchtwanger Str. 14\, Mainz\, 55129\, Deutschland
CATEGORIES:Gottesdienste
GEO:49.9621;8.2738908
X-APPLE-STRUCTURED-LOCATION;VALUE=URI;X-ADDRESS=Gemeindezentrum Lion-Feuchtwanger-Straße Lion-Feuchtwanger Str. 14 Mainz 55129 Deutschland;X-APPLE-RADIUS=500;X-TITLE=Lion-Feuchtwanger Str. 14:geo:8.2738908,49.9621
END:VEVENT
BEGIN:VEVENT
DTSTART;TZID=Europe/Paris:20210110T110000
DTEND;TZID=Europe/Paris:20210110T120000
DTSTAMP:20260424T015204
CREATED:20210101T194208Z
LAST-MODIFIED:20210101T194208Z
UID:10001456-1610276400-1610280000@www.ekg-hechtsheim.de
SUMMARY:Digitale Gemeindeversammlung zur KV-Wahl
DESCRIPTION:Am 13. Juni 2021 wird in den Gemeinden unserer Landeskirche und damit auch in unserer Gemeinde ein neuer Kirchenvorstand gewählt! Er wird alle 6 Jahre demokratisch von allen Gemeindemitgliedern\, die 14 Jahre und älter sind\, gewählt. \nIn den letzten Wochen hat ein Benennungsausschuss\, der vom amtierenden Kirchenvorstand eingesetzt wurde\, dafür einen Wahlvorschlag erarbeitet: eine Liste der Kandidierenden für die neue Amtszeit. Diese Liste soll nun\, wie im Wahlgesetz vorgesehen\, der Gemeinde vorgestellt werden. \nDazu findet am 10. Januar 2021 um 11.00 Uhr eine digitale Gemeindeversammlung statt. Alle Gemeindemitglieder können unter folgender Adresse teilnehmen: https://bbb.rlp.net/b/jur-cke-csc-gkd \n  \n 
URL:https://www.ekg-hechtsheim.de/veranstaltungen/digitale-gemeindeversammlung-zur-kv-wahl/
CATEGORIES:Gemeinde
END:VEVENT
BEGIN:VEVENT
DTSTART;TZID=Europe/Paris:20210117T100000
DTEND;TZID=Europe/Paris:20210117T110000
DTSTAMP:20260424T015204
CREATED:20210114T101200Z
LAST-MODIFIED:20210213T172849Z
UID:10000822-1610877600-1610881200@www.ekg-hechtsheim.de
SUMMARY:Offene Kirche im GZ
DESCRIPTION:Herzliche Einladung zur „Offenen Kirche“ zwischen 10 und 11 Uhr ins Gemeindezentrum\, Lion Feuchtwanger-Straße.
URL:https://www.ekg-hechtsheim.de/veranstaltungen/offene-kirche-gz/2021-01-17/
LOCATION:Gemeindezentrum Lion-Feuchtwanger-Straße\, Lion-Feuchtwanger Str. 14\, Mainz\, 55129\, Deutschland
CATEGORIES:Gottesdienste
GEO:49.9621;8.2738908
X-APPLE-STRUCTURED-LOCATION;VALUE=URI;X-ADDRESS=Gemeindezentrum Lion-Feuchtwanger-Straße Lion-Feuchtwanger Str. 14 Mainz 55129 Deutschland;X-APPLE-RADIUS=500;X-TITLE=Lion-Feuchtwanger Str. 14:geo:8.2738908,49.9621
END:VEVENT
BEGIN:VEVENT
DTSTART;TZID=Europe/Paris:20210117T110000
DTEND;TZID=Europe/Paris:20210117T120000
DTSTAMP:20260424T015204
CREATED:20210103T112843Z
LAST-MODIFIED:20210114T163445Z
UID:10000820-1610881200-1610884800@www.ekg-hechtsheim.de
SUMMARY:Offene Kirche GH
DESCRIPTION:Raum – Musik – Stille – Gebet\n \nHerzliche Einladung zur „Offenen Kirche“ zwischen 11 und 12 Uhr im Gemeindehaus Frankenhöhe. \nThema wird die Jahreslosung für 2021 sein\, ein Satz Jesu: „Seid barmherzig wie auch euer Vater barmherzig ist“ (Lukas 6\,36) \nMusik: \nEs wird in der Offenen Kirche um 11 Uhr\, 11.15 Uhr\, 11.30 Uhr und 11.45 Uhr ein wenig Musik vom Klavier geben. \nStille: \nDazwischen ist es still\, sodass jeder und jede für sich eine ausgelegte Andacht mit Gedanken und Gebeten lesen kann oder einfach still seinen Gedanken nachhängen kann. \nGebet: \nDa es über die Weihnachtsfeiertage guten Zuspruch fand\, wird auch weiterhin die Gelegenheit sein\, am Altar Gebetskerzen anzuzünden. \nKontakt: \nKirchenvorstandmitglieder und Pfarrerin Sabine Feucht-Münch sind vor Ort\, sie sind ansprechbar für Wünsche\, Anregungen\, Sorgen\, …
URL:https://www.ekg-hechtsheim.de/veranstaltungen/gottesdienst-zur-jahreslosung/
LOCATION:Gemeindehaus Frankenhöhe\, Bodenheimer Straße 58\, Mainz\, 55129\, Deutschland
CATEGORIES:Gottesdienste
GEO:49.9667007;8.2872534
X-APPLE-STRUCTURED-LOCATION;VALUE=URI;X-ADDRESS=Gemeindehaus Frankenhöhe Bodenheimer Straße 58 Mainz 55129 Deutschland;X-APPLE-RADIUS=500;X-TITLE=Bodenheimer Straße 58:geo:8.2872534,49.9667007
END:VEVENT
BEGIN:VEVENT
DTSTART;TZID=Europe/Paris:20210118T193000
DTEND;TZID=Europe/Paris:20210118T210000
DTSTAMP:20260424T015204
CREATED:20171218T090742Z
LAST-MODIFIED:20180108T083306Z
UID:10000319-1610998200-1611003600@www.ekg-hechtsheim.de
SUMMARY:Abend in der Stille
DESCRIPTION:Einmal im Monat findet ein Abend in der Stille in der Regel am 3. Montag im Monat im Gemeindezentrum von 19.30 – 21  Uhr (außer in den Schulferien) statt. \nExerzitien im Alltag sind ein Weg\, auf dem wir einüben können\, den Alltag bewusster und aufmerksamer wahrzunehmen und Gott dort zu entdecken\, wo er sich von uns finden lassen möchte: mitten im Leben. \nAus dem Projekt in der Passionszeit 2016 ist der Wunsch entstanden\, regelmäßig\, einmal im Monat\, solche „Exerzitien im Alltag“ miteinander zu teilen und in Gemeinschaft einen solchen Weg zu gehen. \nEinmal im Monat sind alle Interessierten eingeladen zusammen zu kommen: zum Einüben verschiedener Formen von Zeiten der Stille\, Meditation über biblischen Worten und Gebet\, zum Austausch über die Erfahrungen. \nTermine in 2018: 22. Januar\, 19. Februar\,  19. März\, 23. April 21. Mai\, 18. Juni\, im Juli Pause wegen Sommerferien. \nBequeme Kleidung\, möglicherweise eine wärmende Decke oder Wollsocken\, um im Sitzen und Schweigen einen warmen Rücken und warme Füße zu behalten\, bringen Sie bitte dazu von zu Hause mit.
URL:https://www.ekg-hechtsheim.de/veranstaltungen/abend-in-der-stille-mit-den-perlen-des-glaubens-beten-und-ueber-gott-und-die-welt-gemeinsam-nachsinnen-2018-04-16/2021-01-18/
LOCATION:16:00 - \, Deutschland
CATEGORIES:Gottesdienste
END:VEVENT
BEGIN:VEVENT
DTSTART;TZID=Europe/Paris:20210124T100000
DTEND;TZID=Europe/Paris:20210124T110000
DTSTAMP:20260424T015204
CREATED:20210114T101200Z
LAST-MODIFIED:20210213T172849Z
UID:10000823-1611482400-1611486000@www.ekg-hechtsheim.de
SUMMARY:Offene Kirche im GZ
DESCRIPTION:Herzliche Einladung zur „Offenen Kirche“ zwischen 10 und 11 Uhr ins Gemeindezentrum\, Lion Feuchtwanger-Straße.
URL:https://www.ekg-hechtsheim.de/veranstaltungen/offene-kirche-gz/2021-01-24/
LOCATION:Gemeindezentrum Lion-Feuchtwanger-Straße\, Lion-Feuchtwanger Str. 14\, Mainz\, 55129\, Deutschland
CATEGORIES:Gottesdienste
GEO:49.9621;8.2738908
X-APPLE-STRUCTURED-LOCATION;VALUE=URI;X-ADDRESS=Gemeindezentrum Lion-Feuchtwanger-Straße Lion-Feuchtwanger Str. 14 Mainz 55129 Deutschland;X-APPLE-RADIUS=500;X-TITLE=Lion-Feuchtwanger Str. 14:geo:8.2738908,49.9621
END:VEVENT
BEGIN:VEVENT
DTSTART;TZID=Europe/Paris:20210124T110000
DTEND;TZID=Europe/Paris:20210124T120000
DTSTAMP:20260424T015204
CREATED:20210114T101614Z
LAST-MODIFIED:20210213T172631Z
UID:10000829-1611486000-1611489600@www.ekg-hechtsheim.de
SUMMARY:Offene Kirche im GH
DESCRIPTION:Herzliche Einladung zur „Offenen Kirche“ von 11 bis 12 Uhr ins Gemeindehaus Frankenhöhe\, Bodenheimer Straße.
URL:https://www.ekg-hechtsheim.de/veranstaltungen/offene-kirche-im-gh/2021-01-24/
LOCATION:Gemeindehaus Frankenhöhe\, Bodenheimer Straße 58\, Mainz\, 55129\, Deutschland
CATEGORIES:Gottesdienste
GEO:49.9667007;8.2872534
X-APPLE-STRUCTURED-LOCATION;VALUE=URI;X-ADDRESS=Gemeindehaus Frankenhöhe Bodenheimer Straße 58 Mainz 55129 Deutschland;X-APPLE-RADIUS=500;X-TITLE=Bodenheimer Straße 58:geo:8.2872534,49.9667007
END:VEVENT
BEGIN:VEVENT
DTSTART;TZID=Europe/Paris:20210131T100000
DTEND;TZID=Europe/Paris:20210131T110000
DTSTAMP:20260424T015204
CREATED:20210114T101200Z
LAST-MODIFIED:20210213T172849Z
UID:10000824-1612087200-1612090800@www.ekg-hechtsheim.de
SUMMARY:Offene Kirche im GZ
DESCRIPTION:Herzliche Einladung zur „Offenen Kirche“ zwischen 10 und 11 Uhr ins Gemeindezentrum\, Lion Feuchtwanger-Straße.
URL:https://www.ekg-hechtsheim.de/veranstaltungen/offene-kirche-gz/2021-01-31/
LOCATION:Gemeindezentrum Lion-Feuchtwanger-Straße\, Lion-Feuchtwanger Str. 14\, Mainz\, 55129\, Deutschland
CATEGORIES:Gottesdienste
GEO:49.9621;8.2738908
X-APPLE-STRUCTURED-LOCATION;VALUE=URI;X-ADDRESS=Gemeindezentrum Lion-Feuchtwanger-Straße Lion-Feuchtwanger Str. 14 Mainz 55129 Deutschland;X-APPLE-RADIUS=500;X-TITLE=Lion-Feuchtwanger Str. 14:geo:8.2738908,49.9621
END:VEVENT
BEGIN:VEVENT
DTSTART;TZID=Europe/Paris:20210131T110000
DTEND;TZID=Europe/Paris:20210131T120000
DTSTAMP:20260424T015204
CREATED:20210114T101614Z
LAST-MODIFIED:20210213T172631Z
UID:10000830-1612090800-1612094400@www.ekg-hechtsheim.de
SUMMARY:Offene Kirche im GH
DESCRIPTION:Herzliche Einladung zur „Offenen Kirche“ von 11 bis 12 Uhr ins Gemeindehaus Frankenhöhe\, Bodenheimer Straße.
URL:https://www.ekg-hechtsheim.de/veranstaltungen/offene-kirche-im-gh/2021-01-31/
LOCATION:Gemeindehaus Frankenhöhe\, Bodenheimer Straße 58\, Mainz\, 55129\, Deutschland
CATEGORIES:Gottesdienste
GEO:49.9667007;8.2872534
X-APPLE-STRUCTURED-LOCATION;VALUE=URI;X-ADDRESS=Gemeindehaus Frankenhöhe Bodenheimer Straße 58 Mainz 55129 Deutschland;X-APPLE-RADIUS=500;X-TITLE=Bodenheimer Straße 58:geo:8.2872534,49.9667007
END:VEVENT
END:VCALENDAR