BEGIN:VCALENDAR
VERSION:2.0
PRODID:-//Evangelische Kirchengemeinde Mainz-Hechtsheim - ECPv6.15.20//NONSGML v1.0//EN
CALSCALE:GREGORIAN
METHOD:PUBLISH
X-WR-CALNAME:Evangelische Kirchengemeinde Mainz-Hechtsheim
X-ORIGINAL-URL:https://www.ekg-hechtsheim.de
X-WR-CALDESC:Veranstaltungen für Evangelische Kirchengemeinde Mainz-Hechtsheim
REFRESH-INTERVAL;VALUE=DURATION:PT1H
X-Robots-Tag:noindex
X-PUBLISHED-TTL:PT1H
BEGIN:VTIMEZONE
TZID:Europe/Paris
BEGIN:DAYLIGHT
TZOFFSETFROM:+0100
TZOFFSETTO:+0200
TZNAME:CEST
DTSTART:20190331T010000
END:DAYLIGHT
BEGIN:STANDARD
TZOFFSETFROM:+0200
TZOFFSETTO:+0100
TZNAME:CET
DTSTART:20191027T010000
END:STANDARD
BEGIN:DAYLIGHT
TZOFFSETFROM:+0100
TZOFFSETTO:+0200
TZNAME:CEST
DTSTART:20200329T010000
END:DAYLIGHT
BEGIN:STANDARD
TZOFFSETFROM:+0200
TZOFFSETTO:+0100
TZNAME:CET
DTSTART:20201025T010000
END:STANDARD
BEGIN:DAYLIGHT
TZOFFSETFROM:+0100
TZOFFSETTO:+0200
TZNAME:CEST
DTSTART:20210328T010000
END:DAYLIGHT
BEGIN:STANDARD
TZOFFSETFROM:+0200
TZOFFSETTO:+0100
TZNAME:CET
DTSTART:20211031T010000
END:STANDARD
END:VTIMEZONE
BEGIN:VEVENT
DTSTART;TZID=Europe/Paris:20201101T100000
DTEND;TZID=Europe/Paris:20201101T110000
DTSTAMP:20260424T050541
CREATED:20201009T110129Z
LAST-MODIFIED:20201009T110129Z
UID:10000788-1604224800-1604228400@www.ekg-hechtsheim.de
SUMMARY:Gottesdienst
DESCRIPTION:Gottesdienst in angepasster Form \nHinweise zum Infektionsschutz
URL:https://www.ekg-hechtsheim.de/veranstaltungen/gottesdienst-145/2020-11-01/
LOCATION:Gemeindezentrum Lion-Feuchtwanger-Straße\, Lion-Feuchtwanger Str. 14\, Mainz\, 55129\, Deutschland
CATEGORIES:Gottesdienste
GEO:49.9621;8.2738908
X-APPLE-STRUCTURED-LOCATION;VALUE=URI;X-ADDRESS=Gemeindezentrum Lion-Feuchtwanger-Straße Lion-Feuchtwanger Str. 14 Mainz 55129 Deutschland;X-APPLE-RADIUS=500;X-TITLE=Lion-Feuchtwanger Str. 14:geo:8.2738908,49.9621
END:VEVENT
BEGIN:VEVENT
DTSTART;TZID=Europe/Paris:20201101T110000
DTEND;TZID=Europe/Paris:20201101T120000
DTSTAMP:20260424T050542
CREATED:20201009T111342Z
LAST-MODIFIED:20201009T111342Z
UID:10000793-1604228400-1604232000@www.ekg-hechtsheim.de
SUMMARY:Gottesdienst
DESCRIPTION:Gottesdienst in angepasster Form \nHinweise zum Infektionsschutz
URL:https://www.ekg-hechtsheim.de/veranstaltungen/gottesdienst-146/
LOCATION:Gemeindehaus Frankenhöhe\, Bodenheimer Straße 58\, Mainz\, 55129\, Deutschland
CATEGORIES:Gottesdienste
GEO:49.9667007;8.2872534
X-APPLE-STRUCTURED-LOCATION;VALUE=URI;X-ADDRESS=Gemeindehaus Frankenhöhe Bodenheimer Straße 58 Mainz 55129 Deutschland;X-APPLE-RADIUS=500;X-TITLE=Bodenheimer Straße 58:geo:8.2872534,49.9667007
END:VEVENT
BEGIN:VEVENT
DTSTART;TZID=Europe/Paris:20201106T180000
DTEND;TZID=Europe/Paris:20201106T183000
DTSTAMP:20260424T050542
CREATED:20201106T162415Z
LAST-MODIFIED:20210114T102853Z
UID:10001417-1604685600-1604687400@www.ekg-hechtsheim.de
SUMMARY:Musikalische Abendandacht zum Wochenausklang
DESCRIPTION:Herzliche Einladung zur „Musikalischen Abendandacht zum Wochenausklang in der dunklen Jahreszeit“ im Evangelischen Gemeindezentrum\, Lion-Feuchtwanger-Str.14-16. \nDiese besondere Abendandacht findet – je nach Lage der Pandemie – 14-täglich freitags von 18 bis 18.30 Uhr statt. Carolin Kaiser (Orgel) und Gäste spielen zu ausgesuchten Psalmversen. \nZu folgenden Terminen wird eingeladen: \n19. Februar: Carolin Kaiser (Orgel-Solo) \nDie Veranstaltungen finden unter den geltenden Hygieneregeln statt.\nBitte denken Sie an einen Mund-Nasen-Schutz und warme Kleidung.\nEine Anmeldung ist nicht erforderlich. \n 
URL:https://www.ekg-hechtsheim.de/veranstaltungen/musikalische-abendandacht-zum-wochenausklang/2020-11-06/
LOCATION:Gemeindezentrum Lion-Feuchtwanger-Straße\, Lion-Feuchtwanger Str. 14\, Mainz\, 55129\, Deutschland
CATEGORIES:Gottesdienste
GEO:49.9621;8.2738908
X-APPLE-STRUCTURED-LOCATION;VALUE=URI;X-ADDRESS=Gemeindezentrum Lion-Feuchtwanger-Straße Lion-Feuchtwanger Str. 14 Mainz 55129 Deutschland;X-APPLE-RADIUS=500;X-TITLE=Lion-Feuchtwanger Str. 14:geo:8.2738908,49.9621
END:VEVENT
BEGIN:VEVENT
DTSTART;VALUE=DATE:20201108
DTEND;VALUE=DATE:20201109
DTSTAMP:20260424T050542
CREATED:20201009T111449Z
LAST-MODIFIED:20201105T141735Z
UID:10000796-1604793600-1604879999@www.ekg-hechtsheim.de
SUMMARY:Kinderkirche zuhause
DESCRIPTION:Die Kinderkirche findet diesmal nicht im Gemeindehaus statt\, sondern kommt zu euch in den Briefkasten.
URL:https://www.ekg-hechtsheim.de/veranstaltungen/kinderkirche-18/
CATEGORIES:Gottesdienste
END:VEVENT
BEGIN:VEVENT
DTSTART;TZID=Europe/Paris:20201108T100000
DTEND;TZID=Europe/Paris:20201108T110000
DTSTAMP:20260424T050542
CREATED:20201009T110129Z
LAST-MODIFIED:20201009T110129Z
UID:10000789-1604829600-1604833200@www.ekg-hechtsheim.de
SUMMARY:Gottesdienst
DESCRIPTION:Gottesdienst in angepasster Form \nHinweise zum Infektionsschutz
URL:https://www.ekg-hechtsheim.de/veranstaltungen/gottesdienst-145/2020-11-08/
LOCATION:Gemeindezentrum Lion-Feuchtwanger-Straße\, Lion-Feuchtwanger Str. 14\, Mainz\, 55129\, Deutschland
CATEGORIES:Gottesdienste
GEO:49.9621;8.2738908
X-APPLE-STRUCTURED-LOCATION;VALUE=URI;X-ADDRESS=Gemeindezentrum Lion-Feuchtwanger-Straße Lion-Feuchtwanger Str. 14 Mainz 55129 Deutschland;X-APPLE-RADIUS=500;X-TITLE=Lion-Feuchtwanger Str. 14:geo:8.2738908,49.9621
END:VEVENT
BEGIN:VEVENT
DTSTART;TZID=Europe/Paris:20201112T160000
DTEND;TZID=Europe/Paris:20201112T170000
DTSTAMP:20260424T050542
CREATED:20201009T111236Z
LAST-MODIFIED:20201009T111236Z
UID:10000792-1605196800-1605200400@www.ekg-hechtsheim.de
SUMMARY:Gottesdienst in der Seniorenresidenz
DESCRIPTION:
URL:https://www.ekg-hechtsheim.de/veranstaltungen/gottesdienst-in-der-seniorenresidenz/2020-11-12/
LOCATION:16:00 - \, Deutschland
CATEGORIES:Gottesdienste
END:VEVENT
BEGIN:VEVENT
DTSTART;TZID=Europe/Paris:20201115T100000
DTEND;TZID=Europe/Paris:20201115T110000
DTSTAMP:20260424T050542
CREATED:20201009T111548Z
LAST-MODIFIED:20201009T111548Z
UID:10000797-1605434400-1605438000@www.ekg-hechtsheim.de
SUMMARY:Gottesdienst
DESCRIPTION:Gottesdienst in angepasster Form \nHinweise zum Infektionsschutz
URL:https://www.ekg-hechtsheim.de/veranstaltungen/gottesdienst-147/
LOCATION:Gemeindezentrum Lion-Feuchtwanger-Straße\, Lion-Feuchtwanger Str. 14\, Mainz\, 55129\, Deutschland
CATEGORIES:Gottesdienste
GEO:49.9621;8.2738908
X-APPLE-STRUCTURED-LOCATION;VALUE=URI;X-ADDRESS=Gemeindezentrum Lion-Feuchtwanger-Straße Lion-Feuchtwanger Str. 14 Mainz 55129 Deutschland;X-APPLE-RADIUS=500;X-TITLE=Lion-Feuchtwanger Str. 14:geo:8.2738908,49.9621
END:VEVENT
BEGIN:VEVENT
DTSTART;TZID=Europe/Paris:20201115T110000
DTEND;TZID=Europe/Paris:20201115T120000
DTSTAMP:20260424T050542
CREATED:20201009T111707Z
LAST-MODIFIED:20201009T111707Z
UID:10000800-1605438000-1605441600@www.ekg-hechtsheim.de
SUMMARY:Gottesdienst
DESCRIPTION:Gottesdienst in angepasster Form \nHinweise zum Infektionsschutz
URL:https://www.ekg-hechtsheim.de/veranstaltungen/gottesdienst-148/
LOCATION:Gemeindehaus Frankenhöhe\, Bodenheimer Straße 58\, Mainz\, 55129\, Deutschland
CATEGORIES:Gottesdienste
GEO:49.9667007;8.2872534
X-APPLE-STRUCTURED-LOCATION;VALUE=URI;X-ADDRESS=Gemeindehaus Frankenhöhe Bodenheimer Straße 58 Mainz 55129 Deutschland;X-APPLE-RADIUS=500;X-TITLE=Bodenheimer Straße 58:geo:8.2872534,49.9667007
END:VEVENT
BEGIN:VEVENT
DTSTART;TZID=Europe/Paris:20201116T193000
DTEND;TZID=Europe/Paris:20201116T210000
DTSTAMP:20260424T050542
CREATED:20171218T090742Z
LAST-MODIFIED:20180108T083306Z
UID:10000317-1605555000-1605560400@www.ekg-hechtsheim.de
SUMMARY:Abend in der Stille
DESCRIPTION:Einmal im Monat findet ein Abend in der Stille in der Regel am 3. Montag im Monat im Gemeindezentrum von 19.30 – 21  Uhr (außer in den Schulferien) statt. \nExerzitien im Alltag sind ein Weg\, auf dem wir einüben können\, den Alltag bewusster und aufmerksamer wahrzunehmen und Gott dort zu entdecken\, wo er sich von uns finden lassen möchte: mitten im Leben. \nAus dem Projekt in der Passionszeit 2016 ist der Wunsch entstanden\, regelmäßig\, einmal im Monat\, solche „Exerzitien im Alltag“ miteinander zu teilen und in Gemeinschaft einen solchen Weg zu gehen. \nEinmal im Monat sind alle Interessierten eingeladen zusammen zu kommen: zum Einüben verschiedener Formen von Zeiten der Stille\, Meditation über biblischen Worten und Gebet\, zum Austausch über die Erfahrungen. \nTermine in 2018: 22. Januar\, 19. Februar\,  19. März\, 23. April 21. Mai\, 18. Juni\, im Juli Pause wegen Sommerferien. \nBequeme Kleidung\, möglicherweise eine wärmende Decke oder Wollsocken\, um im Sitzen und Schweigen einen warmen Rücken und warme Füße zu behalten\, bringen Sie bitte dazu von zu Hause mit.
URL:https://www.ekg-hechtsheim.de/veranstaltungen/abend-in-der-stille-mit-den-perlen-des-glaubens-beten-und-ueber-gott-und-die-welt-gemeinsam-nachsinnen-2018-04-16/2020-11-16/
LOCATION:16:00 - \, Deutschland
CATEGORIES:Gottesdienste
END:VEVENT
BEGIN:VEVENT
DTSTART;TZID=Europe/Paris:20201120T180000
DTEND;TZID=Europe/Paris:20201120T183000
DTSTAMP:20260424T050542
CREATED:20201106T162415Z
LAST-MODIFIED:20210114T102853Z
UID:10001418-1605895200-1605897000@www.ekg-hechtsheim.de
SUMMARY:Musikalische Abendandacht zum Wochenausklang
DESCRIPTION:Herzliche Einladung zur „Musikalischen Abendandacht zum Wochenausklang in der dunklen Jahreszeit“ im Evangelischen Gemeindezentrum\, Lion-Feuchtwanger-Str.14-16. \nDiese besondere Abendandacht findet – je nach Lage der Pandemie – 14-täglich freitags von 18 bis 18.30 Uhr statt. Carolin Kaiser (Orgel) und Gäste spielen zu ausgesuchten Psalmversen. \nZu folgenden Terminen wird eingeladen: \n19. Februar: Carolin Kaiser (Orgel-Solo) \nDie Veranstaltungen finden unter den geltenden Hygieneregeln statt.\nBitte denken Sie an einen Mund-Nasen-Schutz und warme Kleidung.\nEine Anmeldung ist nicht erforderlich. \n 
URL:https://www.ekg-hechtsheim.de/veranstaltungen/musikalische-abendandacht-zum-wochenausklang/2020-11-20/
LOCATION:Gemeindezentrum Lion-Feuchtwanger-Straße\, Lion-Feuchtwanger Str. 14\, Mainz\, 55129\, Deutschland
CATEGORIES:Gottesdienste
GEO:49.9621;8.2738908
X-APPLE-STRUCTURED-LOCATION;VALUE=URI;X-ADDRESS=Gemeindezentrum Lion-Feuchtwanger-Straße Lion-Feuchtwanger Str. 14 Mainz 55129 Deutschland;X-APPLE-RADIUS=500;X-TITLE=Lion-Feuchtwanger Str. 14:geo:8.2738908,49.9621
END:VEVENT
BEGIN:VEVENT
DTSTART;TZID=Europe/Paris:20201122T100000
DTEND;TZID=Europe/Paris:20201122T110000
DTSTAMP:20260424T050542
CREATED:20201009T111816Z
LAST-MODIFIED:20201009T111816Z
UID:10000802-1606039200-1606042800@www.ekg-hechtsheim.de
SUMMARY:Gottesdienst mit Gedenken an die Verstorbenen
DESCRIPTION:Gottesdienst in angepasster Form \nHinweise zum Infektionsschutz
URL:https://www.ekg-hechtsheim.de/veranstaltungen/gottesdienst-mit-gedenken-an-die-verstorbenen/
LOCATION:Gemeindezentrum Lion-Feuchtwanger-Straße\, Lion-Feuchtwanger Str. 14\, Mainz\, 55129\, Deutschland
CATEGORIES:Gottesdienste
GEO:49.9621;8.2738908
X-APPLE-STRUCTURED-LOCATION;VALUE=URI;X-ADDRESS=Gemeindezentrum Lion-Feuchtwanger-Straße Lion-Feuchtwanger Str. 14 Mainz 55129 Deutschland;X-APPLE-RADIUS=500;X-TITLE=Lion-Feuchtwanger Str. 14:geo:8.2738908,49.9621
END:VEVENT
BEGIN:VEVENT
DTSTART;TZID=Europe/Paris:20201122T110000
DTEND;TZID=Europe/Paris:20201122T120000
DTSTAMP:20260424T050542
CREATED:20201009T111928Z
LAST-MODIFIED:20201009T111928Z
UID:10001437-1606042800-1606046400@www.ekg-hechtsheim.de
SUMMARY:Gottesdienst mit Gedenken an die Verstorbenen
DESCRIPTION:Gottesdienst in angepasster Form \nHinweise zum Infektionsschutz
URL:https://www.ekg-hechtsheim.de/veranstaltungen/gottesdienst-mit-gedenken-an-die-verstorbenen-2/
LOCATION:Gemeindehaus Frankenhöhe\, Bodenheimer Straße 58\, Mainz\, 55129\, Deutschland
CATEGORIES:Gottesdienste
GEO:49.9667007;8.2872534
X-APPLE-STRUCTURED-LOCATION;VALUE=URI;X-ADDRESS=Gemeindehaus Frankenhöhe Bodenheimer Straße 58 Mainz 55129 Deutschland;X-APPLE-RADIUS=500;X-TITLE=Bodenheimer Straße 58:geo:8.2872534,49.9667007
END:VEVENT
BEGIN:VEVENT
DTSTART;VALUE=DATE:20201129
DTEND;VALUE=DATE:20201130
DTSTAMP:20260424T050542
CREATED:20201128T133500Z
LAST-MODIFIED:20201128T133500Z
UID:10001442-1606608000-1606694399@www.ekg-hechtsheim.de
SUMMARY:1. Advent
DESCRIPTION:
URL:https://www.ekg-hechtsheim.de/veranstaltungen/1-advent/
CATEGORIES:Feiertag
END:VEVENT
BEGIN:VEVENT
DTSTART;TZID=Europe/Paris:20201129T100000
DTEND;TZID=Europe/Paris:20201129T110000
DTSTAMP:20260424T050542
CREATED:20201125T140737Z
LAST-MODIFIED:20201125T140737Z
UID:10001412-1606644000-1606647600@www.ekg-hechtsheim.de
SUMMARY:Gottesdienst
DESCRIPTION:Gottesdienst in angepasster Form \nHinweise zum Infektionsschutz
URL:https://www.ekg-hechtsheim.de/veranstaltungen/gottesdienst-149/2020-11-29/
LOCATION:Gemeindezentrum Lion-Feuchtwanger-Straße\, Lion-Feuchtwanger Str. 14\, Mainz\, 55129\, Deutschland
CATEGORIES:Gottesdienste
GEO:49.9621;8.2738908
X-APPLE-STRUCTURED-LOCATION;VALUE=URI;X-ADDRESS=Gemeindezentrum Lion-Feuchtwanger-Straße Lion-Feuchtwanger Str. 14 Mainz 55129 Deutschland;X-APPLE-RADIUS=500;X-TITLE=Lion-Feuchtwanger Str. 14:geo:8.2738908,49.9621
END:VEVENT
BEGIN:VEVENT
DTSTART;TZID=Europe/Paris:20201129T180000
DTEND;TZID=Europe/Paris:20201129T190000
DTSTAMP:20260424T050542
CREATED:20201125T141029Z
LAST-MODIFIED:20201125T141029Z
UID:10001439-1606672800-1606676400@www.ekg-hechtsheim.de
SUMMARY:Literatur-Abendgottesdienst
DESCRIPTION:Gottesdienst in angepasster Form \nHinweise zum Infektionsschutz
URL:https://www.ekg-hechtsheim.de/veranstaltungen/literatur-abendgottesdienst-8/
LOCATION:Gemeindehaus Frankenhöhe\, Bodenheimer Straße 58\, Mainz\, 55129\, Deutschland
CATEGORIES:Gottesdienste
GEO:49.9667007;8.2872534
X-APPLE-STRUCTURED-LOCATION;VALUE=URI;X-ADDRESS=Gemeindehaus Frankenhöhe Bodenheimer Straße 58 Mainz 55129 Deutschland;X-APPLE-RADIUS=500;X-TITLE=Bodenheimer Straße 58:geo:8.2872534,49.9667007
END:VEVENT
END:VCALENDAR