BEGIN:VCALENDAR
VERSION:2.0
PRODID:-//Evangelische Kirchengemeinde Mainz-Hechtsheim - ECPv6.15.20//NONSGML v1.0//EN
CALSCALE:GREGORIAN
METHOD:PUBLISH
X-WR-CALNAME:Evangelische Kirchengemeinde Mainz-Hechtsheim
X-ORIGINAL-URL:https://www.ekg-hechtsheim.de
X-WR-CALDESC:Veranstaltungen für Evangelische Kirchengemeinde Mainz-Hechtsheim
REFRESH-INTERVAL;VALUE=DURATION:PT1H
X-Robots-Tag:noindex
X-PUBLISHED-TTL:PT1H
BEGIN:VTIMEZONE
TZID:Europe/Paris
BEGIN:DAYLIGHT
TZOFFSETFROM:+0100
TZOFFSETTO:+0200
TZNAME:CEST
DTSTART:20190331T010000
END:DAYLIGHT
BEGIN:STANDARD
TZOFFSETFROM:+0200
TZOFFSETTO:+0100
TZNAME:CET
DTSTART:20191027T010000
END:STANDARD
BEGIN:DAYLIGHT
TZOFFSETFROM:+0100
TZOFFSETTO:+0200
TZNAME:CEST
DTSTART:20200329T010000
END:DAYLIGHT
BEGIN:STANDARD
TZOFFSETFROM:+0200
TZOFFSETTO:+0100
TZNAME:CET
DTSTART:20201025T010000
END:STANDARD
BEGIN:DAYLIGHT
TZOFFSETFROM:+0100
TZOFFSETTO:+0200
TZNAME:CEST
DTSTART:20210328T010000
END:DAYLIGHT
BEGIN:STANDARD
TZOFFSETFROM:+0200
TZOFFSETTO:+0100
TZNAME:CET
DTSTART:20211031T010000
END:STANDARD
END:VTIMEZONE
BEGIN:VEVENT
DTSTART;VALUE=DATE:20201003
DTEND;VALUE=DATE:20201004
DTSTAMP:20260424T064532
CREATED:20200515T140631Z
LAST-MODIFIED:20200515T140631Z
UID:10001390-1601683200-1601769599@www.ekg-hechtsheim.de
SUMMARY:Tag der Deutschen Einheit
DESCRIPTION:
URL:https://www.ekg-hechtsheim.de/veranstaltungen/tag-der-deutschen-einheit/
CATEGORIES:Feiertag
END:VEVENT
BEGIN:VEVENT
DTSTART;TZID=Europe/Paris:20201004T100000
DTEND;TZID=Europe/Paris:20201004T110000
DTSTAMP:20260424T064532
CREATED:20200903T173314Z
LAST-MODIFIED:20200903T173314Z
UID:10001408-1601805600-1601809200@www.ekg-hechtsheim.de
SUMMARY:Gottesdienst zu Erntedank
DESCRIPTION:Gottesdienst in angepasster Form zum Thema Nachhaltigkeit \nHinweise zum Infektionsschutz
URL:https://www.ekg-hechtsheim.de/veranstaltungen/gottesdienst-zu-erntedank/
LOCATION:Gemeindezentrum Lion-Feuchtwanger-Straße\, Lion-Feuchtwanger Str. 14\, Mainz\, 55129\, Deutschland
CATEGORIES:Gottesdienste
GEO:49.9621;8.2738908
X-APPLE-STRUCTURED-LOCATION;VALUE=URI;X-ADDRESS=Gemeindezentrum Lion-Feuchtwanger-Straße Lion-Feuchtwanger Str. 14 Mainz 55129 Deutschland;X-APPLE-RADIUS=500;X-TITLE=Lion-Feuchtwanger Str. 14:geo:8.2738908,49.9621
END:VEVENT
BEGIN:VEVENT
DTSTART;TZID=Europe/Paris:20201004T110000
DTEND;TZID=Europe/Paris:20201004T120000
DTSTAMP:20260424T064532
CREATED:20200903T173508Z
LAST-MODIFIED:20200903T173508Z
UID:10001392-1601809200-1601812800@www.ekg-hechtsheim.de
SUMMARY:Kinderkirche
DESCRIPTION:Gottesdienst in angepasster Form \nHinweise zum Infektionsschutz
URL:https://www.ekg-hechtsheim.de/veranstaltungen/kinderkirche-17/
LOCATION:Gemeindehaus Frankenhöhe\, Bodenheimer Straße 58\, Mainz\, 55129\, Deutschland
CATEGORIES:Gottesdienste
GEO:49.9667007;8.2872534
X-APPLE-STRUCTURED-LOCATION;VALUE=URI;X-ADDRESS=Gemeindehaus Frankenhöhe Bodenheimer Straße 58 Mainz 55129 Deutschland;X-APPLE-RADIUS=500;X-TITLE=Bodenheimer Straße 58:geo:8.2872534,49.9667007
END:VEVENT
BEGIN:VEVENT
DTSTART;TZID=Europe/Paris:20201007T160000
DTEND;TZID=Europe/Paris:20201007T180000
DTSTAMP:20260424T064532
CREATED:20200917T094454Z
LAST-MODIFIED:20200917T094454Z
UID:10001434-1602086400-1602093600@www.ekg-hechtsheim.de
SUMMARY:Ausstellung geöffnet
DESCRIPTION:Am 13.September konnten wir das Gemeindehausjubiläum mit Gottesdiensten und Ausstellungseröffnung „Vertrauen und Zweifel – Bilder\, Fotografie und Skulptur von Andreas Koridass und Brigitte Zander“ feiern. Der Gottesdienst hatte die Jahreslosung „Ich glaube\, hilf meinem Unglauben“ als Thema. Eindrucksvoll berichteten Andreas Koridass und Brigitte Zander bei der Ausstellungseröffnung am Nachmittag von ihren Gedanken zum Thema. Unter allen Sicherheitsauflagen ist die Ausstellung ist jeweils Mittwoch\, 16Uhr bis 18Uhr geöffnet.
URL:https://www.ekg-hechtsheim.de/veranstaltungen/ausstellung-geoeffnet/2020-10-07/
CATEGORIES:Gemeinde
END:VEVENT
BEGIN:VEVENT
DTSTART;TZID=Europe/Paris:20201009T180000
DTEND;TZID=Europe/Paris:20201009T200000
DTSTAMP:20260424T064532
CREATED:20201009T110915Z
LAST-MODIFIED:20201009T110915Z
UID:10000790-1602266400-1602273600@www.ekg-hechtsheim.de
SUMMARY:Literatur-Abendgottesdienst
DESCRIPTION:Juli Zeh: Unterleuten \nDas soziale Gefüge eines Dorfes in Brandenburg gerät aus den Fugen\, als dort ein Windpark gebaut werden soll.\nAlteingesessene und Zugezogene kämpfen für ihre Interessen. Alte Rechnungen werden präsentiert\, Beziehungen verändert.\nDer Roman aus dem Jahr 2016 spielt mit dem Gedanken\, dass es vielleicht keine Wahrheit gibt\, sondern immer nur Perspektiven. \nHinweise zum Infektionsschutz
URL:https://www.ekg-hechtsheim.de/veranstaltungen/literatur-abendgottesdienst-7/
LOCATION:Gemeindehaus Frankenhöhe\, Bodenheimer Straße 58\, Mainz\, 55129\, Deutschland
CATEGORIES:Gottesdienste
GEO:49.9667007;8.2872534
X-APPLE-STRUCTURED-LOCATION;VALUE=URI;X-ADDRESS=Gemeindehaus Frankenhöhe Bodenheimer Straße 58 Mainz 55129 Deutschland;X-APPLE-RADIUS=500;X-TITLE=Bodenheimer Straße 58:geo:8.2872534,49.9667007
END:VEVENT
BEGIN:VEVENT
DTSTART;TZID=Europe/Paris:20201010T150000
DTEND;TZID=Europe/Paris:20201010T170000
DTSTAMP:20260424T064532
CREATED:20200910T160428Z
LAST-MODIFIED:20200914T094106Z
UID:10001430-1602342000-1602349200@www.ekg-hechtsheim.de
SUMMARY:Seniorennachmittag
DESCRIPTION:Der Seniorenclub der Evangelischen Kirchengemeinde trifft sich im am Samstag\, 10. Oktober\, um 15 Uhr. \nDie Veranstaltung findet unter den aktuellen Sicherheitsmaßnahmen statt. Alle Teilnehmer werden gebeten\, ihre Maske mitzubringen.
URL:https://www.ekg-hechtsheim.de/veranstaltungen/seniorennachmittag-3/
LOCATION:16:00 - \, Deutschland
CATEGORIES:Gemeinde
END:VEVENT
BEGIN:VEVENT
DTSTART;TZID=Europe/Paris:20201011T100000
DTEND;TZID=Europe/Paris:20201011T110000
DTSTAMP:20260424T064532
CREATED:20200903T173407Z
LAST-MODIFIED:20200903T173407Z
UID:10001410-1602410400-1602414000@www.ekg-hechtsheim.de
SUMMARY:Gottesdienst
DESCRIPTION:Gottesdienst in angepasster Form \nHinweise zum Infektionsschutz
URL:https://www.ekg-hechtsheim.de/veranstaltungen/gottesdienst-142/
LOCATION:Gemeindezentrum Lion-Feuchtwanger-Straße\, Lion-Feuchtwanger Str. 14\, Mainz\, 55129\, Deutschland
CATEGORIES:Gottesdienste
GEO:49.9621;8.2738908
X-APPLE-STRUCTURED-LOCATION;VALUE=URI;X-ADDRESS=Gemeindezentrum Lion-Feuchtwanger-Straße Lion-Feuchtwanger Str. 14 Mainz 55129 Deutschland;X-APPLE-RADIUS=500;X-TITLE=Lion-Feuchtwanger Str. 14:geo:8.2738908,49.9621
END:VEVENT
BEGIN:VEVENT
DTSTART;TZID=Europe/Paris:20201018T100000
DTEND;TZID=Europe/Paris:20201018T110000
DTSTAMP:20260424T064532
CREATED:20201009T105946Z
LAST-MODIFIED:20201009T105946Z
UID:10000786-1603015200-1603018800@www.ekg-hechtsheim.de
SUMMARY:Gottesdienst
DESCRIPTION:Gottesdienst in angepasster Form \nHinweise zum Infektionsschutz
URL:https://www.ekg-hechtsheim.de/veranstaltungen/gottesdienst-144/
LOCATION:Gemeindezentrum Lion-Feuchtwanger-Straße\, Lion-Feuchtwanger Str. 14\, Mainz\, 55129\, Deutschland
CATEGORIES:Gottesdienste
GEO:49.9621;8.2738908
X-APPLE-STRUCTURED-LOCATION;VALUE=URI;X-ADDRESS=Gemeindezentrum Lion-Feuchtwanger-Straße Lion-Feuchtwanger Str. 14 Mainz 55129 Deutschland;X-APPLE-RADIUS=500;X-TITLE=Lion-Feuchtwanger Str. 14:geo:8.2738908,49.9621
END:VEVENT
BEGIN:VEVENT
DTSTART;TZID=Europe/Paris:20201019T193000
DTEND;TZID=Europe/Paris:20201019T210000
DTSTAMP:20260424T064532
CREATED:20171218T090742Z
LAST-MODIFIED:20180108T083306Z
UID:10000316-1603135800-1603141200@www.ekg-hechtsheim.de
SUMMARY:Abend in der Stille
DESCRIPTION:Einmal im Monat findet ein Abend in der Stille in der Regel am 3. Montag im Monat im Gemeindezentrum von 19.30 – 21  Uhr (außer in den Schulferien) statt. \nExerzitien im Alltag sind ein Weg\, auf dem wir einüben können\, den Alltag bewusster und aufmerksamer wahrzunehmen und Gott dort zu entdecken\, wo er sich von uns finden lassen möchte: mitten im Leben. \nAus dem Projekt in der Passionszeit 2016 ist der Wunsch entstanden\, regelmäßig\, einmal im Monat\, solche „Exerzitien im Alltag“ miteinander zu teilen und in Gemeinschaft einen solchen Weg zu gehen. \nEinmal im Monat sind alle Interessierten eingeladen zusammen zu kommen: zum Einüben verschiedener Formen von Zeiten der Stille\, Meditation über biblischen Worten und Gebet\, zum Austausch über die Erfahrungen. \nTermine in 2018: 22. Januar\, 19. Februar\,  19. März\, 23. April 21. Mai\, 18. Juni\, im Juli Pause wegen Sommerferien. \nBequeme Kleidung\, möglicherweise eine wärmende Decke oder Wollsocken\, um im Sitzen und Schweigen einen warmen Rücken und warme Füße zu behalten\, bringen Sie bitte dazu von zu Hause mit.
URL:https://www.ekg-hechtsheim.de/veranstaltungen/abend-in-der-stille-mit-den-perlen-des-glaubens-beten-und-ueber-gott-und-die-welt-gemeinsam-nachsinnen-2018-04-16/2020-10-19/
LOCATION:16:00 - \, Deutschland
CATEGORIES:Gottesdienste
END:VEVENT
BEGIN:VEVENT
DTSTART;TZID=Europe/Paris:20201025T100000
DTEND;TZID=Europe/Paris:20201025T110000
DTSTAMP:20260424T064532
CREATED:20201009T110129Z
LAST-MODIFIED:20201009T110129Z
UID:10000787-1603620000-1603623600@www.ekg-hechtsheim.de
SUMMARY:Gottesdienst
DESCRIPTION:Gottesdienst in angepasster Form \nHinweise zum Infektionsschutz
URL:https://www.ekg-hechtsheim.de/veranstaltungen/gottesdienst-145/2020-10-25/
LOCATION:Gemeindezentrum Lion-Feuchtwanger-Straße\, Lion-Feuchtwanger Str. 14\, Mainz\, 55129\, Deutschland
CATEGORIES:Gottesdienste
GEO:49.9621;8.2738908
X-APPLE-STRUCTURED-LOCATION;VALUE=URI;X-ADDRESS=Gemeindezentrum Lion-Feuchtwanger-Straße Lion-Feuchtwanger Str. 14 Mainz 55129 Deutschland;X-APPLE-RADIUS=500;X-TITLE=Lion-Feuchtwanger Str. 14:geo:8.2738908,49.9621
END:VEVENT
BEGIN:VEVENT
DTSTART;TZID=Europe/Paris:20201029T160000
DTEND;TZID=Europe/Paris:20201029T170000
DTSTAMP:20260424T064532
CREATED:20201009T111236Z
LAST-MODIFIED:20201009T111236Z
UID:10000791-1603987200-1603990800@www.ekg-hechtsheim.de
SUMMARY:Gottesdienst in der Seniorenresidenz
DESCRIPTION:
URL:https://www.ekg-hechtsheim.de/veranstaltungen/gottesdienst-in-der-seniorenresidenz/2020-10-29/
LOCATION:16:00 - \, Deutschland
CATEGORIES:Gottesdienste
END:VEVENT
END:VCALENDAR