BEGIN:VCALENDAR
VERSION:2.0
PRODID:-//Evangelische Kirchengemeinde Mainz-Hechtsheim - ECPv6.15.20//NONSGML v1.0//EN
CALSCALE:GREGORIAN
METHOD:PUBLISH
X-ORIGINAL-URL:https://www.ekg-hechtsheim.de
X-WR-CALDESC:Veranstaltungen für Evangelische Kirchengemeinde Mainz-Hechtsheim
REFRESH-INTERVAL;VALUE=DURATION:PT1H
X-Robots-Tag:noindex
X-PUBLISHED-TTL:PT1H
BEGIN:VTIMEZONE
TZID:Europe/Paris
BEGIN:DAYLIGHT
TZOFFSETFROM:+0100
TZOFFSETTO:+0200
TZNAME:CEST
DTSTART:20190331T010000
END:DAYLIGHT
BEGIN:STANDARD
TZOFFSETFROM:+0200
TZOFFSETTO:+0100
TZNAME:CET
DTSTART:20191027T010000
END:STANDARD
BEGIN:DAYLIGHT
TZOFFSETFROM:+0100
TZOFFSETTO:+0200
TZNAME:CEST
DTSTART:20200329T010000
END:DAYLIGHT
BEGIN:STANDARD
TZOFFSETFROM:+0200
TZOFFSETTO:+0100
TZNAME:CET
DTSTART:20201025T010000
END:STANDARD
BEGIN:DAYLIGHT
TZOFFSETFROM:+0100
TZOFFSETTO:+0200
TZNAME:CEST
DTSTART:20210328T010000
END:DAYLIGHT
BEGIN:STANDARD
TZOFFSETFROM:+0200
TZOFFSETTO:+0100
TZNAME:CET
DTSTART:20211031T010000
END:STANDARD
END:VTIMEZONE
BEGIN:VEVENT
DTSTART;TZID=Europe/Paris:20200802T110000
DTEND;TZID=Europe/Paris:20200802T120000
DTSTAMP:20260424T093909
CREATED:20200529T083107Z
LAST-MODIFIED:20200529T083454Z
UID:10001403-1596366000-1596369600@www.ekg-hechtsheim.de
SUMMARY:Gottesdienst
DESCRIPTION:Gottesdienst in angepasster Form \nHinweise zum Infektionsschutz
URL:https://www.ekg-hechtsheim.de/veranstaltungen/gottesdienst-134/
LOCATION:Gemeindehaus Frankenhöhe\, Bodenheimer Straße 58\, Mainz\, 55129\, Deutschland
CATEGORIES:Gottesdienste
GEO:49.9667007;8.2872534
X-APPLE-STRUCTURED-LOCATION;VALUE=URI;X-ADDRESS=Gemeindehaus Frankenhöhe Bodenheimer Straße 58 Mainz 55129 Deutschland;X-APPLE-RADIUS=500;X-TITLE=Bodenheimer Straße 58:geo:8.2872534,49.9667007
END:VEVENT
BEGIN:VEVENT
DTSTART;TZID=Europe/Paris:20200809T100000
DTEND;TZID=Europe/Paris:20200809T110000
DTSTAMP:20260424T093909
CREATED:20200529T083557Z
LAST-MODIFIED:20200529T083557Z
UID:10001404-1596967200-1596970800@www.ekg-hechtsheim.de
SUMMARY:Gottesdienst
DESCRIPTION:Gottesdienst in angepasster Form \nHinweise zum Infektionsschutz
URL:https://www.ekg-hechtsheim.de/veranstaltungen/gottesdienst-135/
LOCATION:Gemeindezentrum Lion-Feuchtwanger-Straße\, Lion-Feuchtwanger Str. 14\, Mainz\, 55129\, Deutschland
CATEGORIES:Gottesdienste
GEO:49.9621;8.2738908
X-APPLE-STRUCTURED-LOCATION;VALUE=URI;X-ADDRESS=Gemeindezentrum Lion-Feuchtwanger-Straße Lion-Feuchtwanger Str. 14 Mainz 55129 Deutschland;X-APPLE-RADIUS=500;X-TITLE=Lion-Feuchtwanger Str. 14:geo:8.2738908,49.9621
END:VEVENT
BEGIN:VEVENT
DTSTART;TZID=Europe/Paris:20200816T100000
DTEND;TZID=Europe/Paris:20200816T110000
DTSTAMP:20260424T093909
CREATED:20200812T103157Z
LAST-MODIFIED:20200812T103442Z
UID:10000752-1597572000-1597575600@www.ekg-hechtsheim.de
SUMMARY:Gottesdienst
DESCRIPTION:Gottesdienst in angepasster Form \nHinweise zum Infektionsschutz
URL:https://www.ekg-hechtsheim.de/veranstaltungen/gottesdienst-136/2020-08-16/
LOCATION:Gemeindezentrum Lion-Feuchtwanger-Straße\, Lion-Feuchtwanger Str. 14\, Mainz\, 55129\, Deutschland
CATEGORIES:Gottesdienste
GEO:49.9621;8.2738908
X-APPLE-STRUCTURED-LOCATION;VALUE=URI;X-ADDRESS=Gemeindezentrum Lion-Feuchtwanger-Straße Lion-Feuchtwanger Str. 14 Mainz 55129 Deutschland;X-APPLE-RADIUS=500;X-TITLE=Lion-Feuchtwanger Str. 14:geo:8.2738908,49.9621
END:VEVENT
BEGIN:VEVENT
DTSTART;TZID=Europe/Paris:20200816T110000
DTEND;TZID=Europe/Paris:20200816T120000
DTSTAMP:20260424T093909
CREATED:20200812T192337Z
LAST-MODIFIED:20200812T192337Z
UID:10000756-1597575600-1597579200@www.ekg-hechtsheim.de
SUMMARY:Gottesdienst
DESCRIPTION:Gottesdienst in angepasster Form \nHinweise zum Infektionsschutz
URL:https://www.ekg-hechtsheim.de/veranstaltungen/gottesdienst-137/
LOCATION:Gemeindehaus Frankenhöhe\, Bodenheimer Straße 58\, Mainz\, 55129\, Deutschland
CATEGORIES:Gottesdienste
GEO:49.9667007;8.2872534
X-APPLE-STRUCTURED-LOCATION;VALUE=URI;X-ADDRESS=Gemeindehaus Frankenhöhe Bodenheimer Straße 58 Mainz 55129 Deutschland;X-APPLE-RADIUS=500;X-TITLE=Bodenheimer Straße 58:geo:8.2872534,49.9667007
END:VEVENT
BEGIN:VEVENT
DTSTART;TZID=Europe/Paris:20200817T193000
DTEND;TZID=Europe/Paris:20200817T210000
DTSTAMP:20260424T093909
CREATED:20171218T090742Z
LAST-MODIFIED:20180108T083306Z
UID:10000314-1597692600-1597698000@www.ekg-hechtsheim.de
SUMMARY:Abend in der Stille
DESCRIPTION:Einmal im Monat findet ein Abend in der Stille in der Regel am 3. Montag im Monat im Gemeindezentrum von 19.30 – 21  Uhr (außer in den Schulferien) statt. \nExerzitien im Alltag sind ein Weg\, auf dem wir einüben können\, den Alltag bewusster und aufmerksamer wahrzunehmen und Gott dort zu entdecken\, wo er sich von uns finden lassen möchte: mitten im Leben. \nAus dem Projekt in der Passionszeit 2016 ist der Wunsch entstanden\, regelmäßig\, einmal im Monat\, solche „Exerzitien im Alltag“ miteinander zu teilen und in Gemeinschaft einen solchen Weg zu gehen. \nEinmal im Monat sind alle Interessierten eingeladen zusammen zu kommen: zum Einüben verschiedener Formen von Zeiten der Stille\, Meditation über biblischen Worten und Gebet\, zum Austausch über die Erfahrungen. \nTermine in 2018: 22. Januar\, 19. Februar\,  19. März\, 23. April 21. Mai\, 18. Juni\, im Juli Pause wegen Sommerferien. \nBequeme Kleidung\, möglicherweise eine wärmende Decke oder Wollsocken\, um im Sitzen und Schweigen einen warmen Rücken und warme Füße zu behalten\, bringen Sie bitte dazu von zu Hause mit.
URL:https://www.ekg-hechtsheim.de/veranstaltungen/abend-in-der-stille-mit-den-perlen-des-glaubens-beten-und-ueber-gott-und-die-welt-gemeinsam-nachsinnen-2018-04-16/2020-08-17/
LOCATION:16:00 - \, Deutschland
CATEGORIES:Gottesdienste
END:VEVENT
BEGIN:VEVENT
DTSTART;TZID=Europe/Paris:20200823T100000
DTEND;TZID=Europe/Paris:20200823T110000
DTSTAMP:20260424T093909
CREATED:20200812T103157Z
LAST-MODIFIED:20200812T103442Z
UID:10000753-1598176800-1598180400@www.ekg-hechtsheim.de
SUMMARY:Gottesdienst
DESCRIPTION:Gottesdienst in angepasster Form \nHinweise zum Infektionsschutz
URL:https://www.ekg-hechtsheim.de/veranstaltungen/gottesdienst-136/2020-08-23/
LOCATION:Gemeindezentrum Lion-Feuchtwanger-Straße\, Lion-Feuchtwanger Str. 14\, Mainz\, 55129\, Deutschland
CATEGORIES:Gottesdienste
GEO:49.9621;8.2738908
X-APPLE-STRUCTURED-LOCATION;VALUE=URI;X-ADDRESS=Gemeindezentrum Lion-Feuchtwanger-Straße Lion-Feuchtwanger Str. 14 Mainz 55129 Deutschland;X-APPLE-RADIUS=500;X-TITLE=Lion-Feuchtwanger Str. 14:geo:8.2738908,49.9621
END:VEVENT
BEGIN:VEVENT
DTSTART;TZID=Europe/Paris:20200830T100000
DTEND;TZID=Europe/Paris:20200830T110000
DTSTAMP:20260424T093909
CREATED:20200812T103157Z
LAST-MODIFIED:20200812T103442Z
UID:10000754-1598781600-1598785200@www.ekg-hechtsheim.de
SUMMARY:Gottesdienst
DESCRIPTION:Gottesdienst in angepasster Form \nHinweise zum Infektionsschutz
URL:https://www.ekg-hechtsheim.de/veranstaltungen/gottesdienst-136/2020-08-30/
LOCATION:Gemeindezentrum Lion-Feuchtwanger-Straße\, Lion-Feuchtwanger Str. 14\, Mainz\, 55129\, Deutschland
CATEGORIES:Gottesdienste
GEO:49.9621;8.2738908
X-APPLE-STRUCTURED-LOCATION;VALUE=URI;X-ADDRESS=Gemeindezentrum Lion-Feuchtwanger-Straße Lion-Feuchtwanger Str. 14 Mainz 55129 Deutschland;X-APPLE-RADIUS=500;X-TITLE=Lion-Feuchtwanger Str. 14:geo:8.2738908,49.9621
END:VEVENT
BEGIN:VEVENT
DTSTART;TZID=Europe/Paris:20200830T180000
DTEND;TZID=Europe/Paris:20200830T190000
DTSTAMP:20260424T093909
CREATED:20200812T192501Z
LAST-MODIFIED:20200812T192501Z
UID:10000757-1598810400-1598814000@www.ekg-hechtsheim.de
SUMMARY:Gottesdienst
DESCRIPTION:Gottesdienst in angepasster Form \nHinweise zum Infektionsschutz
URL:https://www.ekg-hechtsheim.de/veranstaltungen/gottesdienst-138/
LOCATION:Gemeindehaus Frankenhöhe\, Bodenheimer Straße 58\, Mainz\, 55129\, Deutschland
CATEGORIES:Gottesdienste
GEO:49.9667007;8.2872534
X-APPLE-STRUCTURED-LOCATION;VALUE=URI;X-ADDRESS=Gemeindehaus Frankenhöhe Bodenheimer Straße 58 Mainz 55129 Deutschland;X-APPLE-RADIUS=500;X-TITLE=Bodenheimer Straße 58:geo:8.2872534,49.9667007
END:VEVENT
END:VCALENDAR