BEGIN:VCALENDAR
VERSION:2.0
PRODID:-//Evangelische Kirchengemeinde Mainz-Hechtsheim - ECPv6.15.20//NONSGML v1.0//EN
CALSCALE:GREGORIAN
METHOD:PUBLISH
X-ORIGINAL-URL:https://www.ekg-hechtsheim.de
X-WR-CALDESC:Veranstaltungen für Evangelische Kirchengemeinde Mainz-Hechtsheim
REFRESH-INTERVAL;VALUE=DURATION:PT1H
X-Robots-Tag:noindex
X-PUBLISHED-TTL:PT1H
BEGIN:VTIMEZONE
TZID:Europe/Paris
BEGIN:DAYLIGHT
TZOFFSETFROM:+0100
TZOFFSETTO:+0200
TZNAME:CEST
DTSTART:20190331T010000
END:DAYLIGHT
BEGIN:STANDARD
TZOFFSETFROM:+0200
TZOFFSETTO:+0100
TZNAME:CET
DTSTART:20191027T010000
END:STANDARD
BEGIN:DAYLIGHT
TZOFFSETFROM:+0100
TZOFFSETTO:+0200
TZNAME:CEST
DTSTART:20200329T010000
END:DAYLIGHT
BEGIN:STANDARD
TZOFFSETFROM:+0200
TZOFFSETTO:+0100
TZNAME:CET
DTSTART:20201025T010000
END:STANDARD
BEGIN:DAYLIGHT
TZOFFSETFROM:+0100
TZOFFSETTO:+0200
TZNAME:CEST
DTSTART:20210328T010000
END:DAYLIGHT
BEGIN:STANDARD
TZOFFSETFROM:+0200
TZOFFSETTO:+0100
TZNAME:CET
DTSTART:20211031T010000
END:STANDARD
END:VTIMEZONE
BEGIN:VEVENT
DTSTART;TZID=Europe/Paris:20200404T160000
DTEND;TZID=Europe/Paris:20200404T183000
DTSTAMP:20260424T161523
CREATED:20200129T092955Z
LAST-MODIFIED:20200314T122209Z
UID:10001360-1586016000-1586025000@www.ekg-hechtsheim.de
SUMMARY:Fällt leider aus!!! Cafè der Begegnung  --Ökumen. Flüchtlingsinitiative-- (AiH)
DESCRIPTION:Aufgrund der Empfehlungen zum Corona-Virus muss dieser regelmäßige Termin leider entfallen. \n(Wir haben unseren regelmäßigen Termin geändert und treffen uns nun einmal im Monat am ersten Samstag\, erstmals am 01.02.2020.\nBei einem kleinen Mitbring-Buffet und Getränken bieten wir den Geflüchteten einen regelmäßigen Anlaufpunkt\, der Ihnen die Gelegenheit bietet Rat zu suchen\, Kontakte und die deutsche Sprache zu pflegen und uns „Alt-Hechtsheimer“auch ihre Kultur näher zu bringen. \nSchauen Sie doch mal auf einen Plausch vorbei ….. Sie werden erstaunt sein.) \n  \nInitiative „Ankommen in Hechtsheim (AiH)“ geehrt
URL:https://www.ekg-hechtsheim.de/veranstaltungen/cafe-der-begegnung-oekumen-fluechtlingsinitiative-aih-5/
LOCATION:Gemeindezentrum Lion-Feuchtwanger-Straße\, Lion-Feuchtwanger Str. 14\, Mainz\, 55129\, Deutschland
CATEGORIES:Kultur,Sonstiges
ORGANIZER;CN="%C3%96kumenische Fl%C3%BCchtlingsinitiative AIH":MAILTO:ankommen.in.hechtsheim@gmail.com
GEO:49.9621;8.2738908
X-APPLE-STRUCTURED-LOCATION;VALUE=URI;X-ADDRESS=Gemeindezentrum Lion-Feuchtwanger-Straße Lion-Feuchtwanger Str. 14 Mainz 55129 Deutschland;X-APPLE-RADIUS=500;X-TITLE=Lion-Feuchtwanger Str. 14:geo:8.2738908,49.9621
END:VEVENT
BEGIN:VEVENT
DTSTART;VALUE=DATE:20200405
DTEND;VALUE=DATE:20200406
DTSTAMP:20260424T161523
CREATED:20200228T092541Z
LAST-MODIFIED:20200228T092541Z
UID:10000727-1586044800-1586131199@www.ekg-hechtsheim.de
SUMMARY:Palmsonntag
DESCRIPTION:
URL:https://www.ekg-hechtsheim.de/veranstaltungen/palmsonntag/
CATEGORIES:Sonstiges
END:VEVENT
BEGIN:VEVENT
DTSTART;TZID=Europe/Paris:20200405T100000
DTEND;TZID=Europe/Paris:20200405T110000
DTSTAMP:20260424T161523
CREATED:20200228T090740Z
LAST-MODIFIED:20200314T174437Z
UID:10001369-1586080800-1586084400@www.ekg-hechtsheim.de
SUMMARY:Gottesdienst ENTFÄLLT
DESCRIPTION:Die Gottesdienste unserer Gemeinde entfallen vorerst bis Ostern (gegebenenfalls den staatlichen beziehungsweise kirchlichen Maßgaben entsprechend auch länger)\, um die weitere Ausbreitung des Corona-Virus zu verlangsamen. \nLetztlich gilt\, dass wir nicht mit Panik\, sondern mit angemessener Vorsicht handeln sollten. \nSoziale Distanz bedeutet nicht soziale Kälte \nDazu können wir alle beitragen\, indem wir versuchen\, die Ausbreitung des Virus zu verlangsamen und einander – insbesondere den gefährdeten Menschen – Hilfestellungen geben. \nWenn Sie praktische Unterstützung brauchen\, wenden Sie sich an uns. \nIhnen allen alles Gute! \nDer Kirchenvorstand der Evang. Gemeinde Hechtsheim \nPfarrerin Sabine Feucht-Münch \nPfarrer Adrian Ladner \n  \nWenn Sie in Sorge sind und mit jemandem sprechen möchten\, dann wenden Sie sich an Pfarrer Ladner oder Pfarrerin Feucht-Münch \n  \nWeitere Informationen finden Sie auf der Homepage der EKHN unter: www.ekhn.de/home.html
URL:https://www.ekg-hechtsheim.de/veranstaltungen/gottesdienst-125/
LOCATION:Gemeindezentrum Lion-Feuchtwanger-Straße\, Lion-Feuchtwanger Str. 14\, Mainz\, 55129\, Deutschland
CATEGORIES:Gottesdienste
GEO:49.9621;8.2738908
X-APPLE-STRUCTURED-LOCATION;VALUE=URI;X-ADDRESS=Gemeindezentrum Lion-Feuchtwanger-Straße Lion-Feuchtwanger Str. 14 Mainz 55129 Deutschland;X-APPLE-RADIUS=500;X-TITLE=Lion-Feuchtwanger Str. 14:geo:8.2738908,49.9621
END:VEVENT
BEGIN:VEVENT
DTSTART;TZID=Europe/Paris:20200405T110000
DTEND;TZID=Europe/Paris:20200405T120000
DTSTAMP:20260424T161523
CREATED:20200228T090847Z
LAST-MODIFIED:20200314T174517Z
UID:10001371-1586084400-1586088000@www.ekg-hechtsheim.de
SUMMARY:Gottesdienst ENTFÄLLT
DESCRIPTION:Die Gottesdienste unserer Gemeinde entfallen vorerst bis Ostern (gegebenenfalls. den staatlichen beziehungsweise. kirchlichen Maßgaben entsprechend auch länger)\, um die weitere Ausbreitung des Corona-Virus zu verlangsamen. \nLetztlich gilt\, dass wir nicht mit Panik\, sondern mit angemessener Vorsicht handeln sollten. \nSoziale Distanz bedeutet nicht soziale Kälte \nDazu können wir alle beitragen\, indem wir versuchen\, die Ausbreitung des Virus zu verlangsamen und einander – insbesondere den gefährdeten Menschen – Hilfestellungen geben. \nWenn Sie praktische Unterstützung brauchen\, wenden Sie sich an uns. \nIhnen allen alles Gute! \nDer Kirchenvorstand der Evang. Gemeinde Hechtsheim \nPfarrerin Sabine Feucht-Münch \nPfarrer Adrian Ladner \n  \nWenn Sie in Sorge sind und mit jemandem sprechen möchten\, dann wenden Sie sich an Pfarrer Ladner oder Pfarrerin Feucht-Münch \n  \nWeitere Informationen finden Sie auf der Homepage der EKHN unter: www.ekhn.de/home.html
URL:https://www.ekg-hechtsheim.de/veranstaltungen/gottesdienst-126/
LOCATION:Gemeindehaus Frankenhöhe\, Bodenheimer Straße 58\, Mainz\, 55129\, Deutschland
CATEGORIES:Gottesdienste
GEO:49.9667007;8.2872534
X-APPLE-STRUCTURED-LOCATION;VALUE=URI;X-ADDRESS=Gemeindehaus Frankenhöhe Bodenheimer Straße 58 Mainz 55129 Deutschland;X-APPLE-RADIUS=500;X-TITLE=Bodenheimer Straße 58:geo:8.2872534,49.9667007
END:VEVENT
BEGIN:VEVENT
DTSTART;VALUE=DATE:20200409
DTEND;VALUE=DATE:20200410
DTSTAMP:20260424T161523
CREATED:20200228T091459Z
LAST-MODIFIED:20200318T104047Z
UID:10001370-1586390400-1586476799@www.ekg-hechtsheim.de
SUMMARY:Gründonnerstag
DESCRIPTION:
URL:https://www.ekg-hechtsheim.de/veranstaltungen/gruendonnerstag/
CATEGORIES:Sonstiges
END:VEVENT
BEGIN:VEVENT
DTSTART;TZID=Europe/Paris:20200409T191500
DTEND;TZID=Europe/Paris:20200409T200000
DTSTAMP:20260424T161523
CREATED:20200404T085552Z
LAST-MODIFIED:20200404T085552Z
UID:10000735-1586459700-1586462400@www.ekg-hechtsheim.de
SUMMARY:Gemeindezentrum geöffnet für Stilles Gebet
DESCRIPTION:Sie können gerne einzeln für ein Stilles Gebet hereinkommen.\nEin kleiner Andachtstext liegt bereit.
URL:https://www.ekg-hechtsheim.de/veranstaltungen/gemeindezentrum-geoeffnet-fuer-stilles-gebet/
LOCATION:Gemeindezentrum Lion-Feuchtwanger-Straße\, Lion-Feuchtwanger Str. 14\, Mainz\, 55129\, Deutschland
CATEGORIES:Gottesdienste
GEO:49.9621;8.2738908
X-APPLE-STRUCTURED-LOCATION;VALUE=URI;X-ADDRESS=Gemeindezentrum Lion-Feuchtwanger-Straße Lion-Feuchtwanger Str. 14 Mainz 55129 Deutschland;X-APPLE-RADIUS=500;X-TITLE=Lion-Feuchtwanger Str. 14:geo:8.2738908,49.9621
END:VEVENT
BEGIN:VEVENT
DTSTART;TZID=Europe/Paris:20200409T191500
DTEND;TZID=Europe/Paris:20200409T200000
DTSTAMP:20260424T161523
CREATED:20200404T090048Z
LAST-MODIFIED:20200404T090048Z
UID:10000736-1586459700-1586462400@www.ekg-hechtsheim.de
SUMMARY:Gemeindehaus geöffnet für Stilles Gebet
DESCRIPTION:Sie können gerne einzeln für ein Stilles Gebet hereinkommen.\nEin kleiner Andachtstext liegt bereit.
URL:https://www.ekg-hechtsheim.de/veranstaltungen/gemeindehaus-geoeffnet-fuer-stilles-gebet/
LOCATION:Gemeindehaus Frankenhöhe\, Bodenheimer Straße 58\, Mainz\, 55129\, Deutschland
CATEGORIES:Gottesdienste
GEO:49.9667007;8.2872534
X-APPLE-STRUCTURED-LOCATION;VALUE=URI;X-ADDRESS=Gemeindehaus Frankenhöhe Bodenheimer Straße 58 Mainz 55129 Deutschland;X-APPLE-RADIUS=500;X-TITLE=Bodenheimer Straße 58:geo:8.2872534,49.9667007
END:VEVENT
BEGIN:VEVENT
DTSTART;VALUE=DATE:20200410
DTEND;VALUE=DATE:20200411
DTSTAMP:20260424T161523
CREATED:20200228T091826Z
LAST-MODIFIED:20200228T091826Z
UID:10001374-1586476800-1586563199@www.ekg-hechtsheim.de
SUMMARY:Karfreitag
DESCRIPTION:
URL:https://www.ekg-hechtsheim.de/veranstaltungen/karfreitag/
CATEGORIES:Sonstiges
END:VEVENT
BEGIN:VEVENT
DTSTART;TZID=Europe/Paris:20200410T100000
DTEND;TZID=Europe/Paris:20200410T120000
DTSTAMP:20260424T161523
CREATED:20200404T090255Z
LAST-MODIFIED:20200404T090255Z
UID:10000737-1586512800-1586520000@www.ekg-hechtsheim.de
SUMMARY:Gemeindezentrum geöffnet für Stilles Gebet
DESCRIPTION:Sie können gerne einzeln für ein Stilles Gebet hereinkommen.\nEin kleiner Andachtstext liegt bereit.
URL:https://www.ekg-hechtsheim.de/veranstaltungen/gemeindezentrum-geoeffnet-fuer-stilles-gebet-2/
LOCATION:Gemeindezentrum Lion-Feuchtwanger-Straße\, Lion-Feuchtwanger Str. 14\, Mainz\, 55129\, Deutschland
CATEGORIES:Gottesdienste
GEO:49.9621;8.2738908
X-APPLE-STRUCTURED-LOCATION;VALUE=URI;X-ADDRESS=Gemeindezentrum Lion-Feuchtwanger-Straße Lion-Feuchtwanger Str. 14 Mainz 55129 Deutschland;X-APPLE-RADIUS=500;X-TITLE=Lion-Feuchtwanger Str. 14:geo:8.2738908,49.9621
END:VEVENT
BEGIN:VEVENT
DTSTART;TZID=Europe/Paris:20200410T100000
DTEND;TZID=Europe/Paris:20200410T120000
DTSTAMP:20260424T161523
CREATED:20200404T090407Z
LAST-MODIFIED:20200404T090407Z
UID:10000743-1586512800-1586520000@www.ekg-hechtsheim.de
SUMMARY:Gemeindehaus geöffnet für Stilles Gebet
DESCRIPTION:Sie können gerne einzeln für ein Stilles Gebet hereinkommen.\nEin kleiner Andachtstext liegt bereit.
URL:https://www.ekg-hechtsheim.de/veranstaltungen/gemeindehaus-geoeffnet-fuer-stilles-gebet-2/
LOCATION:Gemeindehaus Frankenhöhe\, Bodenheimer Straße 58\, Mainz\, 55129\, Deutschland
CATEGORIES:Gottesdienste
GEO:49.9667007;8.2872534
X-APPLE-STRUCTURED-LOCATION;VALUE=URI;X-ADDRESS=Gemeindehaus Frankenhöhe Bodenheimer Straße 58 Mainz 55129 Deutschland;X-APPLE-RADIUS=500;X-TITLE=Bodenheimer Straße 58:geo:8.2872534,49.9667007
END:VEVENT
BEGIN:VEVENT
DTSTART;VALUE=DATE:20200412
DTEND;VALUE=DATE:20200413
DTSTAMP:20260424T161523
CREATED:20200228T091641Z
LAST-MODIFIED:20200228T091641Z
UID:10001372-1586649600-1586735999@www.ekg-hechtsheim.de
SUMMARY:Ostersonntag
DESCRIPTION:
URL:https://www.ekg-hechtsheim.de/veranstaltungen/ostersonntag/
CATEGORIES:Sonstiges
END:VEVENT
BEGIN:VEVENT
DTSTART;TZID=Europe/Paris:20200412T100000
DTEND;TZID=Europe/Paris:20200412T120000
DTSTAMP:20260424T161523
CREATED:20200404T090717Z
LAST-MODIFIED:20200404T090717Z
UID:10001375-1586685600-1586692800@www.ekg-hechtsheim.de
SUMMARY:Gemeindehaus geöffnet für Stilles Gebet
DESCRIPTION:Sie können gerne einzeln für ein Stilles Gebet hereinkommen.\nEin kleiner Andachtstext liegt bereit.\nUm 10.15Uhr wird von einem Blechbläser „Christ ist erstanden“ erklingen. \nWir werden die Osterkerze nach draußen stellen\, wenn es das Wetter erlaubt.\nWenn Sie möchten\, können Sie eine kleine Osterkerze erhalten zum Mitnehmen. \nDie Kinder (aber auch gerne jeder andere mit seiner Osterbotschaft!!) sind eingeladen\, ein Osterbild zu malen und es im Gemeindehaus während dieser Zeit abzugeben. Wir werden es im Fenster für die Spaziergänger der Ostertage aufhängen unter dem Motto: „Der Engel sprach: Fürchtet euch nicht“.
URL:https://www.ekg-hechtsheim.de/veranstaltungen/gemeindehaus-geoeffnet-fuer-stilles-gebet-3/
LOCATION:Gemeindehaus Frankenhöhe\, Bodenheimer Straße 58\, Mainz\, 55129\, Deutschland
CATEGORIES:Gottesdienste
GEO:49.9667007;8.2872534
X-APPLE-STRUCTURED-LOCATION;VALUE=URI;X-ADDRESS=Gemeindehaus Frankenhöhe Bodenheimer Straße 58 Mainz 55129 Deutschland;X-APPLE-RADIUS=500;X-TITLE=Bodenheimer Straße 58:geo:8.2872534,49.9667007
END:VEVENT
BEGIN:VEVENT
DTSTART;TZID=Europe/Paris:20200412T100000
DTEND;TZID=Europe/Paris:20200412T120000
DTSTAMP:20260424T161523
CREATED:20200404T090831Z
LAST-MODIFIED:20200404T090844Z
UID:10001376-1586685600-1586692800@www.ekg-hechtsheim.de
SUMMARY:Gemeindezentrum geöffnet für Stilles Gebet
DESCRIPTION:Sie können gerne einzeln für ein Stilles Gebet hereinkommen.\nEin kleiner Andachtstext liegt bereit. \nUm 10.15Uhr wird von einem Blechbläser „Christ ist erstanden“ erklingen. \nWir werden die Osterkerze nach draußen stellen\, wenn es das Wetter erlaubt.\nWenn Sie möchten\, können Sie eine kleine Osterkerze erhalten zum Mitnehmen.
URL:https://www.ekg-hechtsheim.de/veranstaltungen/gemeindezentrum-geoeffnet-fuer-stilles-gebet-3/
LOCATION:Gemeindezentrum Lion-Feuchtwanger-Straße\, Lion-Feuchtwanger Str. 14\, Mainz\, 55129\, Deutschland
CATEGORIES:Gottesdienste
GEO:49.9621;8.2738908
X-APPLE-STRUCTURED-LOCATION;VALUE=URI;X-ADDRESS=Gemeindezentrum Lion-Feuchtwanger-Straße Lion-Feuchtwanger Str. 14 Mainz 55129 Deutschland;X-APPLE-RADIUS=500;X-TITLE=Lion-Feuchtwanger Str. 14:geo:8.2738908,49.9621
END:VEVENT
BEGIN:VEVENT
DTSTART;VALUE=DATE:20200413
DTEND;VALUE=DATE:20200414
DTSTAMP:20260424T161523
CREATED:20200228T091712Z
LAST-MODIFIED:20200228T091712Z
UID:10001373-1586736000-1586822399@www.ekg-hechtsheim.de
SUMMARY:Ostermontag
DESCRIPTION:
URL:https://www.ekg-hechtsheim.de/veranstaltungen/ostermontag/
CATEGORIES:Sonstiges
END:VEVENT
BEGIN:VEVENT
DTSTART;TZID=Europe/Paris:20200420T193000
DTEND;TZID=Europe/Paris:20200420T210000
DTSTAMP:20260424T161523
CREATED:20171218T090742Z
LAST-MODIFIED:20180108T083306Z
UID:10000310-1587411000-1587416400@www.ekg-hechtsheim.de
SUMMARY:Abend in der Stille
DESCRIPTION:Einmal im Monat findet ein Abend in der Stille in der Regel am 3. Montag im Monat im Gemeindezentrum von 19.30 – 21  Uhr (außer in den Schulferien) statt. \nExerzitien im Alltag sind ein Weg\, auf dem wir einüben können\, den Alltag bewusster und aufmerksamer wahrzunehmen und Gott dort zu entdecken\, wo er sich von uns finden lassen möchte: mitten im Leben. \nAus dem Projekt in der Passionszeit 2016 ist der Wunsch entstanden\, regelmäßig\, einmal im Monat\, solche „Exerzitien im Alltag“ miteinander zu teilen und in Gemeinschaft einen solchen Weg zu gehen. \nEinmal im Monat sind alle Interessierten eingeladen zusammen zu kommen: zum Einüben verschiedener Formen von Zeiten der Stille\, Meditation über biblischen Worten und Gebet\, zum Austausch über die Erfahrungen. \nTermine in 2018: 22. Januar\, 19. Februar\,  19. März\, 23. April 21. Mai\, 18. Juni\, im Juli Pause wegen Sommerferien. \nBequeme Kleidung\, möglicherweise eine wärmende Decke oder Wollsocken\, um im Sitzen und Schweigen einen warmen Rücken und warme Füße zu behalten\, bringen Sie bitte dazu von zu Hause mit.
URL:https://www.ekg-hechtsheim.de/veranstaltungen/abend-in-der-stille-mit-den-perlen-des-glaubens-beten-und-ueber-gott-und-die-welt-gemeinsam-nachsinnen-2018-04-16/2020-04-20/
LOCATION:16:00 - \, Deutschland
CATEGORIES:Gottesdienste
END:VEVENT
END:VCALENDAR