BEGIN:VCALENDAR
VERSION:2.0
PRODID:-//Evangelische Kirchengemeinde Mainz-Hechtsheim - ECPv6.15.20//NONSGML v1.0//EN
CALSCALE:GREGORIAN
METHOD:PUBLISH
X-WR-CALNAME:Evangelische Kirchengemeinde Mainz-Hechtsheim
X-ORIGINAL-URL:https://www.ekg-hechtsheim.de
X-WR-CALDESC:Veranstaltungen für Evangelische Kirchengemeinde Mainz-Hechtsheim
REFRESH-INTERVAL;VALUE=DURATION:PT1H
X-Robots-Tag:noindex
X-PUBLISHED-TTL:PT1H
BEGIN:VTIMEZONE
TZID:Europe/Paris
BEGIN:DAYLIGHT
TZOFFSETFROM:+0100
TZOFFSETTO:+0200
TZNAME:CEST
DTSTART:20190331T010000
END:DAYLIGHT
BEGIN:STANDARD
TZOFFSETFROM:+0200
TZOFFSETTO:+0100
TZNAME:CET
DTSTART:20191027T010000
END:STANDARD
BEGIN:DAYLIGHT
TZOFFSETFROM:+0100
TZOFFSETTO:+0200
TZNAME:CEST
DTSTART:20200329T010000
END:DAYLIGHT
BEGIN:STANDARD
TZOFFSETFROM:+0200
TZOFFSETTO:+0100
TZNAME:CET
DTSTART:20201025T010000
END:STANDARD
BEGIN:DAYLIGHT
TZOFFSETFROM:+0100
TZOFFSETTO:+0200
TZNAME:CEST
DTSTART:20210328T010000
END:DAYLIGHT
BEGIN:STANDARD
TZOFFSETFROM:+0200
TZOFFSETTO:+0100
TZNAME:CET
DTSTART:20211031T010000
END:STANDARD
END:VTIMEZONE
BEGIN:VEVENT
DTSTART;TZID=Europe/Paris:20200301T100000
DTEND;TZID=Europe/Paris:20200301T110000
DTSTAMP:20260424T175152
CREATED:20200116T202308Z
LAST-MODIFIED:20200116T202308Z
UID:10001341-1583056800-1583060400@www.ekg-hechtsheim.de
SUMMARY:Gottesdienst
DESCRIPTION:
URL:https://www.ekg-hechtsheim.de/veranstaltungen/gottesdienst-119/
LOCATION:Gemeindezentrum Lion-Feuchtwanger-Straße\, Lion-Feuchtwanger Str. 14\, Mainz\, 55129\, Deutschland
CATEGORIES:Gottesdienste
GEO:49.9621;8.2738908
X-APPLE-STRUCTURED-LOCATION;VALUE=URI;X-ADDRESS=Gemeindezentrum Lion-Feuchtwanger-Straße Lion-Feuchtwanger Str. 14 Mainz 55129 Deutschland;X-APPLE-RADIUS=500;X-TITLE=Lion-Feuchtwanger Str. 14:geo:8.2738908,49.9621
END:VEVENT
BEGIN:VEVENT
DTSTART;TZID=Europe/Paris:20200301T110000
DTEND;TZID=Europe/Paris:20200301T120000
DTSTAMP:20260424T175152
CREATED:20200116T203403Z
LAST-MODIFIED:20200116T203403Z
UID:10001349-1583060400-1583064000@www.ekg-hechtsheim.de
SUMMARY:Gottesdienst
DESCRIPTION:
URL:https://www.ekg-hechtsheim.de/veranstaltungen/gottesdienst-123/
LOCATION:Gemeindehaus Frankenhöhe\, Bodenheimer Straße 58\, Mainz\, 55129\, Deutschland
CATEGORIES:Gottesdienste
GEO:49.9667007;8.2872534
X-APPLE-STRUCTURED-LOCATION;VALUE=URI;X-ADDRESS=Gemeindehaus Frankenhöhe Bodenheimer Straße 58 Mainz 55129 Deutschland;X-APPLE-RADIUS=500;X-TITLE=Bodenheimer Straße 58:geo:8.2872534,49.9667007
END:VEVENT
BEGIN:VEVENT
DTSTART;TZID=Europe/Paris:20200307T160000
DTEND;TZID=Europe/Paris:20200307T183000
DTSTAMP:20260424T175153
CREATED:20200129T092507Z
LAST-MODIFIED:20200129T092507Z
UID:10001359-1583596800-1583605800@www.ekg-hechtsheim.de
SUMMARY:Cafè der Begegnung  --Ökumen. Flüchtlingsinitiative-- (AiH)
DESCRIPTION:Wir haben unseren regelmäßigen Termin geändert und treffen uns nun einmal im Monat am ersten Samstag\, erstmals am 01.02.2020.\nBei einem kleinen Mitbring-Buffet und Getränken bieten wir den Geflüchteten einen regelmäßigen Anlaufpunkt\, der Ihnen die Gelegenheit bietet Rat zu suchen\, Kontakte und die deutsche Sprache zu pflegen und uns „Alt-Hechtsheimer“auch ihre Kultur näher zu bringen. \nSchauen Sie doch mal auf einen Plausch vorbei ….. Sie werden erstaunt sein. \n  \nInitiative „Ankommen in Hechtsheim (AiH)“ geehrt \n \n 
URL:https://www.ekg-hechtsheim.de/veranstaltungen/cafe-der-begegnung-oekumen-fluechtlingsinitiative-aih-4/
LOCATION:Gemeindezentrum Lion-Feuchtwanger-Straße\, Lion-Feuchtwanger Str. 14\, Mainz\, 55129\, Deutschland
CATEGORIES:Kultur,Sonstiges
ORGANIZER;CN="%C3%96kumenische Fl%C3%BCchtlingsinitiative AIH":MAILTO:ankommen.in.hechtsheim@gmail.com
GEO:49.9621;8.2738908
X-APPLE-STRUCTURED-LOCATION;VALUE=URI;X-ADDRESS=Gemeindezentrum Lion-Feuchtwanger-Straße Lion-Feuchtwanger Str. 14 Mainz 55129 Deutschland;X-APPLE-RADIUS=500;X-TITLE=Lion-Feuchtwanger Str. 14:geo:8.2738908,49.9621
END:VEVENT
BEGIN:VEVENT
DTSTART;TZID=Europe/Paris:20200308T100000
DTEND;TZID=Europe/Paris:20200308T110000
DTSTAMP:20260424T175153
CREATED:20200116T202358Z
LAST-MODIFIED:20200116T202358Z
UID:10001344-1583661600-1583665200@www.ekg-hechtsheim.de
SUMMARY:Gottesdienst mit Abendmahl
DESCRIPTION:
URL:https://www.ekg-hechtsheim.de/veranstaltungen/gottesdienst-mit-abendmahl-32/
LOCATION:Gemeindezentrum Lion-Feuchtwanger-Straße\, Lion-Feuchtwanger Str. 14\, Mainz\, 55129\, Deutschland
CATEGORIES:Gottesdienste
GEO:49.9621;8.2738908
X-APPLE-STRUCTURED-LOCATION;VALUE=URI;X-ADDRESS=Gemeindezentrum Lion-Feuchtwanger-Straße Lion-Feuchtwanger Str. 14 Mainz 55129 Deutschland;X-APPLE-RADIUS=500;X-TITLE=Lion-Feuchtwanger Str. 14:geo:8.2738908,49.9621
END:VEVENT
BEGIN:VEVENT
DTSTART;TZID=Europe/Paris:20200308T110000
DTEND;TZID=Europe/Paris:20200308T120000
DTSTAMP:20260424T175153
CREATED:20200116T203544Z
LAST-MODIFIED:20200116T203544Z
UID:10001350-1583665200-1583668800@www.ekg-hechtsheim.de
SUMMARY:Kinderkirche
DESCRIPTION:
URL:https://www.ekg-hechtsheim.de/veranstaltungen/kinderkirche-16/
LOCATION:Gemeindehaus Frankenhöhe\, Bodenheimer Straße 58\, Mainz\, 55129\, Deutschland
CATEGORIES:Gottesdienste
GEO:49.9667007;8.2872534
X-APPLE-STRUCTURED-LOCATION;VALUE=URI;X-ADDRESS=Gemeindehaus Frankenhöhe Bodenheimer Straße 58 Mainz 55129 Deutschland;X-APPLE-RADIUS=500;X-TITLE=Bodenheimer Straße 58:geo:8.2872534,49.9667007
END:VEVENT
BEGIN:VEVENT
DTSTART;TZID=Europe/Paris:20200311T193000
DTEND;TZID=Europe/Paris:20200311T210000
DTSTAMP:20260424T175153
CREATED:20200211T141500Z
LAST-MODIFIED:20200211T141602Z
UID:10001363-1583955000-1583960400@www.ekg-hechtsheim.de
SUMMARY:Vortrag des Ökumenischen Arbeitskreises: „Keine(r) stirbt für sich allein?!
DESCRIPTION:Der Ökumenische Arbeitskreis lädt ein zum Vortrag „Keine(r) stirbt für sich allein?! – Zur sozialen Bedeutung der Bestattung im Dorf“ am Mittwoch\, 11. März\, um 19.30 Uhr im evangelischen Gemeindezentrum in der Lion-Feuchtwanger-Straße. \n  \nWenn ein Mensch verstirbt\, ist das keine reine Privatangelegenheit\, sondern auch Sache des Gemeinwesens. Der Bestattung wohnt eine gemeinschaftlich-öffentliche Dimension inne\, denn wie ein Mensch bestattet wird\, bringt zur Darstellung\, wie (und wo) er gelebt hat. Pfarrerin im Ehrenamt Christina Weyerhäuser beschäftigt sich in ihrer Dissertation mit der sozialen Kraft der Bestattung als kirchlicher Amtshandlung im dörflichen Kontext und wird den Abend gestalten.
URL:https://www.ekg-hechtsheim.de/veranstaltungen/vortrag-des-oekumenischen-arbeitskreises-keiner-stirbt-fuer-sich-allein/
LOCATION:16:00 - \, Deutschland
CATEGORIES:Kultur
END:VEVENT
BEGIN:VEVENT
DTSTART;TZID=Europe/Paris:20200314T150000
DTEND;TZID=Europe/Paris:20200314T170000
DTSTAMP:20260424T175153
CREATED:20200309T182013Z
LAST-MODIFIED:20200313T175846Z
UID:10000729-1584198000-1584205200@www.ekg-hechtsheim.de
SUMMARY:Seniorenclub ENTFÄLLT
DESCRIPTION:Thema: Patientenverfügung\nmit Anwälting Leonie Lehrmann
URL:https://www.ekg-hechtsheim.de/veranstaltungen/seniorenclub-3/
LOCATION:Gemeindezentrum Lion-Feuchtwanger-Straße\, Lion-Feuchtwanger Str. 14\, Mainz\, 55129\, Deutschland
CATEGORIES:Gemeinde
GEO:49.9621;8.2738908
X-APPLE-STRUCTURED-LOCATION;VALUE=URI;X-ADDRESS=Gemeindezentrum Lion-Feuchtwanger-Straße Lion-Feuchtwanger Str. 14 Mainz 55129 Deutschland;X-APPLE-RADIUS=500;X-TITLE=Lion-Feuchtwanger Str. 14:geo:8.2738908,49.9621
END:VEVENT
BEGIN:VEVENT
DTSTART;TZID=Europe/Paris:20200315T100000
DTEND;TZID=Europe/Paris:20200315T110000
DTSTAMP:20260424T175153
CREATED:20200116T202448Z
LAST-MODIFIED:20200315T101743Z
UID:10001345-1584266400-1584270000@www.ekg-hechtsheim.de
SUMMARY:Kurzes Gebet und Gelegenheit zu Einzelgespräch
DESCRIPTION:Kurzes Gebet und Gelegenheit zu Einzelgespräch mit Pfarrerin Sabine Feucht-Münch für Personen\, die dies wünschen. \nDen Sonntagsgruß zu Okuli (15. März) von Pfarrerin Sabine Feucht-Münch können Sie hier lesen.
URL:https://www.ekg-hechtsheim.de/veranstaltungen/gottesdienst-120/
LOCATION:Gemeindezentrum Lion-Feuchtwanger-Straße\, Lion-Feuchtwanger Str. 14\, Mainz\, 55129\, Deutschland
CATEGORIES:Gottesdienste
GEO:49.9621;8.2738908
X-APPLE-STRUCTURED-LOCATION;VALUE=URI;X-ADDRESS=Gemeindezentrum Lion-Feuchtwanger-Straße Lion-Feuchtwanger Str. 14 Mainz 55129 Deutschland;X-APPLE-RADIUS=500;X-TITLE=Lion-Feuchtwanger Str. 14:geo:8.2738908,49.9621
END:VEVENT
BEGIN:VEVENT
DTSTART;TZID=Europe/Paris:20200315T110000
DTEND;TZID=Europe/Paris:20200315T120000
DTSTAMP:20260424T175153
CREATED:20200116T203649Z
LAST-MODIFIED:20200315T101712Z
UID:10000704-1584270000-1584273600@www.ekg-hechtsheim.de
SUMMARY:Kurzes Gebet und Gelegenheit zu Einzelgespräch
DESCRIPTION:Kurzes Gebet und Gelegenheit zu Einzelgespräch mit Pfarrerin Sabine Feucht-Münch für Personen\, die dies wünschen. \nDen Sonntagsgruß zu Okuli (15. März) von Pfarrerin Sabine Feucht-Münch können Sie hier lesen.
URL:https://www.ekg-hechtsheim.de/veranstaltungen/gottesdienst-mit-abendmahl-34/
LOCATION:Gemeindehaus Frankenhöhe\, Bodenheimer Straße 58\, Mainz\, 55129\, Deutschland
CATEGORIES:Gottesdienste
GEO:49.9667007;8.2872534
X-APPLE-STRUCTURED-LOCATION;VALUE=URI;X-ADDRESS=Gemeindehaus Frankenhöhe Bodenheimer Straße 58 Mainz 55129 Deutschland;X-APPLE-RADIUS=500;X-TITLE=Bodenheimer Straße 58:geo:8.2872534,49.9667007
END:VEVENT
BEGIN:VEVENT
DTSTART;TZID=Europe/Paris:20200315T180000
DTEND;TZID=Europe/Paris:20200315T180000
DTSTAMP:20260424T175153
CREATED:20200311T170426Z
LAST-MODIFIED:20200311T170739Z
UID:10000734-1584295200-1584295200@www.ekg-hechtsheim.de
SUMMARY:ENTFÄLLT: BeneKiDs-Konzert
DESCRIPTION:Das für 18 Uhr geplante BeneKiDs-Konzert mit dem Gospelchor SoundConnection wird aufgrund der aktuellen Empfehlungen des Gesundheitsamts entfallen. Es wird im Laufe des Jahres nachgeholt.
URL:https://www.ekg-hechtsheim.de/veranstaltungen/entfaellt-benekids-konzert/
CATEGORIES:Gemeinde
END:VEVENT
BEGIN:VEVENT
DTSTART;TZID=Europe/Paris:20200316T193000
DTEND;TZID=Europe/Paris:20200316T210000
DTSTAMP:20260424T175153
CREATED:20171218T090742Z
LAST-MODIFIED:20180108T083306Z
UID:10000309-1584387000-1584392400@www.ekg-hechtsheim.de
SUMMARY:Abend in der Stille
DESCRIPTION:Einmal im Monat findet ein Abend in der Stille in der Regel am 3. Montag im Monat im Gemeindezentrum von 19.30 – 21  Uhr (außer in den Schulferien) statt. \nExerzitien im Alltag sind ein Weg\, auf dem wir einüben können\, den Alltag bewusster und aufmerksamer wahrzunehmen und Gott dort zu entdecken\, wo er sich von uns finden lassen möchte: mitten im Leben. \nAus dem Projekt in der Passionszeit 2016 ist der Wunsch entstanden\, regelmäßig\, einmal im Monat\, solche „Exerzitien im Alltag“ miteinander zu teilen und in Gemeinschaft einen solchen Weg zu gehen. \nEinmal im Monat sind alle Interessierten eingeladen zusammen zu kommen: zum Einüben verschiedener Formen von Zeiten der Stille\, Meditation über biblischen Worten und Gebet\, zum Austausch über die Erfahrungen. \nTermine in 2018: 22. Januar\, 19. Februar\,  19. März\, 23. April 21. Mai\, 18. Juni\, im Juli Pause wegen Sommerferien. \nBequeme Kleidung\, möglicherweise eine wärmende Decke oder Wollsocken\, um im Sitzen und Schweigen einen warmen Rücken und warme Füße zu behalten\, bringen Sie bitte dazu von zu Hause mit.
URL:https://www.ekg-hechtsheim.de/veranstaltungen/abend-in-der-stille-mit-den-perlen-des-glaubens-beten-und-ueber-gott-und-die-welt-gemeinsam-nachsinnen-2018-04-16/2020-03-16/
LOCATION:16:00 - \, Deutschland
CATEGORIES:Gottesdienste
END:VEVENT
BEGIN:VEVENT
DTSTART;TZID=Europe/Paris:20200322T100000
DTEND;TZID=Europe/Paris:20200322T110000
DTSTAMP:20260424T175153
CREATED:20200116T202609Z
LAST-MODIFIED:20200315T101812Z
UID:10001346-1584871200-1584874800@www.ekg-hechtsheim.de
SUMMARY:Gottesdienst ENTFÄLLT
DESCRIPTION:Die Gottesdienste unserer Gemeinde entfallen vorerst bis Ostern (gegebenenfalls den staatlichen beziehungsweise kirchlichen Maßgaben entsprechend auch länger)\, um die weitere Ausbreitung des Corona-Virus zu verlangsamen. Letztlich gilt\, dass wir nicht mit Panik\, sondern mit angemessener Vorsicht handeln sollten. \nSoziale Distanz bedeutet nicht soziale Kälte \nDazu können wir alle beitragen\, indem wir versuchen\, die Ausbreitung des Virus zu verlangsamen und einander – insbesondere den gefährdeten Menschen – Hilfestellungen geben. \nWenn Sie praktische Unterstützung brauchen\, wenden Sie sich an uns. \nIhnen allen alles Gute! \nDer Kirchenvorstand der Evang. Gemeinde Hechtsheim \nPfarrerin Sabine Feucht-Münch \nPfarrer Adrian Ladner \n  \nWenn Sie in Sorge sind und mit jemandem sprechen möchten\, dann wenden Sie sich an Pfarrer Ladner oder Pfarrerin Feucht-Münch \n  \nWeitere Informationen finden Sie auf der Homepage der EKHN unter: www.ekhn.de/home.html
URL:https://www.ekg-hechtsheim.de/veranstaltungen/gottesdienst-121/
LOCATION:Gemeindezentrum Lion-Feuchtwanger-Straße\, Lion-Feuchtwanger Str. 14\, Mainz\, 55129\, Deutschland
CATEGORIES:Gottesdienste
GEO:49.9621;8.2738908
X-APPLE-STRUCTURED-LOCATION;VALUE=URI;X-ADDRESS=Gemeindezentrum Lion-Feuchtwanger-Straße Lion-Feuchtwanger Str. 14 Mainz 55129 Deutschland;X-APPLE-RADIUS=500;X-TITLE=Lion-Feuchtwanger Str. 14:geo:8.2738908,49.9621
END:VEVENT
BEGIN:VEVENT
DTSTART;TZID=Europe/Paris:20200322T110000
DTEND;TZID=Europe/Paris:20200322T120000
DTSTAMP:20260424T175153
CREATED:20200116T203812Z
LAST-MODIFIED:20200315T104935Z
UID:10000706-1584874800-1584878400@www.ekg-hechtsheim.de
SUMMARY:Gottesdienst ENTFÄLLT
DESCRIPTION:Die Gottesdienste unserer Gemeinde entfallen vorerst bis Ostern (gegebenenfalls. den staatlichen beziehungsweise. kirchlichen Maßgaben entsprechend auch länger)\, um die weitere Ausbreitung des Corona-Virus zu verlangsamen. \nLetztlich gilt\, dass wir nicht mit Panik\, sondern mit angemessener Vorsicht handeln sollten. \nSoziale Distanz bedeutet nicht soziale Kälte \nDazu können wir alle beitragen\, indem wir versuchen\, die Ausbreitung des Virus zu verlangsamen und einander – insbesondere den gefährdeten Menschen – Hilfestellungen geben. \nWenn Sie praktische Unterstützung brauchen\, wenden Sie sich an uns. \nIhnen allen alles Gute! \nDer Kirchenvorstand der Evang. Gemeinde Hechtsheim \nPfarrerin Sabine Feucht-Münch \nPfarrer Adrian Ladner \n  \nWenn Sie in Sorge sind und mit jemandem sprechen möchten\, dann wenden Sie sich an Pfarrer Ladner oder Pfarrerin Feucht-Münch \n  \nWeitere Informationen finden Sie auf der Homepage der EKHN unter: www.ekhn.de/home.html
URL:https://www.ekg-hechtsheim.de/veranstaltungen/gottesdienst-124/
LOCATION:Gemeindehaus Frankenhöhe\, Bodenheimer Straße 58\, Mainz\, 55129\, Deutschland
CATEGORIES:Gottesdienste
GEO:49.9667007;8.2872534
X-APPLE-STRUCTURED-LOCATION;VALUE=URI;X-ADDRESS=Gemeindehaus Frankenhöhe Bodenheimer Straße 58 Mainz 55129 Deutschland;X-APPLE-RADIUS=500;X-TITLE=Bodenheimer Straße 58:geo:8.2872534,49.9667007
END:VEVENT
BEGIN:VEVENT
DTSTART;TZID=Europe/Paris:20200328T140000
DTEND;TZID=Europe/Paris:20200328T160000
DTSTAMP:20260424T175153
CREATED:20200122T203835Z
LAST-MODIFIED:20200321T185206Z
UID:10001357-1585404000-1585411200@www.ekg-hechtsheim.de
SUMMARY:FÄLLT LEIDER AUS: Kindersachenbasar „Kinderkram kinderleicht verkauft & gekauft“
DESCRIPTION:Infos unter: foerderverein@kiga-hechtsheim.de
URL:https://www.ekg-hechtsheim.de/veranstaltungen/kindersachenbasar-kinderkram-kinderleicht-verkauft-gekauft-4/
LOCATION:Gemeindezentrum Lion-Feuchtwanger-Straße\, Lion-Feuchtwanger Str. 14\, Mainz\, 55129\, Deutschland
CATEGORIES:Sonstiges
GEO:49.9621;8.2738908
X-APPLE-STRUCTURED-LOCATION;VALUE=URI;X-ADDRESS=Gemeindezentrum Lion-Feuchtwanger-Straße Lion-Feuchtwanger Str. 14 Mainz 55129 Deutschland;X-APPLE-RADIUS=500;X-TITLE=Lion-Feuchtwanger Str. 14:geo:8.2738908,49.9621
END:VEVENT
BEGIN:VEVENT
DTSTART;TZID=Europe/Paris:20200329T100000
DTEND;TZID=Europe/Paris:20200329T110000
DTSTAMP:20260424T175153
CREATED:20200116T202658Z
LAST-MODIFIED:20200314T173825Z
UID:10001347-1585476000-1585479600@www.ekg-hechtsheim.de
SUMMARY:Gottesdienst ENTFÄLLT
DESCRIPTION:Die Gottesdienste unserer Gemeinde entfallen vorerst bis Ostern (gegebenenfalls. den staatlichen beziehungsweise. kirchlichen Maßgaben entsprechend auch länger)\, um die weitere Ausbreitung des Corona-Virus zu verlangsamen. \nLetztlich gilt\, dass wir nicht mit Panik\, sondern mit angemessener Vorsicht handeln sollten. \nSoziale Distanz bedeutet nicht soziale Kälte \nDazu können wir alle beitragen\, indem wir versuchen\, die Ausbreitung des Virus zu verlangsamen und einander – insbesondere den gefährdeten Menschen – Hilfestellungen geben. \nWenn Sie praktische Unterstützung brauchen\, wenden Sie sich an uns. \nIhnen allen alles Gute! \nDer Kirchenvorstand der Evang. Gemeinde Hechtsheim \nPfarrerin Sabine Feucht-Münch \nPfarrer Adrian Ladner \n  \nWenn Sie in Sorge sind und mit jemandem sprechen möchten\, dann wenden Sie sich an Pfarrer Ladner oder Pfarrerin Feucht-Münch \n  \nWeitere Informationen finden Sie auf der Homepage der EKHN unter: www.ekhn.de/home.html
URL:https://www.ekg-hechtsheim.de/veranstaltungen/gottesdienst-122/
LOCATION:Gemeindezentrum Lion-Feuchtwanger-Straße\, Lion-Feuchtwanger Str. 14\, Mainz\, 55129\, Deutschland
CATEGORIES:Gottesdienste
GEO:49.9621;8.2738908
X-APPLE-STRUCTURED-LOCATION;VALUE=URI;X-ADDRESS=Gemeindezentrum Lion-Feuchtwanger-Straße Lion-Feuchtwanger Str. 14 Mainz 55129 Deutschland;X-APPLE-RADIUS=500;X-TITLE=Lion-Feuchtwanger Str. 14:geo:8.2738908,49.9621
END:VEVENT
BEGIN:VEVENT
DTSTART;TZID=Europe/Paris:20200329T180000
DTEND;TZID=Europe/Paris:20200329T210000
DTSTAMP:20260424T175153
CREATED:20200116T204937Z
LAST-MODIFIED:20200314T174131Z
UID:10000708-1585504800-1585515600@www.ekg-hechtsheim.de
SUMMARY:Literatur-Abendgottesdienst ENFÄLLT
DESCRIPTION:Die Gottesdienste unserer Gemeinde entfallen vorerst bis Ostern (gegebenenfalls. den staatlichen beziehungsweise. kirchlichen Maßgaben entsprechend auch länger)\, um die weitere Ausbreitung des Corona-Virus zu verlangsamen. \nWeitere Informationen finden Sie auf der Homepage der EKHN unter: www.ekhn.de/home.html \n  \n———— \nLiteratur-Gottesdienst in offener liturgischer Form. Schwerpunkt ist die Beschäftigung mit dem Autor\, seinem Werk und dessen Hintergründen.\nIm Anschluss Gelegenheit zum Gespräch bei einem Glas Wein und dem Büchertisch der Buchhandlung Ruthmann. \nGael Faye: Kleines Land\nDer 1982 in Burundi geborene und seit 1995 in Frankreich lebende Musiker und Rapper hat einen Roman über Kindheit\, Bürgerkrieg und den Verlust der Heimat geschrieben.\nKleines Land spielt überwiegend Anfang der 90er Jahre in Burundis Hauptstadt Bujumbura. Der blutige Konflikt zwischen Hutu und Tutsi in Ruanda strahlte auch auf das Nachbarland Burundi aus und führte zu brutalen Massakern\, in die auch der Erzähler Gabriel und seine Familie hineingezogen werden.
URL:https://www.ekg-hechtsheim.de/veranstaltungen/literatur-abendgottesdienst-4/
LOCATION:Gemeindehaus Frankenhöhe\, Bodenheimer Straße 58\, Mainz\, 55129\, Deutschland
CATEGORIES:Gottesdienste
GEO:49.9667007;8.2872534
X-APPLE-STRUCTURED-LOCATION;VALUE=URI;X-ADDRESS=Gemeindehaus Frankenhöhe Bodenheimer Straße 58 Mainz 55129 Deutschland;X-APPLE-RADIUS=500;X-TITLE=Bodenheimer Straße 58:geo:8.2872534,49.9667007
END:VEVENT
END:VCALENDAR