BEGIN:VCALENDAR
VERSION:2.0
PRODID:-//Evangelische Kirchengemeinde Mainz-Hechtsheim - ECPv6.15.20//NONSGML v1.0//EN
CALSCALE:GREGORIAN
METHOD:PUBLISH
X-ORIGINAL-URL:https://www.ekg-hechtsheim.de
X-WR-CALDESC:Veranstaltungen für Evangelische Kirchengemeinde Mainz-Hechtsheim
REFRESH-INTERVAL;VALUE=DURATION:PT1H
X-Robots-Tag:noindex
X-PUBLISHED-TTL:PT1H
BEGIN:VTIMEZONE
TZID:Europe/Paris
BEGIN:DAYLIGHT
TZOFFSETFROM:+0100
TZOFFSETTO:+0200
TZNAME:CEST
DTSTART:20180325T010000
END:DAYLIGHT
BEGIN:STANDARD
TZOFFSETFROM:+0200
TZOFFSETTO:+0100
TZNAME:CET
DTSTART:20181028T010000
END:STANDARD
BEGIN:DAYLIGHT
TZOFFSETFROM:+0100
TZOFFSETTO:+0200
TZNAME:CEST
DTSTART:20190331T010000
END:DAYLIGHT
BEGIN:STANDARD
TZOFFSETFROM:+0200
TZOFFSETTO:+0100
TZNAME:CET
DTSTART:20191027T010000
END:STANDARD
BEGIN:DAYLIGHT
TZOFFSETFROM:+0100
TZOFFSETTO:+0200
TZNAME:CEST
DTSTART:20200329T010000
END:DAYLIGHT
BEGIN:STANDARD
TZOFFSETFROM:+0200
TZOFFSETTO:+0100
TZNAME:CET
DTSTART:20201025T010000
END:STANDARD
END:VTIMEZONE
BEGIN:VEVENT
DTSTART;TZID=Europe/Paris:20191201T100000
DTEND;TZID=Europe/Paris:20191201T110000
DTSTAMP:20260424T221516
CREATED:20191116T170311Z
LAST-MODIFIED:20191116T170311Z
UID:10001319-1575194400-1575198000@www.ekg-hechtsheim.de
SUMMARY:Gottesdienst zum 1. Advent
DESCRIPTION:
URL:https://www.ekg-hechtsheim.de/veranstaltungen/gottesdienst-zum-1-advent/
LOCATION:Gemeindezentrum Lion-Feuchtwanger-Straße\, Lion-Feuchtwanger Str. 14\, Mainz\, 55129\, Deutschland
CATEGORIES:Gottesdienste
GEO:49.9621;8.2738908
X-APPLE-STRUCTURED-LOCATION;VALUE=URI;X-ADDRESS=Gemeindezentrum Lion-Feuchtwanger-Straße Lion-Feuchtwanger Str. 14 Mainz 55129 Deutschland;X-APPLE-RADIUS=500;X-TITLE=Lion-Feuchtwanger Str. 14:geo:8.2738908,49.9621
END:VEVENT
BEGIN:VEVENT
DTSTART;TZID=Europe/Paris:20191201T143000
DTEND;TZID=Europe/Paris:20191201T170000
DTSTAMP:20260424T221516
CREATED:20191116T170444Z
LAST-MODIFIED:20191116T170444Z
UID:10001321-1575210600-1575219600@www.ekg-hechtsheim.de
SUMMARY:Gemeindenachmittag zum 1. Advent
DESCRIPTION:
URL:https://www.ekg-hechtsheim.de/veranstaltungen/gemeindenachmittag-zum-1-advent/
LOCATION:Gemeindezentrum Lion-Feuchtwanger-Straße\, Lion-Feuchtwanger Str. 14\, Mainz\, 55129\, Deutschland
CATEGORIES:Gemeinde
GEO:49.9621;8.2738908
X-APPLE-STRUCTURED-LOCATION;VALUE=URI;X-ADDRESS=Gemeindezentrum Lion-Feuchtwanger-Straße Lion-Feuchtwanger Str. 14 Mainz 55129 Deutschland;X-APPLE-RADIUS=500;X-TITLE=Lion-Feuchtwanger Str. 14:geo:8.2738908,49.9621
END:VEVENT
BEGIN:VEVENT
DTSTART;TZID=Europe/Paris:20191201T180000
DTEND;TZID=Europe/Paris:20191201T193000
DTSTAMP:20260424T221516
CREATED:20191116T165603Z
LAST-MODIFIED:20191116T165603Z
UID:10001318-1575223200-1575228600@www.ekg-hechtsheim.de
SUMMARY:Literatur- Abendgottesdienst
DESCRIPTION:Theodor Fontane zum 200. Geburtstag – Effi Briest
URL:https://www.ekg-hechtsheim.de/veranstaltungen/literatur-abendgottesdienst-2/
LOCATION:Gemeindehaus Frankenhöhe\, Bodenheimer Straße 58\, Mainz\, 55129\, Deutschland
CATEGORIES:Gottesdienste
GEO:49.9667007;8.2872534
X-APPLE-STRUCTURED-LOCATION;VALUE=URI;X-ADDRESS=Gemeindehaus Frankenhöhe Bodenheimer Straße 58 Mainz 55129 Deutschland;X-APPLE-RADIUS=500;X-TITLE=Bodenheimer Straße 58:geo:8.2872534,49.9667007
END:VEVENT
BEGIN:VEVENT
DTSTART;TZID=Europe/Paris:20191207T140000
DTEND;TZID=Europe/Paris:20191207T170000
DTSTAMP:20260424T221516
CREATED:20191204T153153Z
LAST-MODIFIED:20191204T153153Z
UID:10001336-1575727200-1575738000@www.ekg-hechtsheim.de
SUMMARY:Adventsfeier des Seniorenclubs
DESCRIPTION:
URL:https://www.ekg-hechtsheim.de/veranstaltungen/adventsfeier-des-seniorenclubs/
LOCATION:Gemeindezentrum Lion-Feuchtwanger-Straße\, Lion-Feuchtwanger Str. 14\, Mainz\, 55129\, Deutschland
CATEGORIES:Gemeinde
GEO:49.9621;8.2738908
X-APPLE-STRUCTURED-LOCATION;VALUE=URI;X-ADDRESS=Gemeindezentrum Lion-Feuchtwanger-Straße Lion-Feuchtwanger Str. 14 Mainz 55129 Deutschland;X-APPLE-RADIUS=500;X-TITLE=Lion-Feuchtwanger Str. 14:geo:8.2738908,49.9621
END:VEVENT
BEGIN:VEVENT
DTSTART;TZID=Europe/Paris:20191208T100000
DTEND;TZID=Europe/Paris:20191208T110000
DTSTAMP:20260424T221516
CREATED:20191116T170556Z
LAST-MODIFIED:20191116T170844Z
UID:10001322-1575799200-1575802800@www.ekg-hechtsheim.de
SUMMARY:Adventsgottesdienst mit Abendmahl
DESCRIPTION:
URL:https://www.ekg-hechtsheim.de/veranstaltungen/adventsgottesdienst-mit-abendmahl-3/
LOCATION:Gemeindezentrum Lion-Feuchtwanger-Straße\, Lion-Feuchtwanger Str. 14\, Mainz\, 55129\, Deutschland
CATEGORIES:Gottesdienste
GEO:49.9621;8.2738908
X-APPLE-STRUCTURED-LOCATION;VALUE=URI;X-ADDRESS=Gemeindezentrum Lion-Feuchtwanger-Straße Lion-Feuchtwanger Str. 14 Mainz 55129 Deutschland;X-APPLE-RADIUS=500;X-TITLE=Lion-Feuchtwanger Str. 14:geo:8.2738908,49.9621
END:VEVENT
BEGIN:VEVENT
DTSTART;TZID=Europe/Paris:20191208T110000
DTEND;TZID=Europe/Paris:20191208T120000
DTSTAMP:20260424T221516
CREATED:20191116T165754Z
LAST-MODIFIED:20191116T165754Z
UID:10001303-1575802800-1575806400@www.ekg-hechtsheim.de
SUMMARY:Adventskinderkirche
DESCRIPTION:
URL:https://www.ekg-hechtsheim.de/veranstaltungen/adventskinderkirche-4/
LOCATION:Gemeindehaus Frankenhöhe\, Bodenheimer Straße 58\, Mainz\, 55129\, Deutschland
CATEGORIES:Gottesdienste
GEO:49.9667007;8.2872534
X-APPLE-STRUCTURED-LOCATION;VALUE=URI;X-ADDRESS=Gemeindehaus Frankenhöhe Bodenheimer Straße 58 Mainz 55129 Deutschland;X-APPLE-RADIUS=500;X-TITLE=Bodenheimer Straße 58:geo:8.2872534,49.9667007
END:VEVENT
BEGIN:VEVENT
DTSTART;TZID=Europe/Paris:20191210T181500
DTEND;TZID=Europe/Paris:20191210T181500
DTSTAMP:20260424T221516
CREATED:20191204T151705Z
LAST-MODIFIED:20191204T151705Z
UID:10001329-1576001700-1576001700@www.ekg-hechtsheim.de
SUMMARY:1. JuGru mit Lena Hofmann
DESCRIPTION:
URL:https://www.ekg-hechtsheim.de/veranstaltungen/1-jugru-mit-lena-hofmann/
LOCATION:Jugendkeller im Gemeindezentrum\, Lion-Feuchtwanger-Straße 14\, Mainz\, 55129\, Deutschland
CATEGORIES:Gemeinde
END:VEVENT
BEGIN:VEVENT
DTSTART;TZID=Europe/Paris:20191212T160000
DTEND;TZID=Europe/Paris:20191212T170000
DTSTAMP:20260424T221516
CREATED:20191116T165916Z
LAST-MODIFIED:20191116T165916Z
UID:10001302-1576166400-1576170000@www.ekg-hechtsheim.de
SUMMARY:Adventsgottesdienst mit Abendmahl in der Seniorenrsidenz
DESCRIPTION:
URL:https://www.ekg-hechtsheim.de/veranstaltungen/adventsgottesdienst-mit-abendmahl-in-der-seniorenrsidenz/
LOCATION:16:00 - \, Deutschland
CATEGORIES:Gottesdienste
END:VEVENT
BEGIN:VEVENT
DTSTART;TZID=Europe/Paris:20191215T100000
DTEND;TZID=Europe/Paris:20191215T110000
DTSTAMP:20260424T221516
CREATED:20191116T170704Z
LAST-MODIFIED:20191116T170704Z
UID:10001325-1576404000-1576407600@www.ekg-hechtsheim.de
SUMMARY:Adventsgottesdienst
DESCRIPTION:
URL:https://www.ekg-hechtsheim.de/veranstaltungen/adventsgottesdienst-2/
LOCATION:Gemeindezentrum Lion-Feuchtwanger-Straße\, Lion-Feuchtwanger Str. 14\, Mainz\, 55129\, Deutschland
CATEGORIES:Gottesdienste
GEO:49.9621;8.2738908
X-APPLE-STRUCTURED-LOCATION;VALUE=URI;X-ADDRESS=Gemeindezentrum Lion-Feuchtwanger-Straße Lion-Feuchtwanger Str. 14 Mainz 55129 Deutschland;X-APPLE-RADIUS=500;X-TITLE=Lion-Feuchtwanger Str. 14:geo:8.2738908,49.9621
END:VEVENT
BEGIN:VEVENT
DTSTART;TZID=Europe/Paris:20191215T110000
DTEND;TZID=Europe/Paris:20191215T120000
DTSTAMP:20260424T221516
CREATED:20191116T170123Z
LAST-MODIFIED:20191116T170123Z
UID:10001320-1576407600-1576411200@www.ekg-hechtsheim.de
SUMMARY:Adventsgottesdienst mit Abendmahl
DESCRIPTION:zu Gast: Posaunenchor Osthofen
URL:https://www.ekg-hechtsheim.de/veranstaltungen/adventsgottesdienst-mit-abendmahl-2/
LOCATION:Gemeindehaus Frankenhöhe\, Bodenheimer Straße 58\, Mainz\, 55129\, Deutschland
CATEGORIES:Gottesdienste
GEO:49.9667007;8.2872534
X-APPLE-STRUCTURED-LOCATION;VALUE=URI;X-ADDRESS=Gemeindehaus Frankenhöhe Bodenheimer Straße 58 Mainz 55129 Deutschland;X-APPLE-RADIUS=500;X-TITLE=Bodenheimer Straße 58:geo:8.2872534,49.9667007
END:VEVENT
BEGIN:VEVENT
DTSTART;TZID=Europe/Paris:20191216T193000
DTEND;TZID=Europe/Paris:20191216T210000
DTSTAMP:20260424T221516
CREATED:20171218T090742Z
LAST-MODIFIED:20180108T083306Z
UID:10000306-1576524600-1576530000@www.ekg-hechtsheim.de
SUMMARY:Abend in der Stille
DESCRIPTION:Einmal im Monat findet ein Abend in der Stille in der Regel am 3. Montag im Monat im Gemeindezentrum von 19.30 – 21  Uhr (außer in den Schulferien) statt. \nExerzitien im Alltag sind ein Weg\, auf dem wir einüben können\, den Alltag bewusster und aufmerksamer wahrzunehmen und Gott dort zu entdecken\, wo er sich von uns finden lassen möchte: mitten im Leben. \nAus dem Projekt in der Passionszeit 2016 ist der Wunsch entstanden\, regelmäßig\, einmal im Monat\, solche „Exerzitien im Alltag“ miteinander zu teilen und in Gemeinschaft einen solchen Weg zu gehen. \nEinmal im Monat sind alle Interessierten eingeladen zusammen zu kommen: zum Einüben verschiedener Formen von Zeiten der Stille\, Meditation über biblischen Worten und Gebet\, zum Austausch über die Erfahrungen. \nTermine in 2018: 22. Januar\, 19. Februar\,  19. März\, 23. April 21. Mai\, 18. Juni\, im Juli Pause wegen Sommerferien. \nBequeme Kleidung\, möglicherweise eine wärmende Decke oder Wollsocken\, um im Sitzen und Schweigen einen warmen Rücken und warme Füße zu behalten\, bringen Sie bitte dazu von zu Hause mit.
URL:https://www.ekg-hechtsheim.de/veranstaltungen/abend-in-der-stille-mit-den-perlen-des-glaubens-beten-und-ueber-gott-und-die-welt-gemeinsam-nachsinnen-2018-04-16/2019-12-16/
LOCATION:16:00 - \, Deutschland
CATEGORIES:Gottesdienste
END:VEVENT
BEGIN:VEVENT
DTSTART;TZID=Europe/Paris:20191222T100000
DTEND;TZID=Europe/Paris:20191222T110000
DTSTAMP:20260424T221516
CREATED:20191116T170805Z
LAST-MODIFIED:20191116T170805Z
UID:10001326-1577008800-1577012400@www.ekg-hechtsheim.de
SUMMARY:Adventsgottesdienst
DESCRIPTION:
URL:https://www.ekg-hechtsheim.de/veranstaltungen/adventsgottesdienst-3/
LOCATION:Gemeindezentrum Lion-Feuchtwanger-Straße\, Lion-Feuchtwanger Str. 14\, Mainz\, 55129\, Deutschland
CATEGORIES:Gottesdienste
GEO:49.9621;8.2738908
X-APPLE-STRUCTURED-LOCATION;VALUE=URI;X-ADDRESS=Gemeindezentrum Lion-Feuchtwanger-Straße Lion-Feuchtwanger Str. 14 Mainz 55129 Deutschland;X-APPLE-RADIUS=500;X-TITLE=Lion-Feuchtwanger Str. 14:geo:8.2738908,49.9621
END:VEVENT
BEGIN:VEVENT
DTSTART;TZID=Europe/Paris:20191224T150000
DTEND;TZID=Europe/Paris:20191224T160000
DTSTAMP:20260424T221516
CREATED:20191126T111747Z
LAST-MODIFIED:20191126T111747Z
UID:10000696-1577199600-1577203200@www.ekg-hechtsheim.de
SUMMARY:ökumenischer Heiligabend-Gottesdienst in der Seniorenresidenz
DESCRIPTION:nicht nur für Bewohner der Seniorenresidenz!
URL:https://www.ekg-hechtsheim.de/veranstaltungen/oekumenischer-heiligabend-gottesdienst-in-der-seniorenresidenz-2/
LOCATION:16:00 - \, Deutschland
CATEGORIES:Gottesdienste
END:VEVENT
BEGIN:VEVENT
DTSTART;TZID=Europe/Paris:20191224T150000
DTEND;TZID=Europe/Paris:20191224T163000
DTSTAMP:20260424T221516
CREATED:20191126T110311Z
LAST-MODIFIED:20191126T110311Z
UID:10001330-1577199600-1577205000@www.ekg-hechtsheim.de
SUMMARY:Familiengottesdienst mit Krippen-Singspiel
DESCRIPTION:
URL:https://www.ekg-hechtsheim.de/veranstaltungen/familiengottesdienst-mit-krippen-singspiel/
LOCATION:Gemeindezentrum Lion-Feuchtwanger-Straße\, Lion-Feuchtwanger Str. 14\, Mainz\, 55129\, Deutschland
CATEGORIES:Gottesdienste
GEO:49.9621;8.2738908
X-APPLE-STRUCTURED-LOCATION;VALUE=URI;X-ADDRESS=Gemeindezentrum Lion-Feuchtwanger-Straße Lion-Feuchtwanger Str. 14 Mainz 55129 Deutschland;X-APPLE-RADIUS=500;X-TITLE=Lion-Feuchtwanger Str. 14:geo:8.2738908,49.9621
END:VEVENT
BEGIN:VEVENT
DTSTART;TZID=Europe/Paris:20191224T170000
DTEND;TZID=Europe/Paris:20191224T180000
DTSTAMP:20260424T221516
CREATED:20191126T110419Z
LAST-MODIFIED:20191126T110419Z
UID:10000684-1577206800-1577210400@www.ekg-hechtsheim.de
SUMMARY:Christvesper
DESCRIPTION:
URL:https://www.ekg-hechtsheim.de/veranstaltungen/christvesper-4/
LOCATION:Gemeindezentrum Lion-Feuchtwanger-Straße\, Lion-Feuchtwanger Str. 14\, Mainz\, 55129\, Deutschland
CATEGORIES:Gottesdienste
GEO:49.9621;8.2738908
X-APPLE-STRUCTURED-LOCATION;VALUE=URI;X-ADDRESS=Gemeindezentrum Lion-Feuchtwanger-Straße Lion-Feuchtwanger Str. 14 Mainz 55129 Deutschland;X-APPLE-RADIUS=500;X-TITLE=Lion-Feuchtwanger Str. 14:geo:8.2738908,49.9621
END:VEVENT
BEGIN:VEVENT
DTSTART;TZID=Europe/Paris:20191224T170000
DTEND;TZID=Europe/Paris:20191224T183000
DTSTAMP:20260424T221516
CREATED:20191126T111945Z
LAST-MODIFIED:20191126T112218Z
UID:10001331-1577206800-1577212200@www.ekg-hechtsheim.de
SUMMARY:Christvesper mit Krippenszenen der Jugendlichen und Kinder und Weihnachtspredigt
DESCRIPTION:für Erwachsene und große und kleine Kinder
URL:https://www.ekg-hechtsheim.de/veranstaltungen/christvesper-mit-krippenszenen-der-jugendlichen-und-kinder-und-weihnachtspredigt/
LOCATION:Gemeindehaus Frankenhöhe\, Bodenheimer Straße 58\, Mainz\, 55129\, Deutschland
CATEGORIES:Gottesdienste
GEO:49.9667007;8.2872534
X-APPLE-STRUCTURED-LOCATION;VALUE=URI;X-ADDRESS=Gemeindehaus Frankenhöhe Bodenheimer Straße 58 Mainz 55129 Deutschland;X-APPLE-RADIUS=500;X-TITLE=Bodenheimer Straße 58:geo:8.2872534,49.9667007
END:VEVENT
BEGIN:VEVENT
DTSTART;TZID=Europe/Paris:20191224T230000
DTEND;TZID=Europe/Paris:20191224T235900
DTSTAMP:20260424T221516
CREATED:20191126T110622Z
LAST-MODIFIED:20191126T110622Z
UID:10000686-1577228400-1577231940@www.ekg-hechtsheim.de
SUMMARY:Christmette
DESCRIPTION:
URL:https://www.ekg-hechtsheim.de/veranstaltungen/christmette-4/
LOCATION:Gemeindezentrum Lion-Feuchtwanger-Straße\, Lion-Feuchtwanger Str. 14\, Mainz\, 55129\, Deutschland
CATEGORIES:Gottesdienste
GEO:49.9621;8.2738908
X-APPLE-STRUCTURED-LOCATION;VALUE=URI;X-ADDRESS=Gemeindezentrum Lion-Feuchtwanger-Straße Lion-Feuchtwanger Str. 14 Mainz 55129 Deutschland;X-APPLE-RADIUS=500;X-TITLE=Lion-Feuchtwanger Str. 14:geo:8.2738908,49.9621
END:VEVENT
BEGIN:VEVENT
DTSTART;TZID=Europe/Paris:20191225T100000
DTEND;TZID=Europe/Paris:20191225T110000
DTSTAMP:20260424T221516
CREATED:20191126T110802Z
LAST-MODIFIED:20191126T110802Z
UID:10000688-1577268000-1577271600@www.ekg-hechtsheim.de
SUMMARY:Christfestgottesdienst mit Abendmahl
DESCRIPTION:
URL:https://www.ekg-hechtsheim.de/veranstaltungen/christfestgottesdienst-mit-abendmahl-4/
LOCATION:Gemeindezentrum Lion-Feuchtwanger-Straße\, Lion-Feuchtwanger Str. 14\, Mainz\, 55129\, Deutschland
CATEGORIES:Gottesdienste
GEO:49.9621;8.2738908
X-APPLE-STRUCTURED-LOCATION;VALUE=URI;X-ADDRESS=Gemeindezentrum Lion-Feuchtwanger-Straße Lion-Feuchtwanger Str. 14 Mainz 55129 Deutschland;X-APPLE-RADIUS=500;X-TITLE=Lion-Feuchtwanger Str. 14:geo:8.2738908,49.9621
END:VEVENT
BEGIN:VEVENT
DTSTART;TZID=Europe/Paris:20191226T100000
DTEND;TZID=Europe/Paris:20191226T110000
DTSTAMP:20260424T221516
CREATED:20191126T110927Z
LAST-MODIFIED:20191126T110927Z
UID:10000690-1577354400-1577358000@www.ekg-hechtsheim.de
SUMMARY:Singen unterm Weihnachtsbaum - Gottesdienst mit Wunschliedersingen
DESCRIPTION:
URL:https://www.ekg-hechtsheim.de/veranstaltungen/singen-unterm-weihnachtsbaum-gottesdienst-mit-wunschliedersingen-2/
LOCATION:Gemeindezentrum Lion-Feuchtwanger-Straße\, Lion-Feuchtwanger Str. 14\, Mainz\, 55129\, Deutschland
CATEGORIES:Gottesdienste
GEO:49.9621;8.2738908
X-APPLE-STRUCTURED-LOCATION;VALUE=URI;X-ADDRESS=Gemeindezentrum Lion-Feuchtwanger-Straße Lion-Feuchtwanger Str. 14 Mainz 55129 Deutschland;X-APPLE-RADIUS=500;X-TITLE=Lion-Feuchtwanger Str. 14:geo:8.2738908,49.9621
END:VEVENT
BEGIN:VEVENT
DTSTART;TZID=Europe/Paris:20191226T180000
DTEND;TZID=Europe/Paris:20191226T190000
DTSTAMP:20260424T221516
CREATED:20191126T112127Z
LAST-MODIFIED:20191126T112127Z
UID:10001332-1577383200-1577386800@www.ekg-hechtsheim.de
SUMMARY:Abendgottesdienst am 2. Weihnachtsfeiertag
DESCRIPTION:zum Ausklang der weihnachtlichen Feiertage
URL:https://www.ekg-hechtsheim.de/veranstaltungen/abendgottesdienst-am-2-weihnachtsfeiertag-2/
LOCATION:Gemeindehaus Frankenhöhe\, Bodenheimer Straße 58\, Mainz\, 55129\, Deutschland
CATEGORIES:Gottesdienste
GEO:49.9667007;8.2872534
X-APPLE-STRUCTURED-LOCATION;VALUE=URI;X-ADDRESS=Gemeindehaus Frankenhöhe Bodenheimer Straße 58 Mainz 55129 Deutschland;X-APPLE-RADIUS=500;X-TITLE=Bodenheimer Straße 58:geo:8.2872534,49.9667007
END:VEVENT
BEGIN:VEVENT
DTSTART;TZID=Europe/Paris:20191229T100000
DTEND;TZID=Europe/Paris:20191229T110000
DTSTAMP:20260424T221516
CREATED:20191126T111029Z
LAST-MODIFIED:20191126T111029Z
UID:10000691-1577613600-1577617200@www.ekg-hechtsheim.de
SUMMARY:Gottesdienst "Zwischen den Jahren"
DESCRIPTION:
URL:https://www.ekg-hechtsheim.de/veranstaltungen/gottesdienst-zwischen-den-jahren/
LOCATION:Gemeindezentrum Lion-Feuchtwanger-Straße\, Lion-Feuchtwanger Str. 14\, Mainz\, 55129\, Deutschland
CATEGORIES:Gottesdienste
GEO:49.9621;8.2738908
X-APPLE-STRUCTURED-LOCATION;VALUE=URI;X-ADDRESS=Gemeindezentrum Lion-Feuchtwanger-Straße Lion-Feuchtwanger Str. 14 Mainz 55129 Deutschland;X-APPLE-RADIUS=500;X-TITLE=Lion-Feuchtwanger Str. 14:geo:8.2738908,49.9621
END:VEVENT
BEGIN:VEVENT
DTSTART;TZID=Europe/Paris:20191231T180000
DTEND;TZID=Europe/Paris:20191231T193000
DTSTAMP:20260424T221516
CREATED:20191126T112522Z
LAST-MODIFIED:20191204T152729Z
UID:10001333-1577815200-1577820600@www.ekg-hechtsheim.de
SUMMARY:Gottesdienst am Silvester-Abend mit besonderer Musik
DESCRIPTION:Wir laden dazu ein\, auf das vergehnde Jahr zurückzublicken\, dankbar und mit den Fragen\, die bleiben. \nTraudl Hermann (Cello) und Sabine Möhrle (Flügel) spielen Musik von Johann Sebastian Bach\, Sergej Rachmaninov und Claude Debussy \nUnd: Traudl Herrmann/ Joh. Seb. Bach: „Licht auf Bach“ (2018)\, Uraufführung der Version für Violoncello und Klavier
URL:https://www.ekg-hechtsheim.de/veranstaltungen/gottesdienst-zum-jahresschluss/
LOCATION:Gemeindehaus Frankenhöhe\, Bodenheimer Straße 58\, Mainz\, 55129\, Deutschland
CATEGORIES:Gottesdienste
GEO:49.9667007;8.2872534
X-APPLE-STRUCTURED-LOCATION;VALUE=URI;X-ADDRESS=Gemeindehaus Frankenhöhe Bodenheimer Straße 58 Mainz 55129 Deutschland;X-APPLE-RADIUS=500;X-TITLE=Bodenheimer Straße 58:geo:8.2872534,49.9667007
END:VEVENT
END:VCALENDAR