BEGIN:VCALENDAR
VERSION:2.0
PRODID:-//Evangelische Kirchengemeinde Mainz-Hechtsheim - ECPv6.15.20//NONSGML v1.0//EN
CALSCALE:GREGORIAN
METHOD:PUBLISH
X-ORIGINAL-URL:https://www.ekg-hechtsheim.de
X-WR-CALDESC:Veranstaltungen für Evangelische Kirchengemeinde Mainz-Hechtsheim
REFRESH-INTERVAL;VALUE=DURATION:PT1H
X-Robots-Tag:noindex
X-PUBLISHED-TTL:PT1H
BEGIN:VTIMEZONE
TZID:Europe/Paris
BEGIN:DAYLIGHT
TZOFFSETFROM:+0100
TZOFFSETTO:+0200
TZNAME:CEST
DTSTART:20180325T010000
END:DAYLIGHT
BEGIN:STANDARD
TZOFFSETFROM:+0200
TZOFFSETTO:+0100
TZNAME:CET
DTSTART:20181028T010000
END:STANDARD
BEGIN:DAYLIGHT
TZOFFSETFROM:+0100
TZOFFSETTO:+0200
TZNAME:CEST
DTSTART:20190331T010000
END:DAYLIGHT
BEGIN:STANDARD
TZOFFSETFROM:+0200
TZOFFSETTO:+0100
TZNAME:CET
DTSTART:20191027T010000
END:STANDARD
BEGIN:DAYLIGHT
TZOFFSETFROM:+0100
TZOFFSETTO:+0200
TZNAME:CEST
DTSTART:20200329T010000
END:DAYLIGHT
BEGIN:STANDARD
TZOFFSETFROM:+0200
TZOFFSETTO:+0100
TZNAME:CET
DTSTART:20201025T010000
END:STANDARD
END:VTIMEZONE
BEGIN:VEVENT
DTSTART;TZID=Europe/Paris:20190901T100000
DTEND;TZID=Europe/Paris:20190901T110000
DTSTAMP:20260425T024927
CREATED:20190901T122226Z
LAST-MODIFIED:20190901T124220Z
UID:10001278-1567332000-1567335600@www.ekg-hechtsheim.de
SUMMARY:Gottesdienst
DESCRIPTION:Probegottesdienst des Bewerbers um die Pfarrstelle West
URL:https://www.ekg-hechtsheim.de/veranstaltungen/gottesdienst-107/
LOCATION:Gemeindezentrum Lion-Feuchtwanger-Straße\, Lion-Feuchtwanger Str. 14\, Mainz\, 55129\, Deutschland
CATEGORIES:Gottesdienste
GEO:49.9621;8.2738908
X-APPLE-STRUCTURED-LOCATION;VALUE=URI;X-ADDRESS=Gemeindezentrum Lion-Feuchtwanger-Straße Lion-Feuchtwanger Str. 14 Mainz 55129 Deutschland;X-APPLE-RADIUS=500;X-TITLE=Lion-Feuchtwanger Str. 14:geo:8.2738908,49.9621
END:VEVENT
BEGIN:VEVENT
DTSTART;TZID=Europe/Paris:20190901T110000
DTEND;TZID=Europe/Paris:20190901T120000
DTSTAMP:20260425T024927
CREATED:20190901T122411Z
LAST-MODIFIED:20190901T122411Z
UID:10001279-1567335600-1567339200@www.ekg-hechtsheim.de
SUMMARY:Gottesdienst
DESCRIPTION:
URL:https://www.ekg-hechtsheim.de/veranstaltungen/gottesdienst-108/
LOCATION:Gemeindehaus Frankenhöhe\, Bodenheimer Straße 58\, Mainz\, 55129\, Deutschland
CATEGORIES:Gottesdienste
GEO:49.9667007;8.2872534
X-APPLE-STRUCTURED-LOCATION;VALUE=URI;X-ADDRESS=Gemeindehaus Frankenhöhe Bodenheimer Straße 58 Mainz 55129 Deutschland;X-APPLE-RADIUS=500;X-TITLE=Bodenheimer Straße 58:geo:8.2872534,49.9667007
END:VEVENT
BEGIN:VEVENT
DTSTART;TZID=Europe/Paris:20190908T080000
DTEND;TZID=Europe/Paris:20190908T170000
DTSTAMP:20260425T024927
CREATED:20190901T122701Z
LAST-MODIFIED:20190901T122922Z
UID:10001280-1567929600-1567962000@www.ekg-hechtsheim.de
SUMMARY:Jubiläumsgottesdienst mit Ausstellungseröffnung
DESCRIPTION:zum 22. Jahrestag der Einweihung des Gemeindehauses Frankenhöhe\nDie Kinderkirche findet parallel statt.
URL:https://www.ekg-hechtsheim.de/veranstaltungen/jubilaeumsgottesdienst-mit-ausstellungseroeffnung/
LOCATION:Gemeindehaus Frankenhöhe\, Bodenheimer Straße 58\, Mainz\, 55129\, Deutschland
CATEGORIES:Gottesdienste
GEO:49.9667007;8.2872534
X-APPLE-STRUCTURED-LOCATION;VALUE=URI;X-ADDRESS=Gemeindehaus Frankenhöhe Bodenheimer Straße 58 Mainz 55129 Deutschland;X-APPLE-RADIUS=500;X-TITLE=Bodenheimer Straße 58:geo:8.2872534,49.9667007
END:VEVENT
BEGIN:VEVENT
DTSTART;TZID=Europe/Paris:20190914T140000
DTEND;TZID=Europe/Paris:20190914T160000
DTSTAMP:20260425T024927
CREATED:20190716T070721Z
LAST-MODIFIED:20190716T070721Z
UID:10000627-1568469600-1568476800@www.ekg-hechtsheim.de
SUMMARY:Kindersachenbasar "Kinderkram kinderleicht verkauft & gekauft"
DESCRIPTION:Der Einlass für Schwangere ist bereits um 13.30 Uhr. Neben dem Basar bieten wir noch Kaffee\, Kuchen\, Waffeln und um 15.00 Uhr Kasperltheater an. Infos unter: foerderverein@kiga-hechtsheim.de
URL:https://www.ekg-hechtsheim.de/veranstaltungen/kindersachenbasar-kinderkram-kinderleicht-verkauft-gekauft-2/
LOCATION:Außengelände der Evang. Kindertagesstätte\, Lion-Feuchtwanger-Straße 18\, Mainz\, Rheinland-Pfalz\, 55129\, Deutschland
CATEGORIES:Sonstiges
GEO:49.9611488;8.2732788
X-APPLE-STRUCTURED-LOCATION;VALUE=URI;X-ADDRESS=Außengelände der Evang. Kindertagesstätte Lion-Feuchtwanger-Straße 18 Mainz Rheinland-Pfalz 55129 Deutschland;X-APPLE-RADIUS=500;X-TITLE=Lion-Feuchtwanger-Straße 18:geo:8.2732788,49.9611488
END:VEVENT
BEGIN:VEVENT
DTSTART;TZID=Europe/Paris:20190915T100000
DTEND;TZID=Europe/Paris:20190915T110000
DTSTAMP:20260425T024927
CREATED:20190901T122851Z
LAST-MODIFIED:20190901T122851Z
UID:10001265-1568541600-1568545200@www.ekg-hechtsheim.de
SUMMARY:Gottesdienst
DESCRIPTION:
URL:https://www.ekg-hechtsheim.de/veranstaltungen/gottesdienst-109/
LOCATION:Gemeindezentrum Lion-Feuchtwanger-Straße\, Lion-Feuchtwanger Str. 14\, Mainz\, 55129\, Deutschland
CATEGORIES:Gottesdienste
GEO:49.9621;8.2738908
X-APPLE-STRUCTURED-LOCATION;VALUE=URI;X-ADDRESS=Gemeindezentrum Lion-Feuchtwanger-Straße Lion-Feuchtwanger Str. 14 Mainz 55129 Deutschland;X-APPLE-RADIUS=500;X-TITLE=Lion-Feuchtwanger Str. 14:geo:8.2738908,49.9621
END:VEVENT
BEGIN:VEVENT
DTSTART;TZID=Europe/Paris:20190916T193000
DTEND;TZID=Europe/Paris:20190916T210000
DTSTAMP:20260425T024927
CREATED:20171218T090742Z
LAST-MODIFIED:20180108T083306Z
UID:10000303-1568662200-1568667600@www.ekg-hechtsheim.de
SUMMARY:Abend in der Stille
DESCRIPTION:Einmal im Monat findet ein Abend in der Stille in der Regel am 3. Montag im Monat im Gemeindezentrum von 19.30 – 21  Uhr (außer in den Schulferien) statt. \nExerzitien im Alltag sind ein Weg\, auf dem wir einüben können\, den Alltag bewusster und aufmerksamer wahrzunehmen und Gott dort zu entdecken\, wo er sich von uns finden lassen möchte: mitten im Leben. \nAus dem Projekt in der Passionszeit 2016 ist der Wunsch entstanden\, regelmäßig\, einmal im Monat\, solche „Exerzitien im Alltag“ miteinander zu teilen und in Gemeinschaft einen solchen Weg zu gehen. \nEinmal im Monat sind alle Interessierten eingeladen zusammen zu kommen: zum Einüben verschiedener Formen von Zeiten der Stille\, Meditation über biblischen Worten und Gebet\, zum Austausch über die Erfahrungen. \nTermine in 2018: 22. Januar\, 19. Februar\,  19. März\, 23. April 21. Mai\, 18. Juni\, im Juli Pause wegen Sommerferien. \nBequeme Kleidung\, möglicherweise eine wärmende Decke oder Wollsocken\, um im Sitzen und Schweigen einen warmen Rücken und warme Füße zu behalten\, bringen Sie bitte dazu von zu Hause mit.
URL:https://www.ekg-hechtsheim.de/veranstaltungen/abend-in-der-stille-mit-den-perlen-des-glaubens-beten-und-ueber-gott-und-die-welt-gemeinsam-nachsinnen-2018-04-16/2019-09-16/
LOCATION:16:00 - \, Deutschland
CATEGORIES:Gottesdienste
END:VEVENT
BEGIN:VEVENT
DTSTART;TZID=Europe/Paris:20190922T100000
DTEND;TZID=Europe/Paris:20190922T110000
DTSTAMP:20260425T024927
CREATED:20190901T123134Z
LAST-MODIFIED:20190901T124313Z
UID:10001264-1569146400-1569150000@www.ekg-hechtsheim.de
SUMMARY:Gottesdienst
DESCRIPTION:Probegottesdienst des Bewerbers um die Pfarrstelle West
URL:https://www.ekg-hechtsheim.de/veranstaltungen/gottesdienst-110/
LOCATION:Gemeindezentrum Lion-Feuchtwanger-Straße\, Lion-Feuchtwanger Str. 14\, Mainz\, 55129\, Deutschland
CATEGORIES:Gottesdienste
GEO:49.9621;8.2738908
X-APPLE-STRUCTURED-LOCATION;VALUE=URI;X-ADDRESS=Gemeindezentrum Lion-Feuchtwanger-Straße Lion-Feuchtwanger Str. 14 Mainz 55129 Deutschland;X-APPLE-RADIUS=500;X-TITLE=Lion-Feuchtwanger Str. 14:geo:8.2738908,49.9621
END:VEVENT
BEGIN:VEVENT
DTSTART;TZID=Europe/Paris:20190922T110000
DTEND;TZID=Europe/Paris:20190922T120000
DTSTAMP:20260425T024927
CREATED:20190901T123343Z
LAST-MODIFIED:20190901T123343Z
UID:10001281-1569150000-1569153600@www.ekg-hechtsheim.de
SUMMARY:Gottesdienst mit Abendmahl
DESCRIPTION:
URL:https://www.ekg-hechtsheim.de/veranstaltungen/gottesdienst-mit-abendmahl-26/
LOCATION:Gemeindehaus Frankenhöhe\, Bodenheimer Straße 58\, Mainz\, 55129\, Deutschland
CATEGORIES:Gottesdienste
GEO:49.9667007;8.2872534
X-APPLE-STRUCTURED-LOCATION;VALUE=URI;X-ADDRESS=Gemeindehaus Frankenhöhe Bodenheimer Straße 58 Mainz 55129 Deutschland;X-APPLE-RADIUS=500;X-TITLE=Bodenheimer Straße 58:geo:8.2872534,49.9667007
END:VEVENT
BEGIN:VEVENT
DTSTART;TZID=Europe/Paris:20190923T170000
DTEND;TZID=Europe/Paris:20190923T190000
DTSTAMP:20260425T024927
CREATED:20190923T133224Z
LAST-MODIFIED:20190923T133319Z
UID:10001312-1569258000-1569265200@www.ekg-hechtsheim.de
SUMMARY:REGELMÄSSIG STATTFINDENDES CAFÉ DER BEGEGNUNG (FLÜCHTLINGSINITIATIVE AIH)
DESCRIPTION:Jeden zweiten und vierten Montag des Monats findet das „Café der Begegnung“ unserer ökumen. Flüchtlingsinitiative „Ankommen in Hechtsheim AIH“ statt. Hier treffen sich Alt- und Neu-Hechtsheimer bei Kaffee und Kuchen\, lernen sich kennen\, suchen und finden Hilfe usw. Für die Kinder ist eine Betreuung organisiert\, so dass auch Zeit und Ruhe für nette Gespräche ist. Schnuppern Sie doch mal rein […]
URL:https://www.ekg-hechtsheim.de/veranstaltungen/regelmaessig-stattfindendes-cafe-der-begegnung-fluechtlingsinitiative-aih-42/
LOCATION:Gemeindezentrum Lion-Feuchtwanger-Straße\, Lion-Feuchtwanger Str. 14\, Mainz\, 55129\, Deutschland
CATEGORIES:Kultur,Sonstiges
ORGANIZER;CN="%C3%96kumenische Fl%C3%BCchtlingsinitiative AIH":MAILTO:ankommen.in.hechtsheim@gmail.com
GEO:49.9621;8.2738908
X-APPLE-STRUCTURED-LOCATION;VALUE=URI;X-ADDRESS=Gemeindezentrum Lion-Feuchtwanger-Straße Lion-Feuchtwanger Str. 14 Mainz 55129 Deutschland;X-APPLE-RADIUS=500;X-TITLE=Lion-Feuchtwanger Str. 14:geo:8.2738908,49.9621
END:VEVENT
BEGIN:VEVENT
DTSTART;TZID=Europe/Paris:20190926T100000
DTEND;TZID=Europe/Paris:20190926T110000
DTSTAMP:20260425T024927
CREATED:20190923T153814Z
LAST-MODIFIED:20190923T153814Z
UID:10001316-1569492000-1569495600@www.ekg-hechtsheim.de
SUMMARY:KiTa-Gottesdienst zum Erntedank
DESCRIPTION:
URL:https://www.ekg-hechtsheim.de/veranstaltungen/kita-gottesdienst-zum-erntedank-2/
LOCATION:Gemeindezentrum Lion-Feuchtwanger-Straße\, Lion-Feuchtwanger Str. 14\, Mainz\, 55129\, Deutschland
CATEGORIES:Gottesdienste
GEO:49.9621;8.2738908
X-APPLE-STRUCTURED-LOCATION;VALUE=URI;X-ADDRESS=Gemeindezentrum Lion-Feuchtwanger-Straße Lion-Feuchtwanger Str. 14 Mainz 55129 Deutschland;X-APPLE-RADIUS=500;X-TITLE=Lion-Feuchtwanger Str. 14:geo:8.2738908,49.9621
END:VEVENT
BEGIN:VEVENT
DTSTART;TZID=Europe/Paris:20190929T100000
DTEND;TZID=Europe/Paris:20190929T110000
DTSTAMP:20260425T024927
CREATED:20190901T124429Z
LAST-MODIFIED:20190901T124429Z
UID:10001283-1569751200-1569754800@www.ekg-hechtsheim.de
SUMMARY:Gottesdienst
DESCRIPTION:
URL:https://www.ekg-hechtsheim.de/veranstaltungen/gottesdienst-111/
LOCATION:Gemeindezentrum Lion-Feuchtwanger-Straße\, Lion-Feuchtwanger Str. 14\, Mainz\, 55129\, Deutschland
CATEGORIES:Gottesdienste
GEO:49.9621;8.2738908
X-APPLE-STRUCTURED-LOCATION;VALUE=URI;X-ADDRESS=Gemeindezentrum Lion-Feuchtwanger-Straße Lion-Feuchtwanger Str. 14 Mainz 55129 Deutschland;X-APPLE-RADIUS=500;X-TITLE=Lion-Feuchtwanger Str. 14:geo:8.2738908,49.9621
END:VEVENT
END:VCALENDAR