BEGIN:VCALENDAR
VERSION:2.0
PRODID:-//Evangelische Kirchengemeinde Mainz-Hechtsheim - ECPv6.15.20//NONSGML v1.0//EN
CALSCALE:GREGORIAN
METHOD:PUBLISH
X-WR-CALNAME:Evangelische Kirchengemeinde Mainz-Hechtsheim
X-ORIGINAL-URL:https://www.ekg-hechtsheim.de
X-WR-CALDESC:Veranstaltungen für Evangelische Kirchengemeinde Mainz-Hechtsheim
REFRESH-INTERVAL;VALUE=DURATION:PT1H
X-Robots-Tag:noindex
X-PUBLISHED-TTL:PT1H
BEGIN:VTIMEZONE
TZID:Europe/Paris
BEGIN:DAYLIGHT
TZOFFSETFROM:+0100
TZOFFSETTO:+0200
TZNAME:CEST
DTSTART:20180325T010000
END:DAYLIGHT
BEGIN:STANDARD
TZOFFSETFROM:+0200
TZOFFSETTO:+0100
TZNAME:CET
DTSTART:20181028T010000
END:STANDARD
BEGIN:DAYLIGHT
TZOFFSETFROM:+0100
TZOFFSETTO:+0200
TZNAME:CEST
DTSTART:20190331T010000
END:DAYLIGHT
BEGIN:STANDARD
TZOFFSETFROM:+0200
TZOFFSETTO:+0100
TZNAME:CET
DTSTART:20191027T010000
END:STANDARD
BEGIN:DAYLIGHT
TZOFFSETFROM:+0100
TZOFFSETTO:+0200
TZNAME:CEST
DTSTART:20200329T010000
END:DAYLIGHT
BEGIN:STANDARD
TZOFFSETFROM:+0200
TZOFFSETTO:+0100
TZNAME:CET
DTSTART:20201025T010000
END:STANDARD
END:VTIMEZONE
BEGIN:VEVENT
DTSTART;TZID=Europe/Paris:20190804T100000
DTEND;TZID=Europe/Paris:20190804T110000
DTSTAMP:20260425T040952
CREATED:20190803T154334Z
LAST-MODIFIED:20190803T154334Z
UID:10000625-1564912800-1564916400@www.ekg-hechtsheim.de
SUMMARY:Gottesdienst
DESCRIPTION:
URL:https://www.ekg-hechtsheim.de/veranstaltungen/gottesdienst-104/
LOCATION:Gemeindezentrum Lion-Feuchtwanger-Straße\, Lion-Feuchtwanger Str. 14\, Mainz\, 55129\, Deutschland
GEO:49.9621;8.2738908
X-APPLE-STRUCTURED-LOCATION;VALUE=URI;X-ADDRESS=Gemeindezentrum Lion-Feuchtwanger-Straße Lion-Feuchtwanger Str. 14 Mainz 55129 Deutschland;X-APPLE-RADIUS=500;X-TITLE=Lion-Feuchtwanger Str. 14:geo:8.2738908,49.9621
END:VEVENT
BEGIN:VEVENT
DTSTART;TZID=Europe/Paris:20190804T110000
DTEND;TZID=Europe/Paris:20190804T120000
DTSTAMP:20260425T040952
CREATED:20190704T155807Z
LAST-MODIFIED:20190704T155945Z
UID:10000624-1564916400-1564920000@www.ekg-hechtsheim.de
SUMMARY:Gottesdienst
DESCRIPTION:
URL:https://www.ekg-hechtsheim.de/veranstaltungen/gottesdienst-103/
LOCATION:Gemeindehaus Frankenhöhe\, Bodenheimer Straße 58\, Mainz\, 55129\, Deutschland
CATEGORIES:Gottesdienste
GEO:49.9667007;8.2872534
X-APPLE-STRUCTURED-LOCATION;VALUE=URI;X-ADDRESS=Gemeindehaus Frankenhöhe Bodenheimer Straße 58 Mainz 55129 Deutschland;X-APPLE-RADIUS=500;X-TITLE=Bodenheimer Straße 58:geo:8.2872534,49.9667007
END:VEVENT
BEGIN:VEVENT
DTSTART;TZID=Europe/Paris:20190811T100000
DTEND;TZID=Europe/Paris:20190811T110000
DTSTAMP:20260425T040952
CREATED:20190806T155631Z
LAST-MODIFIED:20190806T155631Z
UID:10001271-1565517600-1565521200@www.ekg-hechtsheim.de
SUMMARY:Gottesdienst mit Abendmahl
DESCRIPTION:
URL:https://www.ekg-hechtsheim.de/veranstaltungen/gottesdienst-mit-abendmahl-25/
LOCATION:16:00 - \, Deutschland
CATEGORIES:Gottesdienste
END:VEVENT
BEGIN:VEVENT
DTSTART;TZID=Europe/Paris:20190811T110000
DTEND;TZID=Europe/Paris:20190811T120000
DTSTAMP:20260425T040952
CREATED:20190806T155825Z
LAST-MODIFIED:20190806T155825Z
UID:10001272-1565521200-1565524800@www.ekg-hechtsheim.de
SUMMARY:Gottesdienst mit Kinderkirche
DESCRIPTION:
URL:https://www.ekg-hechtsheim.de/veranstaltungen/gottesdienst-mit-kinderkirche/
LOCATION:Gemeindehaus Frankenhöhe\, Bodenheimer Straße 58\, Mainz\, 55129\, Deutschland
CATEGORIES:Gottesdienste
GEO:49.9667007;8.2872534
X-APPLE-STRUCTURED-LOCATION;VALUE=URI;X-ADDRESS=Gemeindehaus Frankenhöhe Bodenheimer Straße 58 Mainz 55129 Deutschland;X-APPLE-RADIUS=500;X-TITLE=Bodenheimer Straße 58:geo:8.2872534,49.9667007
END:VEVENT
BEGIN:VEVENT
DTSTART;TZID=Europe/Paris:20190811T153000
DTEND;TZID=Europe/Paris:20190811T163000
DTSTAMP:20260425T040952
CREATED:20190806T160018Z
LAST-MODIFIED:20190806T160018Z
UID:10001273-1565537400-1565541000@www.ekg-hechtsheim.de
SUMMARY:Gottesdienst
DESCRIPTION:
URL:https://www.ekg-hechtsheim.de/veranstaltungen/gottesdienst-105/
LOCATION:Gemeindehaus Frankenhöhe\, Bodenheimer Straße 58\, Mainz\, 55129\, Deutschland
CATEGORIES:Gottesdienste
GEO:49.9667007;8.2872534
X-APPLE-STRUCTURED-LOCATION;VALUE=URI;X-ADDRESS=Gemeindehaus Frankenhöhe Bodenheimer Straße 58 Mainz 55129 Deutschland;X-APPLE-RADIUS=500;X-TITLE=Bodenheimer Straße 58:geo:8.2872534,49.9667007
END:VEVENT
BEGIN:VEVENT
DTSTART;TZID=Europe/Paris:20190812T090000
DTEND;TZID=Europe/Paris:20190812T100000
DTSTAMP:20260425T040952
CREATED:20190806T160228Z
LAST-MODIFIED:20190806T160228Z
UID:10001274-1565600400-1565604000@www.ekg-hechtsheim.de
SUMMARY:Ökum. Begrüßungsgottesdienst der IGS 5-Klässer
DESCRIPTION:
URL:https://www.ekg-hechtsheim.de/veranstaltungen/oekum-begruessungsgottesdienst-der-igs-5-klaesser/
LOCATION:16:00 - \, Deutschland
CATEGORIES:Gottesdienste
END:VEVENT
BEGIN:VEVENT
DTSTART;TZID=Europe/Paris:20190813T090000
DTEND;TZID=Europe/Paris:20190813T100000
DTSTAMP:20260425T040952
CREATED:20190806T160357Z
LAST-MODIFIED:20190806T160357Z
UID:10001275-1565686800-1565690400@www.ekg-hechtsheim.de
SUMMARY:Ökum. Einschulungsgottesdienst 1-Klässer
DESCRIPTION:
URL:https://www.ekg-hechtsheim.de/veranstaltungen/oekum-einschulungsgottesdienst-1-klaesser/
LOCATION:16:00 - \, Deutschland
CATEGORIES:Gottesdienste
END:VEVENT
BEGIN:VEVENT
DTSTART;TZID=Europe/Paris:20190818T100000
DTEND;TZID=Europe/Paris:20190818T110000
DTSTAMP:20260425T040952
CREATED:20190806T160508Z
LAST-MODIFIED:20190806T160508Z
UID:10001276-1566122400-1566126000@www.ekg-hechtsheim.de
SUMMARY:Gottesdienst
DESCRIPTION:
URL:https://www.ekg-hechtsheim.de/veranstaltungen/gottesdienst-106/
LOCATION:16:00 - \, Deutschland
CATEGORIES:Gottesdienste
END:VEVENT
BEGIN:VEVENT
DTSTART;TZID=Europe/Paris:20190818T170000
DTEND;TZID=Europe/Paris:20190818T180000
DTSTAMP:20260425T040953
CREATED:20190806T160652Z
LAST-MODIFIED:20190806T160714Z
UID:10001277-1566147600-1566151200@www.ekg-hechtsheim.de
SUMMARY:Ökum. Hewwelgottesdienst
DESCRIPTION:
URL:https://www.ekg-hechtsheim.de/veranstaltungen/oekum-hewwelgottesdienst/
LOCATION:Auf dem Hewwel\, Deutschland
CATEGORIES:Gottesdienste
GEO:51.165691;10.451526
END:VEVENT
BEGIN:VEVENT
DTSTART;TZID=Europe/Paris:20190819T193000
DTEND;TZID=Europe/Paris:20190819T210000
DTSTAMP:20260425T040953
CREATED:20171218T090742Z
LAST-MODIFIED:20180108T083306Z
UID:10000302-1566243000-1566248400@www.ekg-hechtsheim.de
SUMMARY:Abend in der Stille
DESCRIPTION:Einmal im Monat findet ein Abend in der Stille in der Regel am 3. Montag im Monat im Gemeindezentrum von 19.30 – 21  Uhr (außer in den Schulferien) statt. \nExerzitien im Alltag sind ein Weg\, auf dem wir einüben können\, den Alltag bewusster und aufmerksamer wahrzunehmen und Gott dort zu entdecken\, wo er sich von uns finden lassen möchte: mitten im Leben. \nAus dem Projekt in der Passionszeit 2016 ist der Wunsch entstanden\, regelmäßig\, einmal im Monat\, solche „Exerzitien im Alltag“ miteinander zu teilen und in Gemeinschaft einen solchen Weg zu gehen. \nEinmal im Monat sind alle Interessierten eingeladen zusammen zu kommen: zum Einüben verschiedener Formen von Zeiten der Stille\, Meditation über biblischen Worten und Gebet\, zum Austausch über die Erfahrungen. \nTermine in 2018: 22. Januar\, 19. Februar\,  19. März\, 23. April 21. Mai\, 18. Juni\, im Juli Pause wegen Sommerferien. \nBequeme Kleidung\, möglicherweise eine wärmende Decke oder Wollsocken\, um im Sitzen und Schweigen einen warmen Rücken und warme Füße zu behalten\, bringen Sie bitte dazu von zu Hause mit.
URL:https://www.ekg-hechtsheim.de/veranstaltungen/abend-in-der-stille-mit-den-perlen-des-glaubens-beten-und-ueber-gott-und-die-welt-gemeinsam-nachsinnen-2018-04-16/2019-08-19/
LOCATION:16:00 - \, Deutschland
CATEGORIES:Gottesdienste
END:VEVENT
BEGIN:VEVENT
DTSTART;TZID=Europe/Paris:20190821T200000
DTEND;TZID=Europe/Paris:20190821T220000
DTSTAMP:20260425T040953
CREATED:20190717T202056Z
LAST-MODIFIED:20190717T202056Z
UID:10000631-1566417600-1566424800@www.ekg-hechtsheim.de
SUMMARY:Jahreshauptversammlung des Fördervereins der ev. Kindertagesstätte
DESCRIPTION:
URL:https://www.ekg-hechtsheim.de/veranstaltungen/jahreshauptversammlung-des-foerdervereins-der-ev-kindertagesstaette/
LOCATION:Sitzungsraum Mitarbeiterhaus
CATEGORIES:Sonstiges
END:VEVENT
BEGIN:VEVENT
DTSTART;TZID=Europe/Paris:20190825T180000
DTEND;TZID=Europe/Paris:20190825T190000
DTSTAMP:20260425T040953
CREATED:20190803T155017Z
LAST-MODIFIED:20190803T155017Z
UID:10000634-1566756000-1566759600@www.ekg-hechtsheim.de
SUMMARY:Gottesdienst zur Verabschiedung von Pfarrerin Elke Stein mit anschließendem Empfang
DESCRIPTION:
URL:https://www.ekg-hechtsheim.de/veranstaltungen/gottesdienst-zur-verabschiedung-von-pfarrerin-elke-stein-mit-anschliessendem-empfang/
LOCATION:Gemeindezentrum Lion-Feuchtwanger-Straße\, Lion-Feuchtwanger Str. 14\, Mainz\, 55129\, Deutschland
GEO:49.9621;8.2738908
X-APPLE-STRUCTURED-LOCATION;VALUE=URI;X-ADDRESS=Gemeindezentrum Lion-Feuchtwanger-Straße Lion-Feuchtwanger Str. 14 Mainz 55129 Deutschland;X-APPLE-RADIUS=500;X-TITLE=Lion-Feuchtwanger Str. 14:geo:8.2738908,49.9621
END:VEVENT
END:VCALENDAR