BEGIN:VCALENDAR
VERSION:2.0
PRODID:-//Evangelische Kirchengemeinde Mainz-Hechtsheim - ECPv6.15.20//NONSGML v1.0//EN
CALSCALE:GREGORIAN
METHOD:PUBLISH
X-ORIGINAL-URL:https://www.ekg-hechtsheim.de
X-WR-CALDESC:Veranstaltungen für Evangelische Kirchengemeinde Mainz-Hechtsheim
REFRESH-INTERVAL;VALUE=DURATION:PT1H
X-Robots-Tag:noindex
X-PUBLISHED-TTL:PT1H
BEGIN:VTIMEZONE
TZID:Europe/Paris
BEGIN:DAYLIGHT
TZOFFSETFROM:+0100
TZOFFSETTO:+0200
TZNAME:CEST
DTSTART:20180325T010000
END:DAYLIGHT
BEGIN:STANDARD
TZOFFSETFROM:+0200
TZOFFSETTO:+0100
TZNAME:CET
DTSTART:20181028T010000
END:STANDARD
BEGIN:DAYLIGHT
TZOFFSETFROM:+0100
TZOFFSETTO:+0200
TZNAME:CEST
DTSTART:20190331T010000
END:DAYLIGHT
BEGIN:STANDARD
TZOFFSETFROM:+0200
TZOFFSETTO:+0100
TZNAME:CET
DTSTART:20191027T010000
END:STANDARD
BEGIN:DAYLIGHT
TZOFFSETFROM:+0100
TZOFFSETTO:+0200
TZNAME:CEST
DTSTART:20200329T010000
END:DAYLIGHT
BEGIN:STANDARD
TZOFFSETFROM:+0200
TZOFFSETTO:+0100
TZNAME:CET
DTSTART:20201025T010000
END:STANDARD
END:VTIMEZONE
BEGIN:VEVENT
DTSTART;TZID=Europe/Paris:20190203T100000
DTEND;TZID=Europe/Paris:20190203T100000
DTSTAMP:20260425T133959
CREATED:20181212T090403Z
LAST-MODIFIED:20181212T090403Z
UID:10001202-1549188000-1549188000@www.ekg-hechtsheim.de
SUMMARY:Gottesdienst
DESCRIPTION:
URL:https://www.ekg-hechtsheim.de/veranstaltungen/gottesdienst-87/
LOCATION:16:00 - \, Deutschland
CATEGORIES:Gottesdienste
END:VEVENT
BEGIN:VEVENT
DTSTART;TZID=Europe/Paris:20190203T110000
DTEND;TZID=Europe/Paris:20190203T110000
DTSTAMP:20260425T133959
CREATED:20181212T090504Z
LAST-MODIFIED:20181212T090525Z
UID:10001203-1549191600-1549191600@www.ekg-hechtsheim.de
SUMMARY:Gottesdienst
DESCRIPTION:
URL:https://www.ekg-hechtsheim.de/veranstaltungen/gottesdienst-88/
LOCATION:Gemeindehaus Frankenhöhe\, Bodenheimer Straße 58\, Mainz\, 55129\, Deutschland
CATEGORIES:Gottesdienste
GEO:49.9667007;8.2872534
X-APPLE-STRUCTURED-LOCATION;VALUE=URI;X-ADDRESS=Gemeindehaus Frankenhöhe Bodenheimer Straße 58 Mainz 55129 Deutschland;X-APPLE-RADIUS=500;X-TITLE=Bodenheimer Straße 58:geo:8.2872534,49.9667007
END:VEVENT
BEGIN:VEVENT
DTSTART;TZID=Europe/Paris:20190207T160000
DTEND;TZID=Europe/Paris:20190207T160000
DTSTAMP:20260425T133959
CREATED:20181218T171120Z
LAST-MODIFIED:20181218T171120Z
UID:10000578-1549555200-1549555200@www.ekg-hechtsheim.de
SUMMARY:Werktagsgottesdienst mit Abendmahl
DESCRIPTION:
URL:https://www.ekg-hechtsheim.de/veranstaltungen/werktagsgottesdienst-mit-abendmahl-46/
LOCATION:16:00 - \, Deutschland
CATEGORIES:Gottesdienste
END:VEVENT
BEGIN:VEVENT
DTSTART;TZID=Europe/Paris:20190207T193000
DTEND;TZID=Europe/Paris:20190207T193000
DTSTAMP:20260425T133959
CREATED:20181114T112654Z
LAST-MODIFIED:20181114T112654Z
UID:10000565-1549567800-1549567800@www.ekg-hechtsheim.de
SUMMARY:Jugendhearing - Hechtsheimer Jugendliche kommen zu Wort! Wir laden ehemalige Konfirmanden im Alter von 16 bis 20 Jahren ein\, mit einer Gruppe des Kirchenvorstands ins Gespräch zu kommen.
DESCRIPTION:
URL:https://www.ekg-hechtsheim.de/veranstaltungen/jugendhearing-hechtsheimer-jugendliche-kommen-zu-wort-wir-laden-ehemalige-konfirmanden-im-alter-von-16-bis-20-jahren-ein-mit-einer-gruppe-des-kirchenvorstands-ins-gespraech-zu-kommen/
LOCATION:16:00 - \, Deutschland
CATEGORIES:Gemeinde
END:VEVENT
BEGIN:VEVENT
DTSTART;TZID=Europe/Paris:20190209T150000
DTEND;TZID=Europe/Paris:20190209T150000
DTSTAMP:20260425T133959
CREATED:20181211T123106Z
LAST-MODIFIED:20181211T123106Z
UID:10001195-1549724400-1549724400@www.ekg-hechtsheim.de
SUMMARY:Senioren-Fastnacht
DESCRIPTION:
URL:https://www.ekg-hechtsheim.de/veranstaltungen/senioren-fastnacht/
LOCATION:Gemeindezentrum Lion-Feuchtwanger-Straße\, Lion-Feuchtwanger Str. 14\, Mainz\, 55129\, Deutschland
CATEGORIES:Gemeinde
GEO:49.9621;8.2738908
X-APPLE-STRUCTURED-LOCATION;VALUE=URI;X-ADDRESS=Gemeindezentrum Lion-Feuchtwanger-Straße Lion-Feuchtwanger Str. 14 Mainz 55129 Deutschland;X-APPLE-RADIUS=500;X-TITLE=Lion-Feuchtwanger Str. 14:geo:8.2738908,49.9621
END:VEVENT
BEGIN:VEVENT
DTSTART;TZID=Europe/Paris:20190210T100000
DTEND;TZID=Europe/Paris:20190210T100000
DTSTAMP:20260425T133959
CREATED:20181218T171454Z
LAST-MODIFIED:20181218T171454Z
UID:10000580-1549792800-1549792800@www.ekg-hechtsheim.de
SUMMARY:Gottesdienst mit Abendmahl
DESCRIPTION:
URL:https://www.ekg-hechtsheim.de/veranstaltungen/gottesdienst-mit-abendmahl-22/
LOCATION:16:00 - \, Deutschland
CATEGORIES:Gottesdienste
END:VEVENT
BEGIN:VEVENT
DTSTART;TZID=Europe/Paris:20190210T110000
DTEND;TZID=Europe/Paris:20190210T110000
DTSTAMP:20260425T133959
CREATED:20181212T105656Z
LAST-MODIFIED:20181212T105656Z
UID:10001205-1549796400-1549796400@www.ekg-hechtsheim.de
SUMMARY:Kinderkirche
DESCRIPTION:
URL:https://www.ekg-hechtsheim.de/veranstaltungen/kinderkirche-11/
LOCATION:Gemeindehaus Frankenhöhe\, Bodenheimer Straße 58\, Mainz\, 55129\, Deutschland
CATEGORIES:Gottesdienste
GEO:49.9667007;8.2872534
X-APPLE-STRUCTURED-LOCATION;VALUE=URI;X-ADDRESS=Gemeindehaus Frankenhöhe Bodenheimer Straße 58 Mainz 55129 Deutschland;X-APPLE-RADIUS=500;X-TITLE=Bodenheimer Straße 58:geo:8.2872534,49.9667007
END:VEVENT
BEGIN:VEVENT
DTSTART;TZID=Europe/Paris:20190211T170000
DTEND;TZID=Europe/Paris:20190211T190000
DTSTAMP:20260425T133959
CREATED:20190207T101830Z
LAST-MODIFIED:20190207T101830Z
UID:10001210-1549904400-1549911600@www.ekg-hechtsheim.de
SUMMARY:Regelmäßig stattfindendes Café der Begegnung (Flüchtlingsinitiative AIH)
DESCRIPTION:Jeden zweiten und vierten Montag des Monats findet das „Café der Begegnung“ unserer ökumen. Flüchtlingsinitiative „Ankommen in Hechtsheim AIH“ statt.\nHier treffen sich Alt- und Neu-Hechtsheimer bei Kaffee und Kuchen\, lernen sich kennen\, suchen und finden Hilfe usw. \nFür die Kinder ist eine Betreuung organisiert\, so dass auch Zeit und Ruhe für nette Gespräche ist. \nSchnuppern Sie doch mal rein\, wir freuen uns auf Sie ….
URL:https://www.ekg-hechtsheim.de/veranstaltungen/regelmaessig-stattfindendes-cafe-der-begegnung-fluechtlingsinitiative-aih-39/
LOCATION:Gemeindezentrum Lion-Feuchtwanger-Straße\, Lion-Feuchtwanger Str. 14\, Mainz\, 55129\, Deutschland
CATEGORIES:Kultur,Sonstiges
ORGANIZER;CN="%C3%96kumenische Fl%C3%BCchtlingsinitiative AIH":MAILTO:ankommen.in.hechtsheim@gmail.com
GEO:49.9621;8.2738908
X-APPLE-STRUCTURED-LOCATION;VALUE=URI;X-ADDRESS=Gemeindezentrum Lion-Feuchtwanger-Straße Lion-Feuchtwanger Str. 14 Mainz 55129 Deutschland;X-APPLE-RADIUS=500;X-TITLE=Lion-Feuchtwanger Str. 14:geo:8.2738908,49.9621
END:VEVENT
BEGIN:VEVENT
DTSTART;TZID=Europe/Paris:20190217T100000
DTEND;TZID=Europe/Paris:20190217T100000
DTSTAMP:20260425T133959
CREATED:20181218T171637Z
LAST-MODIFIED:20181218T171637Z
UID:10000581-1550397600-1550397600@www.ekg-hechtsheim.de
SUMMARY:Gottesdienst
DESCRIPTION:
URL:https://www.ekg-hechtsheim.de/veranstaltungen/gottesdienst-89/
LOCATION:16:00 - \, Deutschland
CATEGORIES:Gottesdienste
END:VEVENT
BEGIN:VEVENT
DTSTART;TZID=Europe/Paris:20190217T110000
DTEND;TZID=Europe/Paris:20190217T110000
DTSTAMP:20260425T133959
CREATED:20181212T105915Z
LAST-MODIFIED:20181218T170824Z
UID:10001206-1550401200-1550401200@www.ekg-hechtsheim.de
SUMMARY:Gottesdienst mit Abendmahl
DESCRIPTION:
URL:https://www.ekg-hechtsheim.de/veranstaltungen/gottesdienst-mit-abndmahl/
LOCATION:Gemeindehaus Frankenhöhe\, Bodenheimer Straße 58\, Mainz\, 55129\, Deutschland
CATEGORIES:Gottesdienste
GEO:49.9667007;8.2872534
X-APPLE-STRUCTURED-LOCATION;VALUE=URI;X-ADDRESS=Gemeindehaus Frankenhöhe Bodenheimer Straße 58 Mainz 55129 Deutschland;X-APPLE-RADIUS=500;X-TITLE=Bodenheimer Straße 58:geo:8.2872534,49.9667007
END:VEVENT
BEGIN:VEVENT
DTSTART;TZID=Europe/Paris:20190218T193000
DTEND;TZID=Europe/Paris:20190218T210000
DTSTAMP:20260425T133959
CREATED:20171218T090742Z
LAST-MODIFIED:20180108T083306Z
UID:10000296-1550518200-1550523600@www.ekg-hechtsheim.de
SUMMARY:Abend in der Stille
DESCRIPTION:Einmal im Monat findet ein Abend in der Stille in der Regel am 3. Montag im Monat im Gemeindezentrum von 19.30 – 21  Uhr (außer in den Schulferien) statt. \nExerzitien im Alltag sind ein Weg\, auf dem wir einüben können\, den Alltag bewusster und aufmerksamer wahrzunehmen und Gott dort zu entdecken\, wo er sich von uns finden lassen möchte: mitten im Leben. \nAus dem Projekt in der Passionszeit 2016 ist der Wunsch entstanden\, regelmäßig\, einmal im Monat\, solche „Exerzitien im Alltag“ miteinander zu teilen und in Gemeinschaft einen solchen Weg zu gehen. \nEinmal im Monat sind alle Interessierten eingeladen zusammen zu kommen: zum Einüben verschiedener Formen von Zeiten der Stille\, Meditation über biblischen Worten und Gebet\, zum Austausch über die Erfahrungen. \nTermine in 2018: 22. Januar\, 19. Februar\,  19. März\, 23. April 21. Mai\, 18. Juni\, im Juli Pause wegen Sommerferien. \nBequeme Kleidung\, möglicherweise eine wärmende Decke oder Wollsocken\, um im Sitzen und Schweigen einen warmen Rücken und warme Füße zu behalten\, bringen Sie bitte dazu von zu Hause mit.
URL:https://www.ekg-hechtsheim.de/veranstaltungen/abend-in-der-stille-mit-den-perlen-des-glaubens-beten-und-ueber-gott-und-die-welt-gemeinsam-nachsinnen-2018-04-16/2019-02-18/
LOCATION:16:00 - \, Deutschland
CATEGORIES:Gottesdienste
END:VEVENT
BEGIN:VEVENT
DTSTART;TZID=Europe/Paris:20190222T191100
DTEND;TZID=Europe/Paris:20190222T191100
DTSTAMP:20260425T133959
CREATED:20181114T113022Z
LAST-MODIFIED:20181212T084959Z
UID:10000569-1550862660-1550862660@www.ekg-hechtsheim.de
SUMMARY:Gemeindefastnacht Kampagne 2019 - Das Narrenschiff legt ab\, Ahoi. An Bord gibt´s Spaß\, Weck\, Worscht und Woi. - Einlass 18.30 Uhr - Beginn 19.11 Uhr - Eintritt frei
DESCRIPTION:
URL:https://www.ekg-hechtsheim.de/veranstaltungen/gemeindefastnacht-2/
LOCATION:Gemeindezentrum Lion-Feuchtwanger-Straße\, Lion-Feuchtwanger Str. 14\, Mainz\, 55129\, Deutschland
CATEGORIES:Gemeinde
GEO:49.9621;8.2738908
X-APPLE-STRUCTURED-LOCATION;VALUE=URI;X-ADDRESS=Gemeindezentrum Lion-Feuchtwanger-Straße Lion-Feuchtwanger Str. 14 Mainz 55129 Deutschland;X-APPLE-RADIUS=500;X-TITLE=Lion-Feuchtwanger Str. 14:geo:8.2738908,49.9621
END:VEVENT
BEGIN:VEVENT
DTSTART;TZID=Europe/Paris:20190224T100000
DTEND;TZID=Europe/Paris:20190224T100000
DTSTAMP:20260425T133959
CREATED:20181218T171829Z
LAST-MODIFIED:20181218T171840Z
UID:10000584-1551002400-1551002400@www.ekg-hechtsheim.de
SUMMARY:Gottesdienst
DESCRIPTION:
URL:https://www.ekg-hechtsheim.de/veranstaltungen/gottesdienst-90/
LOCATION:16:00 - \, Deutschland
CATEGORIES:Gottesdienste
END:VEVENT
BEGIN:VEVENT
DTSTART;TZID=Europe/Paris:20190224T180000
DTEND;TZID=Europe/Paris:20190224T180000
DTSTAMP:20260425T133959
CREATED:20181212T110150Z
LAST-MODIFIED:20181212T110150Z
UID:10000576-1551031200-1551031200@www.ekg-hechtsheim.de
SUMMARY:Literaturgottesdienst zum Thema: Ernst Jandl
DESCRIPTION:
URL:https://www.ekg-hechtsheim.de/veranstaltungen/literaturgottesdienst-zum-thema-ernst-jandl/
LOCATION:Gemeindehaus Frankenhöhe\, Bodenheimer Straße 58\, Mainz\, 55129\, Deutschland
CATEGORIES:Gottesdienste
GEO:49.9667007;8.2872534
X-APPLE-STRUCTURED-LOCATION;VALUE=URI;X-ADDRESS=Gemeindehaus Frankenhöhe Bodenheimer Straße 58 Mainz 55129 Deutschland;X-APPLE-RADIUS=500;X-TITLE=Bodenheimer Straße 58:geo:8.2872534,49.9667007
END:VEVENT
BEGIN:VEVENT
DTSTART;TZID=Europe/Paris:20190225T170000
DTEND;TZID=Europe/Paris:20190225T190000
DTSTAMP:20260425T133959
CREATED:20190207T102036Z
LAST-MODIFIED:20190207T102036Z
UID:10001211-1551114000-1551121200@www.ekg-hechtsheim.de
SUMMARY:Regelmäßig stattfindendes Café der Begegnung (Flüchtlingsinitiative AIH)
DESCRIPTION:Jeden zweiten und vierten Montag des Monats findet das „Café der Begegnung“ unserer ökumen. Flüchtlingsinitiative „Ankommen in Hechtsheim AIH“ statt.\nHier treffen sich Alt- und Neu-Hechtsheimer bei Kaffee und Kuchen\, lernen sich kennen\, suchen und finden Hilfe usw. \nFür die Kinder ist eine Betreuung organisiert\, so dass auch Zeit und Ruhe für nette Gespräche ist. \nSchnuppern Sie doch mal rein\, wir freuen uns auf Sie ….
URL:https://www.ekg-hechtsheim.de/veranstaltungen/regelmaessig-stattfindendes-cafe-der-begegnung-fluechtlingsinitiative-aih-40/
LOCATION:Gemeindezentrum Lion-Feuchtwanger-Straße\, Lion-Feuchtwanger Str. 14\, Mainz\, 55129\, Deutschland
CATEGORIES:Kultur,Sonstiges
GEO:49.9621;8.2738908
X-APPLE-STRUCTURED-LOCATION;VALUE=URI;X-ADDRESS=Gemeindezentrum Lion-Feuchtwanger-Straße Lion-Feuchtwanger Str. 14 Mainz 55129 Deutschland;X-APPLE-RADIUS=500;X-TITLE=Lion-Feuchtwanger Str. 14:geo:8.2738908,49.9621
END:VEVENT
BEGIN:VEVENT
DTSTART;TZID=Europe/Paris:20190227T180000
DTEND;TZID=Europe/Paris:20190227T180000
DTSTAMP:20260425T133959
CREATED:20181212T090917Z
LAST-MODIFIED:20181212T091029Z
UID:10001179-1551290400-1551290400@www.ekg-hechtsheim.de
SUMMARY:Lust auf Singen?! - Singen von weltlichen und geistlichen Liedern mit Gesine von Uslar und Bernd Klotz
DESCRIPTION:
URL:https://www.ekg-hechtsheim.de/veranstaltungen/lust-auf-singen-singen-von-weltlichen-und-geistlichen-liedern-mit-gesine-von-uslar-und-bernd-klotz/2019-02-27/
LOCATION:16:00 - \, Deutschland
CATEGORIES:Gemeinde
END:VEVENT
END:VCALENDAR