BEGIN:VCALENDAR
VERSION:2.0
PRODID:-//Evangelische Kirchengemeinde Mainz-Hechtsheim - ECPv6.15.20//NONSGML v1.0//EN
CALSCALE:GREGORIAN
METHOD:PUBLISH
X-ORIGINAL-URL:https://www.ekg-hechtsheim.de
X-WR-CALDESC:Veranstaltungen für Evangelische Kirchengemeinde Mainz-Hechtsheim
REFRESH-INTERVAL;VALUE=DURATION:PT1H
X-Robots-Tag:noindex
X-PUBLISHED-TTL:PT1H
BEGIN:VTIMEZONE
TZID:Europe/Paris
BEGIN:DAYLIGHT
TZOFFSETFROM:+0100
TZOFFSETTO:+0200
TZNAME:CEST
DTSTART:20180325T010000
END:DAYLIGHT
BEGIN:STANDARD
TZOFFSETFROM:+0200
TZOFFSETTO:+0100
TZNAME:CET
DTSTART:20181028T010000
END:STANDARD
BEGIN:DAYLIGHT
TZOFFSETFROM:+0100
TZOFFSETTO:+0200
TZNAME:CEST
DTSTART:20190331T010000
END:DAYLIGHT
BEGIN:STANDARD
TZOFFSETFROM:+0200
TZOFFSETTO:+0100
TZNAME:CET
DTSTART:20191027T010000
END:STANDARD
BEGIN:DAYLIGHT
TZOFFSETFROM:+0100
TZOFFSETTO:+0200
TZNAME:CEST
DTSTART:20200329T010000
END:DAYLIGHT
BEGIN:STANDARD
TZOFFSETFROM:+0200
TZOFFSETTO:+0100
TZNAME:CET
DTSTART:20201025T010000
END:STANDARD
END:VTIMEZONE
BEGIN:VEVENT
DTSTART;TZID=Europe/Paris:20190101T170000
DTEND;TZID=Europe/Paris:20190101T170000
DTSTAMP:20260425T150140
CREATED:20181114T100708Z
LAST-MODIFIED:20181212T084656Z
UID:10001170-1546362000-1546362000@www.ekg-hechtsheim.de
SUMMARY:Gottesdienst an Neujahr zur Jahreslosung 2019
DESCRIPTION:
URL:https://www.ekg-hechtsheim.de/veranstaltungen/neujahrsandacht-zur-jahreslosung-2019/
LOCATION:16:00 - \, Deutschland
CATEGORIES:Gottesdienste
END:VEVENT
BEGIN:VEVENT
DTSTART;VALUE=DATE:20190106
DTEND;VALUE=DATE:20190107
DTSTAMP:20260425T150140
CREATED:20181114T101802Z
LAST-MODIFIED:20181114T102146Z
UID:10001184-1546732800-1546819199@www.ekg-hechtsheim.de
SUMMARY:Die Gottesdienste um 10.00 Uhr im GZ und um 11.00 Uhr im GH entfallen an diesem Tag!
DESCRIPTION:
URL:https://www.ekg-hechtsheim.de/veranstaltungen/die-gottesdienste-um-10-00-uhr-im-gz-und-um-11-00-uhr-im-gh-entfallen-an-diesem-tag/
CATEGORIES:Gemeinde
END:VEVENT
BEGIN:VEVENT
DTSTART;TZID=Europe/Paris:20190106T180000
DTEND;TZID=Europe/Paris:20190106T180000
DTSTAMP:20260425T150140
CREATED:20181114T101546Z
LAST-MODIFIED:20181114T101546Z
UID:10001177-1546797600-1546797600@www.ekg-hechtsheim.de
SUMMARY:Ökumenischer Neujahrsgottesdienst im Gemeindezentrum - Im Anschluss Ökumenischer Neujahrsempfang
DESCRIPTION:
URL:https://www.ekg-hechtsheim.de/veranstaltungen/oekumenischer-neujahrsgottesdienst-im-gemeindezentrum-im-anschluss-oekumenischer-neujahrsempfang/
LOCATION:16:00 - \, Deutschland
CATEGORIES:Gottesdienste
END:VEVENT
BEGIN:VEVENT
DTSTART;TZID=Europe/Paris:20190110T160000
DTEND;TZID=Europe/Paris:20190110T160000
DTSTAMP:20260425T150140
CREATED:20181114T110210Z
LAST-MODIFIED:20181114T110210Z
UID:10001188-1547136000-1547136000@www.ekg-hechtsheim.de
SUMMARY:Werktagsgottesdienst mit Abendmahl
DESCRIPTION:
URL:https://www.ekg-hechtsheim.de/veranstaltungen/werktagsgottesdienst-mit-abendmahl-44/
LOCATION:16:00 - \, Deutschland
CATEGORIES:Gottesdienste
END:VEVENT
BEGIN:VEVENT
DTSTART;TZID=Europe/Paris:20190112T150000
DTEND;TZID=Europe/Paris:20190112T150000
DTSTAMP:20260425T150140
CREATED:20181212T085255Z
LAST-MODIFIED:20181212T085255Z
UID:10001196-1547305200-1547305200@www.ekg-hechtsheim.de
SUMMARY:Seniorenclub zur Jahreslosung 2019
DESCRIPTION:
URL:https://www.ekg-hechtsheim.de/veranstaltungen/seniorenclub-zur-jahreslosung-2019/
LOCATION:16:00 - \, Deutschland
CATEGORIES:Gemeinde
END:VEVENT
BEGIN:VEVENT
DTSTART;TZID=Europe/Paris:20190113T100000
DTEND;TZID=Europe/Paris:20190113T100000
DTSTAMP:20260425T150140
CREATED:20181114T110709Z
LAST-MODIFIED:20181114T110709Z
UID:10000558-1547373600-1547373600@www.ekg-hechtsheim.de
SUMMARY:Gottesdienst
DESCRIPTION:
URL:https://www.ekg-hechtsheim.de/veranstaltungen/gottesdienst-86/
LOCATION:16:00 - \, Deutschland
CATEGORIES:Gottesdienste
END:VEVENT
BEGIN:VEVENT
DTSTART;TZID=Europe/Paris:20190113T110000
DTEND;TZID=Europe/Paris:20190113T110000
DTSTAMP:20260425T150140
CREATED:20181114T110743Z
LAST-MODIFIED:20181114T110743Z
UID:10000560-1547377200-1547377200@www.ekg-hechtsheim.de
SUMMARY:Kinderkirche
DESCRIPTION:
URL:https://www.ekg-hechtsheim.de/veranstaltungen/kinderkirche-10/
LOCATION:Gemeindehaus Frankenhöhe\, Bodenheimer Straße 58\, Mainz\, 55129\, Deutschland
CATEGORIES:Gottesdienste
GEO:49.9667007;8.2872534
X-APPLE-STRUCTURED-LOCATION;VALUE=URI;X-ADDRESS=Gemeindehaus Frankenhöhe Bodenheimer Straße 58 Mainz 55129 Deutschland;X-APPLE-RADIUS=500;X-TITLE=Bodenheimer Straße 58:geo:8.2872534,49.9667007
END:VEVENT
BEGIN:VEVENT
DTSTART;TZID=Europe/Paris:20190114T170000
DTEND;TZID=Europe/Paris:20190114T190000
DTSTAMP:20260425T150140
CREATED:20181221T122853Z
LAST-MODIFIED:20181221T122853Z
UID:10000591-1547485200-1547492400@www.ekg-hechtsheim.de
SUMMARY:Regelmäßig stattfindendes Cafè der Begegnung (Flüchtlingsinitiative AIH)
DESCRIPTION:Jeden zweiten und vierten Montag des Monats findet das „Café der Begegnung“ unserer ökumen. Flüchtlingsinitiative „Ankommen in Hechtsheim AIH“ statt.\nHier treffen sich Alt- und Neu-Hechtsheimer bei Kaffee und Kuchen\, lernen sich kennen\, suchen und finden Hilfe usw. \nFür die Kinder ist eine Betreuung organisiert\, so dass auch Zeit und Ruhe für nette Gespräche ist. \nSchnuppern Sie doch mal rein\, wir freuen uns auf Sie ….
URL:https://www.ekg-hechtsheim.de/veranstaltungen/regelmaessig-stattfindendes-cafe-der-begegnung-fluechtlingsinitiative-aih-37/
LOCATION:Gemeindezentrum Lion-Feuchtwanger-Straße\, Lion-Feuchtwanger Str. 14\, Mainz\, 55129\, Deutschland
CATEGORIES:Kultur,Sonstiges
ORGANIZER;CN="%C3%96kumenische Fl%C3%BCchtlingsinitiative AIH":MAILTO:ankommen.in.hechtsheim@gmail.com
GEO:49.9621;8.2738908
X-APPLE-STRUCTURED-LOCATION;VALUE=URI;X-ADDRESS=Gemeindezentrum Lion-Feuchtwanger-Straße Lion-Feuchtwanger Str. 14 Mainz 55129 Deutschland;X-APPLE-RADIUS=500;X-TITLE=Lion-Feuchtwanger Str. 14:geo:8.2738908,49.9621
END:VEVENT
BEGIN:VEVENT
DTSTART;TZID=Europe/Paris:20190120T100000
DTEND;TZID=Europe/Paris:20190120T100000
DTSTAMP:20260425T150140
CREATED:20181114T110100Z
LAST-MODIFIED:20181114T110100Z
UID:10001187-1547978400-1547978400@www.ekg-hechtsheim.de
SUMMARY:Gottesdienst
DESCRIPTION:
URL:https://www.ekg-hechtsheim.de/veranstaltungen/gottesdienst-85/
LOCATION:16:00 - \, Deutschland
CATEGORIES:Gottesdienste
END:VEVENT
BEGIN:VEVENT
DTSTART;TZID=Europe/Paris:20190120T110000
DTEND;TZID=Europe/Paris:20190120T110000
DTSTAMP:20260425T150140
CREATED:20181114T102736Z
LAST-MODIFIED:20181212T084505Z
UID:10001185-1547982000-1547982000@www.ekg-hechtsheim.de
SUMMARY:Gottesdienst zum Jahresauftakt mit dem Gospelchor "Sound connection" und Eröffnung der Ausstellung "Draussen" - Fotografie und Malerei - sowie Begrüßung der neuen Konfirmandinnen und Konfirmanden
DESCRIPTION:
URL:https://www.ekg-hechtsheim.de/veranstaltungen/gottesdienst-zum-jahresauftakt-mit-dem-gospelchor-sound-connection-und-ausstellungseroeffnung/
LOCATION:Gemeindehaus Frankenhöhe\, Bodenheimer Straße 58\, Mainz\, 55129\, Deutschland
CATEGORIES:Gottesdienste
GEO:49.9667007;8.2872534
X-APPLE-STRUCTURED-LOCATION;VALUE=URI;X-ADDRESS=Gemeindehaus Frankenhöhe Bodenheimer Straße 58 Mainz 55129 Deutschland;X-APPLE-RADIUS=500;X-TITLE=Bodenheimer Straße 58:geo:8.2872534,49.9667007
END:VEVENT
BEGIN:VEVENT
DTSTART;TZID=Europe/Paris:20190121T193000
DTEND;TZID=Europe/Paris:20190121T210000
DTSTAMP:20260425T150140
CREATED:20171218T090742Z
LAST-MODIFIED:20180108T083306Z
UID:10000295-1548099000-1548104400@www.ekg-hechtsheim.de
SUMMARY:Abend in der Stille
DESCRIPTION:Einmal im Monat findet ein Abend in der Stille in der Regel am 3. Montag im Monat im Gemeindezentrum von 19.30 – 21  Uhr (außer in den Schulferien) statt. \nExerzitien im Alltag sind ein Weg\, auf dem wir einüben können\, den Alltag bewusster und aufmerksamer wahrzunehmen und Gott dort zu entdecken\, wo er sich von uns finden lassen möchte: mitten im Leben. \nAus dem Projekt in der Passionszeit 2016 ist der Wunsch entstanden\, regelmäßig\, einmal im Monat\, solche „Exerzitien im Alltag“ miteinander zu teilen und in Gemeinschaft einen solchen Weg zu gehen. \nEinmal im Monat sind alle Interessierten eingeladen zusammen zu kommen: zum Einüben verschiedener Formen von Zeiten der Stille\, Meditation über biblischen Worten und Gebet\, zum Austausch über die Erfahrungen. \nTermine in 2018: 22. Januar\, 19. Februar\,  19. März\, 23. April 21. Mai\, 18. Juni\, im Juli Pause wegen Sommerferien. \nBequeme Kleidung\, möglicherweise eine wärmende Decke oder Wollsocken\, um im Sitzen und Schweigen einen warmen Rücken und warme Füße zu behalten\, bringen Sie bitte dazu von zu Hause mit.
URL:https://www.ekg-hechtsheim.de/veranstaltungen/abend-in-der-stille-mit-den-perlen-des-glaubens-beten-und-ueber-gott-und-die-welt-gemeinsam-nachsinnen-2018-04-16/2019-01-21/
LOCATION:16:00 - \, Deutschland
CATEGORIES:Gottesdienste
END:VEVENT
BEGIN:VEVENT
DTSTART;TZID=Europe/Paris:20190123T180000
DTEND;TZID=Europe/Paris:20190123T180000
DTSTAMP:20260425T150140
CREATED:20181212T090917Z
LAST-MODIFIED:20181212T091029Z
UID:10001178-1548266400-1548266400@www.ekg-hechtsheim.de
SUMMARY:Lust auf Singen?! - Singen von weltlichen und geistlichen Liedern mit Gesine von Uslar und Bernd Klotz
DESCRIPTION:
URL:https://www.ekg-hechtsheim.de/veranstaltungen/lust-auf-singen-singen-von-weltlichen-und-geistlichen-liedern-mit-gesine-von-uslar-und-bernd-klotz/2019-01-23/
LOCATION:16:00 - \, Deutschland
CATEGORIES:Gemeinde
END:VEVENT
BEGIN:VEVENT
DTSTART;TZID=Europe/Paris:20190124T160000
DTEND;TZID=Europe/Paris:20190124T160000
DTSTAMP:20260425T150140
CREATED:20181114T110311Z
LAST-MODIFIED:20181114T110311Z
UID:10000557-1548345600-1548345600@www.ekg-hechtsheim.de
SUMMARY:Werktagsgottesdienst mit Abendmahl
DESCRIPTION:
URL:https://www.ekg-hechtsheim.de/veranstaltungen/werktagsgottesdienst-mit-abendmahl-45/
LOCATION:16:00 - \, Deutschland
CATEGORIES:Gottesdienste
END:VEVENT
BEGIN:VEVENT
DTSTART;TZID=Europe/Paris:20190127T100000
DTEND;TZID=Europe/Paris:20190127T100000
DTSTAMP:20260425T150140
CREATED:20181114T111200Z
LAST-MODIFIED:20181114T111200Z
UID:10000562-1548583200-1548583200@www.ekg-hechtsheim.de
SUMMARY:Begrüßungs-Gottesdienst der neuen Konfirmandinnen und Konfirmanden im Gemeindezentrum
DESCRIPTION:
URL:https://www.ekg-hechtsheim.de/veranstaltungen/begruessungs-gottesdienst-der-neuen-konfirmandinnen-und-konfirmanden-im-gemeindezentrum/
LOCATION:16:00 - \, Deutschland
CATEGORIES:Gottesdienste
END:VEVENT
BEGIN:VEVENT
DTSTART;TZID=Europe/Paris:20190127T180000
DTEND;TZID=Europe/Paris:20190127T180000
DTSTAMP:20260425T150140
CREATED:20180830T145917Z
LAST-MODIFIED:20180830T145917Z
UID:10001120-1548612000-1548612000@www.ekg-hechtsheim.de
SUMMARY:Literatur-Abend-Gottesdienst zum Thema: Volker Weidermann "Träumer"
DESCRIPTION:
URL:https://www.ekg-hechtsheim.de/veranstaltungen/literatur-abend-gottesdienst-zum-thema-volker-weidermann-traeumer/
LOCATION:Gemeindehaus Frankenhöhe\, Bodenheimer Straße 58\, Mainz\, 55129\, Deutschland
CATEGORIES:Gemeinde,Gottesdienste
GEO:49.9667007;8.2872534
X-APPLE-STRUCTURED-LOCATION;VALUE=URI;X-ADDRESS=Gemeindehaus Frankenhöhe Bodenheimer Straße 58 Mainz 55129 Deutschland;X-APPLE-RADIUS=500;X-TITLE=Bodenheimer Straße 58:geo:8.2872534,49.9667007
END:VEVENT
BEGIN:VEVENT
DTSTART;TZID=Europe/Paris:20190128T170000
DTEND;TZID=Europe/Paris:20190128T190000
DTSTAMP:20260425T150140
CREATED:20181221T123020Z
LAST-MODIFIED:20181221T123020Z
UID:10000593-1548694800-1548702000@www.ekg-hechtsheim.de
SUMMARY:Regelmäßig stattfindendes Cafè der Begegnung (Flüchtlingsinitiative AIH)
DESCRIPTION:Jeden zweiten und vierten Montag des Monats findet das „Café der Begegnung“ unserer ökumen. Flüchtlingsinitiative „Ankommen in Hechtsheim AIH“ statt.\nHier treffen sich Alt- und Neu-Hechtsheimer bei Kaffee und Kuchen\, lernen sich kennen\, suchen und finden Hilfe usw. \nFür die Kinder ist eine Betreuung organisiert\, so dass auch Zeit und Ruhe für nette Gespräche ist. \nSchnuppern Sie doch mal rein\, wir freuen uns auf Sie ….
URL:https://www.ekg-hechtsheim.de/veranstaltungen/regelmaessig-stattfindendes-cafe-der-begegnung-fluechtlingsinitiative-aih-38/
LOCATION:Gemeindezentrum Lion-Feuchtwanger-Straße\, Lion-Feuchtwanger Str. 14\, Mainz\, 55129\, Deutschland
CATEGORIES:Kultur,Sonstiges
ORGANIZER;CN="%C3%96kumenische Fl%C3%BCchtlingsinitiative AIH":MAILTO:ankommen.in.hechtsheim@gmail.com
GEO:49.9621;8.2738908
X-APPLE-STRUCTURED-LOCATION;VALUE=URI;X-ADDRESS=Gemeindezentrum Lion-Feuchtwanger-Straße Lion-Feuchtwanger Str. 14 Mainz 55129 Deutschland;X-APPLE-RADIUS=500;X-TITLE=Lion-Feuchtwanger Str. 14:geo:8.2738908,49.9621
END:VEVENT
END:VCALENDAR