BEGIN:VCALENDAR
VERSION:2.0
PRODID:-//Evangelische Kirchengemeinde Mainz-Hechtsheim - ECPv6.15.20//NONSGML v1.0//EN
CALSCALE:GREGORIAN
METHOD:PUBLISH
X-WR-CALNAME:Evangelische Kirchengemeinde Mainz-Hechtsheim
X-ORIGINAL-URL:https://www.ekg-hechtsheim.de
X-WR-CALDESC:Veranstaltungen für Evangelische Kirchengemeinde Mainz-Hechtsheim
REFRESH-INTERVAL;VALUE=DURATION:PT1H
X-Robots-Tag:noindex
X-PUBLISHED-TTL:PT1H
BEGIN:VTIMEZONE
TZID:Europe/Paris
BEGIN:DAYLIGHT
TZOFFSETFROM:+0100
TZOFFSETTO:+0200
TZNAME:CEST
DTSTART:20170326T010000
END:DAYLIGHT
BEGIN:STANDARD
TZOFFSETFROM:+0200
TZOFFSETTO:+0100
TZNAME:CET
DTSTART:20171029T010000
END:STANDARD
BEGIN:DAYLIGHT
TZOFFSETFROM:+0100
TZOFFSETTO:+0200
TZNAME:CEST
DTSTART:20180325T010000
END:DAYLIGHT
BEGIN:STANDARD
TZOFFSETFROM:+0200
TZOFFSETTO:+0100
TZNAME:CET
DTSTART:20181028T010000
END:STANDARD
BEGIN:DAYLIGHT
TZOFFSETFROM:+0100
TZOFFSETTO:+0200
TZNAME:CEST
DTSTART:20190331T010000
END:DAYLIGHT
BEGIN:STANDARD
TZOFFSETFROM:+0200
TZOFFSETTO:+0100
TZNAME:CET
DTSTART:20191027T010000
END:STANDARD
END:VTIMEZONE
BEGIN:VEVENT
DTSTART;TZID=Europe/Paris:20180902T100000
DTEND;TZID=Europe/Paris:20180902T100000
DTSTAMP:20260425T203244
CREATED:20180816T152144Z
LAST-MODIFIED:20180816T152144Z
UID:10001113-1535882400-1535882400@www.ekg-hechtsheim.de
SUMMARY:Gottesdienst
DESCRIPTION:
URL:https://www.ekg-hechtsheim.de/veranstaltungen/gottesdienst-70/
LOCATION:16:00 - \, Deutschland
CATEGORIES:Gottesdienste
END:VEVENT
BEGIN:VEVENT
DTSTART;TZID=Europe/Paris:20180902T110000
DTEND;TZID=Europe/Paris:20180902T110000
DTSTAMP:20260425T203244
CREATED:20180816T152223Z
LAST-MODIFIED:20180816T152223Z
UID:10000491-1535886000-1535886000@www.ekg-hechtsheim.de
SUMMARY:Gottesdienst
DESCRIPTION:
URL:https://www.ekg-hechtsheim.de/veranstaltungen/gottesdienst-71/
LOCATION:Gemeindehaus Frankenhöhe\, Bodenheimer Straße 58\, Mainz\, 55129\, Deutschland
CATEGORIES:Gottesdienste
GEO:49.9667007;8.2872534
X-APPLE-STRUCTURED-LOCATION;VALUE=URI;X-ADDRESS=Gemeindehaus Frankenhöhe Bodenheimer Straße 58 Mainz 55129 Deutschland;X-APPLE-RADIUS=500;X-TITLE=Bodenheimer Straße 58:geo:8.2872534,49.9667007
END:VEVENT
BEGIN:VEVENT
DTSTART;TZID=Europe/Paris:20180903T200000
DTEND;TZID=Europe/Paris:20180903T213000
DTSTAMP:20260425T203244
CREATED:20180306T221440Z
LAST-MODIFIED:20180912T115116Z
UID:10000901-1536004800-1536010200@www.ekg-hechtsheim.de
SUMMARY:Chorprobe Gospelchor Soundconnection
DESCRIPTION:Gospelchor
URL:https://www.ekg-hechtsheim.de/veranstaltungen/chorprobe-gospelchor-soundconnection/2018-09-03/
LOCATION:Gemeindehaus Frankenhöhe\, Bodenheimer Straße 58\, Mainz\, 55129\, Deutschland
CATEGORIES:Gemeinde,Kultur,Sonstiges
GEO:49.9667007;8.2872534
X-APPLE-STRUCTURED-LOCATION;VALUE=URI;X-ADDRESS=Gemeindehaus Frankenhöhe Bodenheimer Straße 58 Mainz 55129 Deutschland;X-APPLE-RADIUS=500;X-TITLE=Bodenheimer Straße 58:geo:8.2872534,49.9667007
END:VEVENT
BEGIN:VEVENT
DTSTART;TZID=Europe/Paris:20180906T160000
DTEND;TZID=Europe/Paris:20180906T160000
DTSTAMP:20260425T203244
CREATED:20180816T152322Z
LAST-MODIFIED:20180816T152322Z
UID:10000492-1536249600-1536249600@www.ekg-hechtsheim.de
SUMMARY:Werktagsgottesdienst mit Abendmahl
DESCRIPTION:
URL:https://www.ekg-hechtsheim.de/veranstaltungen/werktagsgottesdienst-mit-abendmahl-39/
LOCATION:16:00 - \, Deutschland
CATEGORIES:Gottesdienste
END:VEVENT
BEGIN:VEVENT
DTSTART;TZID=Europe/Paris:20180906T190000
DTEND;TZID=Europe/Paris:20180906T210000
DTSTAMP:20260425T203244
CREATED:20180904T095031Z
LAST-MODIFIED:20180904T095226Z
UID:10001125-1536260400-1536267600@www.ekg-hechtsheim.de
SUMMARY:Elternabend der KiTa
DESCRIPTION:
URL:https://www.ekg-hechtsheim.de/veranstaltungen/elternabend-der-kita/
LOCATION:16:00 - \, Deutschland
CATEGORIES:Gemeinde
END:VEVENT
BEGIN:VEVENT
DTSTART;TZID=Europe/Paris:20180908T150000
DTEND;TZID=Europe/Paris:20180908T150000
DTSTAMP:20260425T203244
CREATED:20180528T100631Z
LAST-MODIFIED:20180528T100631Z
UID:10000472-1536418800-1536418800@www.ekg-hechtsheim.de
SUMMARY:Seniorenclub - Heute: Sicherheitsberater für Senioren und Seniorinnen der Stadt Mainz "Wie schütze ich mich vor Trickbetrügern"
DESCRIPTION:
URL:https://www.ekg-hechtsheim.de/veranstaltungen/seniorenclub-heute-sicherheitsberater-fuer-senioren-und-seniorinnen-der-stadt-mainz-wie-schuetze-ich-mich-vor-trickbetruegern/
LOCATION:16:00 - \, Deutschland
CATEGORIES:Gemeinde
END:VEVENT
BEGIN:VEVENT
DTSTART;TZID=Europe/Paris:20180909T100000
DTEND;TZID=Europe/Paris:20180909T100000
DTSTAMP:20260425T203244
CREATED:20180816T152438Z
LAST-MODIFIED:20180816T152438Z
UID:10000495-1536487200-1536487200@www.ekg-hechtsheim.de
SUMMARY:KEIN Gottesdienst im Gemeindezentrum
DESCRIPTION:
URL:https://www.ekg-hechtsheim.de/veranstaltungen/kein-gottesdienst-im-gemeindezentrum-5/
LOCATION:Gemeindezentrum Lion-Feuchtwanger-Straße\, Lion-Feuchtwanger Str. 14\, Mainz\, 55129\, Deutschland
CATEGORIES:Gottesdienste
GEO:49.9621;8.2738908
X-APPLE-STRUCTURED-LOCATION;VALUE=URI;X-ADDRESS=Gemeindezentrum Lion-Feuchtwanger-Straße Lion-Feuchtwanger Str. 14 Mainz 55129 Deutschland;X-APPLE-RADIUS=500;X-TITLE=Lion-Feuchtwanger Str. 14:geo:8.2738908,49.9621
END:VEVENT
BEGIN:VEVENT
DTSTART;TZID=Europe/Paris:20180909T110000
DTEND;TZID=Europe/Paris:20180909T110000
DTSTAMP:20260425T203244
CREATED:20180816T152653Z
LAST-MODIFIED:20180816T152653Z
UID:10000497-1536490800-1536490800@www.ekg-hechtsheim.de
SUMMARY:Jubiläumsgottesdienst - 21 Jahre Gemeindehaus Frankenhöhe - Gottesdienst für Groß und Klein mit Kinderkirche und dem Chor "sound connection" sowie Ausstellungs-Eröffnung zum Thema "Gärten - Schönheit und Verantwortung" - Malerei Brigitte Zander
DESCRIPTION:
URL:https://www.ekg-hechtsheim.de/veranstaltungen/jubilaeumsgottesdienst-21-jahre-gemeindehaus-frankenhoehe-gottesdienst-fuer-gross-und-klein-mit-kinderkirche-und-dem-chor-sound-connection-sowie-ausstellungs-eroeffnung-zum-thema-gaerten-s/
LOCATION:Gemeindehaus Frankenhöhe\, Bodenheimer Straße 58\, Mainz\, 55129\, Deutschland
CATEGORIES:Gottesdienste
GEO:49.9667007;8.2872534
X-APPLE-STRUCTURED-LOCATION;VALUE=URI;X-ADDRESS=Gemeindehaus Frankenhöhe Bodenheimer Straße 58 Mainz 55129 Deutschland;X-APPLE-RADIUS=500;X-TITLE=Bodenheimer Straße 58:geo:8.2872534,49.9667007
END:VEVENT
BEGIN:VEVENT
DTSTART;TZID=Europe/Paris:20180910T170000
DTEND;TZID=Europe/Paris:20180910T190000
DTSTAMP:20260425T203244
CREATED:20180710T120813Z
LAST-MODIFIED:20180710T120813Z
UID:10001100-1536598800-1536606000@www.ekg-hechtsheim.de
SUMMARY:Regelmäßig stattfindendes Café der Begegnung (Flüchtlingsinitiative AIH)
DESCRIPTION:Jeden zweiten und vierten Montag des Monats findet das „Café der Begegnung“ unserer ökumen. Flüchtlingsinitiative „Ankommen in Hechtsheim AIH“ statt.\nHier treffen sich Alt- und Neu-Hechtsheimer bei Kaffee und Kuchen\, lernen sich kennen\, suchen und finden Hilfe usw. \nFür die Kinder ist eine Betreuung organisiert\, so dass auch Zeit und Ruhe für nette Gespräche ist. \nSchnuppern Sie doch mal rein\, wir freuen uns auf Sie …..
URL:https://www.ekg-hechtsheim.de/veranstaltungen/regelmaessig-stattfindendes-cafe-der-begegnung-fluechtlingsinitiative-aih-30/
LOCATION:Gemeindezentrum Lion-Feuchtwanger-Straße\, Lion-Feuchtwanger Str. 14\, Mainz\, 55129\, Deutschland
CATEGORIES:Kultur,Sonstiges
ORGANIZER;CN="%C3%96kumenische Fl%C3%BCchtlingsinitiative AIH":MAILTO:ankommen.in.hechtsheim@gmail.com
GEO:49.9621;8.2738908
X-APPLE-STRUCTURED-LOCATION;VALUE=URI;X-ADDRESS=Gemeindezentrum Lion-Feuchtwanger-Straße Lion-Feuchtwanger Str. 14 Mainz 55129 Deutschland;X-APPLE-RADIUS=500;X-TITLE=Lion-Feuchtwanger Str. 14:geo:8.2738908,49.9621
END:VEVENT
BEGIN:VEVENT
DTSTART;TZID=Europe/Paris:20180910T200000
DTEND;TZID=Europe/Paris:20180910T213000
DTSTAMP:20260425T203244
CREATED:20180306T221440Z
LAST-MODIFIED:20180912T115116Z
UID:10000902-1536609600-1536615000@www.ekg-hechtsheim.de
SUMMARY:Chorprobe Gospelchor Soundconnection
DESCRIPTION:Gospelchor
URL:https://www.ekg-hechtsheim.de/veranstaltungen/chorprobe-gospelchor-soundconnection/2018-09-10/
LOCATION:Gemeindehaus Frankenhöhe\, Bodenheimer Straße 58\, Mainz\, 55129\, Deutschland
CATEGORIES:Gemeinde,Kultur,Sonstiges
GEO:49.9667007;8.2872534
X-APPLE-STRUCTURED-LOCATION;VALUE=URI;X-ADDRESS=Gemeindehaus Frankenhöhe Bodenheimer Straße 58 Mainz 55129 Deutschland;X-APPLE-RADIUS=500;X-TITLE=Bodenheimer Straße 58:geo:8.2872534,49.9667007
END:VEVENT
BEGIN:VEVENT
DTSTART;TZID=Europe/Paris:20180912T193000
DTEND;TZID=Europe/Paris:20180912T193000
DTSTAMP:20260425T203244
CREATED:20180904T100325Z
LAST-MODIFIED:20180904T100325Z
UID:10001111-1536780600-1536780600@www.ekg-hechtsheim.de
SUMMARY:Meditatives Tanzen - Tänze aus aller Welt
DESCRIPTION:
URL:https://www.ekg-hechtsheim.de/veranstaltungen/meditatives-tanzen-taenze-aus-aller-welt-2/
LOCATION:Gemeindehaus Frankenhöhe\, Bodenheimer Straße 58\, Mainz\, 55129\, Deutschland
CATEGORIES:Gemeinde
GEO:49.9667007;8.2872534
X-APPLE-STRUCTURED-LOCATION;VALUE=URI;X-ADDRESS=Gemeindehaus Frankenhöhe Bodenheimer Straße 58 Mainz 55129 Deutschland;X-APPLE-RADIUS=500;X-TITLE=Bodenheimer Straße 58:geo:8.2872534,49.9667007
END:VEVENT
BEGIN:VEVENT
DTSTART;TZID=Europe/Paris:20180915T140000
DTEND;TZID=Europe/Paris:20180915T160000
DTSTAMP:20260425T203244
CREATED:20180319T220830Z
LAST-MODIFIED:20180319T220830Z
UID:10000943-1537020000-1537027200@www.ekg-hechtsheim.de
SUMMARY:Herbstbasar des Fördervereins
DESCRIPTION:Selbstverkäuferbasar „Kinderkram kinderleicht verkauft & gekauft“ \n\nWann: 14-16 Uhr\, Einlass für Schwangere ab 13.30 Uhr\n15.00 Uhr Kasperltheater\nKaffee\, Kuchen\, Waffeln\nTischvergabe unter: foerderverein@kiga-hechtsheim.de
URL:https://www.ekg-hechtsheim.de/veranstaltungen/herbstbasar-des-foerdervereins-2/
LOCATION:Gemeindezentrum Lion-Feuchtwanger-Straße\, Lion-Feuchtwanger Str. 14\, Mainz\, 55129\, Deutschland
CATEGORIES:Sonstiges
GEO:49.9621;8.2738908
X-APPLE-STRUCTURED-LOCATION;VALUE=URI;X-ADDRESS=Gemeindezentrum Lion-Feuchtwanger-Straße Lion-Feuchtwanger Str. 14 Mainz 55129 Deutschland;X-APPLE-RADIUS=500;X-TITLE=Lion-Feuchtwanger Str. 14:geo:8.2738908,49.9621
END:VEVENT
BEGIN:VEVENT
DTSTART;TZID=Europe/Paris:20180916T100000
DTEND;TZID=Europe/Paris:20180916T100000
DTSTAMP:20260425T203244
CREATED:20180816T152741Z
LAST-MODIFIED:20180816T152741Z
UID:10000499-1537092000-1537092000@www.ekg-hechtsheim.de
SUMMARY:Gottesdienst mit Abendmahl
DESCRIPTION:
URL:https://www.ekg-hechtsheim.de/veranstaltungen/gottesdienst-mit-abendmahl-21/
LOCATION:16:00 - \, Deutschland
CATEGORIES:Gottesdienste
END:VEVENT
BEGIN:VEVENT
DTSTART;TZID=Europe/Paris:20180916T110000
DTEND;TZID=Europe/Paris:20180916T110000
DTSTAMP:20260425T203244
CREATED:20180816T152828Z
LAST-MODIFIED:20180816T152828Z
UID:10000501-1537095600-1537095600@www.ekg-hechtsheim.de
SUMMARY:Gottesdienst
DESCRIPTION:
URL:https://www.ekg-hechtsheim.de/veranstaltungen/gottesdienst-72/
LOCATION:Gemeindehaus Frankenhöhe\, Bodenheimer Straße 58\, Mainz\, 55129\, Deutschland
CATEGORIES:Gottesdienste
GEO:49.9667007;8.2872534
X-APPLE-STRUCTURED-LOCATION;VALUE=URI;X-ADDRESS=Gemeindehaus Frankenhöhe Bodenheimer Straße 58 Mainz 55129 Deutschland;X-APPLE-RADIUS=500;X-TITLE=Bodenheimer Straße 58:geo:8.2872534,49.9667007
END:VEVENT
BEGIN:VEVENT
DTSTART;TZID=Europe/Paris:20180917T193000
DTEND;TZID=Europe/Paris:20180917T210000
DTSTAMP:20260425T203244
CREATED:20171218T090742Z
LAST-MODIFIED:20180108T083306Z
UID:10000291-1537212600-1537218000@www.ekg-hechtsheim.de
SUMMARY:Abend in der Stille
DESCRIPTION:Einmal im Monat findet ein Abend in der Stille in der Regel am 3. Montag im Monat im Gemeindezentrum von 19.30 – 21  Uhr (außer in den Schulferien) statt. \nExerzitien im Alltag sind ein Weg\, auf dem wir einüben können\, den Alltag bewusster und aufmerksamer wahrzunehmen und Gott dort zu entdecken\, wo er sich von uns finden lassen möchte: mitten im Leben. \nAus dem Projekt in der Passionszeit 2016 ist der Wunsch entstanden\, regelmäßig\, einmal im Monat\, solche „Exerzitien im Alltag“ miteinander zu teilen und in Gemeinschaft einen solchen Weg zu gehen. \nEinmal im Monat sind alle Interessierten eingeladen zusammen zu kommen: zum Einüben verschiedener Formen von Zeiten der Stille\, Meditation über biblischen Worten und Gebet\, zum Austausch über die Erfahrungen. \nTermine in 2018: 22. Januar\, 19. Februar\,  19. März\, 23. April 21. Mai\, 18. Juni\, im Juli Pause wegen Sommerferien. \nBequeme Kleidung\, möglicherweise eine wärmende Decke oder Wollsocken\, um im Sitzen und Schweigen einen warmen Rücken und warme Füße zu behalten\, bringen Sie bitte dazu von zu Hause mit.
URL:https://www.ekg-hechtsheim.de/veranstaltungen/abend-in-der-stille-mit-den-perlen-des-glaubens-beten-und-ueber-gott-und-die-welt-gemeinsam-nachsinnen-2018-04-16/2018-09-17/
LOCATION:16:00 - \, Deutschland
CATEGORIES:Gottesdienste
END:VEVENT
BEGIN:VEVENT
DTSTART;TZID=Europe/Paris:20180917T193000
DTEND;TZID=Europe/Paris:20180917T210000
DTSTAMP:20260425T203244
CREATED:20180830T151630Z
LAST-MODIFIED:20180830T151630Z
UID:10001122-1537212600-1537218000@www.ekg-hechtsheim.de
SUMMARY:Abend in der Stille
DESCRIPTION:
URL:https://www.ekg-hechtsheim.de/veranstaltungen/abend-in-der-stille-11/
LOCATION:16:00 - \, Deutschland
CATEGORIES:Gottesdienste
END:VEVENT
BEGIN:VEVENT
DTSTART;TZID=Europe/Paris:20180917T200000
DTEND;TZID=Europe/Paris:20180917T213000
DTSTAMP:20260425T203244
CREATED:20180306T221440Z
LAST-MODIFIED:20180912T115116Z
UID:10000903-1537214400-1537219800@www.ekg-hechtsheim.de
SUMMARY:Chorprobe Gospelchor Soundconnection
DESCRIPTION:Gospelchor
URL:https://www.ekg-hechtsheim.de/veranstaltungen/chorprobe-gospelchor-soundconnection/2018-09-17/
LOCATION:Gemeindehaus Frankenhöhe\, Bodenheimer Straße 58\, Mainz\, 55129\, Deutschland
CATEGORIES:Gemeinde,Kultur,Sonstiges
GEO:49.9667007;8.2872534
X-APPLE-STRUCTURED-LOCATION;VALUE=URI;X-ADDRESS=Gemeindehaus Frankenhöhe Bodenheimer Straße 58 Mainz 55129 Deutschland;X-APPLE-RADIUS=500;X-TITLE=Bodenheimer Straße 58:geo:8.2872534,49.9667007
END:VEVENT
BEGIN:VEVENT
DTSTART;TZID=Europe/Paris:20180919T193000
DTEND;TZID=Europe/Paris:20180919T193000
DTSTAMP:20260425T203244
CREATED:20180904T093855Z
LAST-MODIFIED:20180904T093855Z
UID:10001091-1537385400-1537385400@www.ekg-hechtsheim.de
SUMMARY:Die Ehe - ein rein weltlich Ding? - Wie stellt sich die Ehe heute im ökumenischen Dialog dar? - Referent: Privatdozent Dr. Alexander Nawar\, Leiter des Ökumene-Referats im Bischöfl. Ordinariat Mainz
DESCRIPTION:
URL:https://www.ekg-hechtsheim.de/veranstaltungen/die-ehe-ein-rein-weltlich-ding-wie-stellt-sich-die-ehe-heute-im-oekumenischen-dialog-dar-referent-privatdozent-dr-alexander-nawar-leiter-des-oekumene-referats-im-bischoefl-ordinariat-mainz/
LOCATION:Katholisches Gemeindehaus Hechtsheim\, Georg-Büchner-Str. 1\, Mainz\, 55129\, Deutschland
CATEGORIES:Gemeinde
GEO:49.9634123;8.2742837
X-APPLE-STRUCTURED-LOCATION;VALUE=URI;X-ADDRESS=Katholisches Gemeindehaus Hechtsheim Georg-Büchner-Str. 1 Mainz 55129 Deutschland;X-APPLE-RADIUS=500;X-TITLE=Georg-Büchner-Str. 1:geo:8.2742837,49.9634123
END:VEVENT
BEGIN:VEVENT
DTSTART;TZID=Europe/Paris:20180920T160000
DTEND;TZID=Europe/Paris:20180920T160000
DTSTAMP:20260425T203244
CREATED:20180816T152926Z
LAST-MODIFIED:20180816T152926Z
UID:10000502-1537459200-1537459200@www.ekg-hechtsheim.de
SUMMARY:Werktagsgottesdienst mit Abendmahl
DESCRIPTION:
URL:https://www.ekg-hechtsheim.de/veranstaltungen/werktagsgottesdienst-mit-abendmahl-40/
LOCATION:16:00 - \, Deutschland
CATEGORIES:Gottesdienste
END:VEVENT
BEGIN:VEVENT
DTSTART;TZID=Europe/Paris:20180921T200000
DTEND;TZID=Europe/Paris:20180921T200000
DTSTAMP:20260425T203244
CREATED:20180905T090959Z
LAST-MODIFIED:20180905T090959Z
UID:10001134-1537560000-1537560000@www.ekg-hechtsheim.de
SUMMARY:CVJM-Spiele-Abend
DESCRIPTION:
URL:https://www.ekg-hechtsheim.de/veranstaltungen/cvjm-spiele-abend-8/
LOCATION:Gemeindezentrum Lion-Feuchtwanger-Straße\, Lion-Feuchtwanger Str. 14\, Mainz\, 55129\, Deutschland
CATEGORIES:Gemeinde
GEO:49.9621;8.2738908
X-APPLE-STRUCTURED-LOCATION;VALUE=URI;X-ADDRESS=Gemeindezentrum Lion-Feuchtwanger-Straße Lion-Feuchtwanger Str. 14 Mainz 55129 Deutschland;X-APPLE-RADIUS=500;X-TITLE=Lion-Feuchtwanger Str. 14:geo:8.2738908,49.9621
END:VEVENT
BEGIN:VEVENT
DTSTART;VALUE=DATE:20180922
DTEND;VALUE=DATE:20180923
DTSTAMP:20260425T203244
CREATED:20180528T102515Z
LAST-MODIFIED:20180528T102515Z
UID:10000478-1537574400-1537660799@www.ekg-hechtsheim.de
SUMMARY:Ökumenischer Herbstausflug "Alt Heidelberg\, du Feine und Liselotte von der Pfalz"
DESCRIPTION:
URL:https://www.ekg-hechtsheim.de/veranstaltungen/oekumenischer-herbstausflug-alt-heidelberg-du-feine-und-liselotte-von-der-pfalz/
CATEGORIES:Gemeinde
END:VEVENT
BEGIN:VEVENT
DTSTART;TZID=Europe/Paris:20180923T100000
DTEND;TZID=Europe/Paris:20180923T100000
DTSTAMP:20260425T203244
CREATED:20180816T153039Z
LAST-MODIFIED:20180816T153039Z
UID:10000503-1537696800-1537696800@www.ekg-hechtsheim.de
SUMMARY:Gottesdienst
DESCRIPTION:
URL:https://www.ekg-hechtsheim.de/veranstaltungen/gottesdienst-73/
LOCATION:Gemeindezentrum Lion-Feuchtwanger-Straße\, Lion-Feuchtwanger Str. 14\, Mainz\, 55129\, Deutschland
CATEGORIES:Gottesdienste
GEO:49.9621;8.2738908
X-APPLE-STRUCTURED-LOCATION;VALUE=URI;X-ADDRESS=Gemeindezentrum Lion-Feuchtwanger-Straße Lion-Feuchtwanger Str. 14 Mainz 55129 Deutschland;X-APPLE-RADIUS=500;X-TITLE=Lion-Feuchtwanger Str. 14:geo:8.2738908,49.9621
END:VEVENT
BEGIN:VEVENT
DTSTART;TZID=Europe/Paris:20180923T180000
DTEND;TZID=Europe/Paris:20180923T180000
DTSTAMP:20260425T203244
CREATED:20180816T153227Z
LAST-MODIFIED:20180830T145447Z
UID:10000504-1537725600-1537725600@www.ekg-hechtsheim.de
SUMMARY:Literatur-Abend-Gottesdienst zum Thema "Thomas Mann: Buddenbrooks"
DESCRIPTION:
URL:https://www.ekg-hechtsheim.de/veranstaltungen/literatur-abend-gottesdienst-zum-thema-thomas-mann/
LOCATION:Gemeindehaus Frankenhöhe\, Bodenheimer Straße 58\, Mainz\, 55129\, Deutschland
CATEGORIES:Gemeinde,Gottesdienste
GEO:49.9667007;8.2872534
X-APPLE-STRUCTURED-LOCATION;VALUE=URI;X-ADDRESS=Gemeindehaus Frankenhöhe Bodenheimer Straße 58 Mainz 55129 Deutschland;X-APPLE-RADIUS=500;X-TITLE=Bodenheimer Straße 58:geo:8.2872534,49.9667007
END:VEVENT
BEGIN:VEVENT
DTSTART;TZID=Europe/Paris:20180924T170000
DTEND;TZID=Europe/Paris:20180924T190000
DTSTAMP:20260425T203244
CREATED:20180815T112237Z
LAST-MODIFIED:20180815T112237Z
UID:10001112-1537808400-1537815600@www.ekg-hechtsheim.de
SUMMARY:Regelmäßig stattfindendes Café der Begegnung (Flüchtlingsinitiative AIH)
DESCRIPTION:Jeden zweiten und vierten Montag des Monats findet das „Café der Begegnung“ unserer ökumen. Flüchtlingsinitiative „Ankommen in Hechtsheim AIH“ statt.\nHier treffen sich Alt- und Neu-Hechtsheimer bei Kaffee und Kuchen\, lernen sich kennen\, suchen und finden Hilfe usw. \nFür die Kinder ist eine Betreuung organisiert\, so dass auch Zeit und Ruhe für nette Gespräche ist. \nSchnuppern Sie doch mal rein\, wir freuen uns auf Sie …..
URL:https://www.ekg-hechtsheim.de/veranstaltungen/regelmaessig-stattfindendes-cafe-der-begegnung-fluechtlingsinitiative-aih-31/
LOCATION:Gemeindezentrum Lion-Feuchtwanger-Straße\, Lion-Feuchtwanger Str. 14\, Mainz\, 55129\, Deutschland
CATEGORIES:Kultur,Sonstiges
ORGANIZER;CN="%C3%96kumenische Fl%C3%BCchtlingsinitiative AIH":MAILTO:ankommen.in.hechtsheim@gmail.com
GEO:49.9621;8.2738908
X-APPLE-STRUCTURED-LOCATION;VALUE=URI;X-ADDRESS=Gemeindezentrum Lion-Feuchtwanger-Straße Lion-Feuchtwanger Str. 14 Mainz 55129 Deutschland;X-APPLE-RADIUS=500;X-TITLE=Lion-Feuchtwanger Str. 14:geo:8.2738908,49.9621
END:VEVENT
BEGIN:VEVENT
DTSTART;TZID=Europe/Paris:20180924T200000
DTEND;TZID=Europe/Paris:20180924T213000
DTSTAMP:20260425T203244
CREATED:20180306T221440Z
LAST-MODIFIED:20180912T115116Z
UID:10000904-1537819200-1537824600@www.ekg-hechtsheim.de
SUMMARY:Chorprobe Gospelchor Soundconnection
DESCRIPTION:Gospelchor
URL:https://www.ekg-hechtsheim.de/veranstaltungen/chorprobe-gospelchor-soundconnection/2018-09-24/
LOCATION:Gemeindehaus Frankenhöhe\, Bodenheimer Straße 58\, Mainz\, 55129\, Deutschland
CATEGORIES:Gemeinde,Kultur,Sonstiges
GEO:49.9667007;8.2872534
X-APPLE-STRUCTURED-LOCATION;VALUE=URI;X-ADDRESS=Gemeindehaus Frankenhöhe Bodenheimer Straße 58 Mainz 55129 Deutschland;X-APPLE-RADIUS=500;X-TITLE=Bodenheimer Straße 58:geo:8.2872534,49.9667007
END:VEVENT
BEGIN:VEVENT
DTSTART;TZID=Europe/Paris:20180926T180000
DTEND;TZID=Europe/Paris:20180926T180000
DTSTAMP:20260425T203244
CREATED:20171206T081932Z
LAST-MODIFIED:20180904T083801Z
UID:10000780-1537984800-1537984800@www.ekg-hechtsheim.de
SUMMARY:Lust auf Singen?! - Ökumenisches Angebot zum Gemeinsamen Singen von Weltlichen und Geistlichen Liedern mit Klavierbegleitung
DESCRIPTION:
URL:https://www.ekg-hechtsheim.de/veranstaltungen/lust-auf-singen-oekumenisches-angebot-zum-gemeinsamen-singen-von-weltlichen-und-geistlichen-liedern-mit-klavierbegleitung/2018-09-26/
LOCATION:16:00 - \, Deutschland
CATEGORIES:Gemeinde
END:VEVENT
BEGIN:VEVENT
DTSTART;TZID=Europe/Paris:20180930T100000
DTEND;TZID=Europe/Paris:20180930T100000
DTSTAMP:20260425T203244
CREATED:20180816T153337Z
LAST-MODIFIED:20180816T153337Z
UID:10000505-1538301600-1538301600@www.ekg-hechtsheim.de
SUMMARY:Gottesdienst an Erntedank
DESCRIPTION:
URL:https://www.ekg-hechtsheim.de/veranstaltungen/gottesdienst-an-erntedank-2/
LOCATION:Gemeindezentrum Lion-Feuchtwanger-Straße\, Lion-Feuchtwanger Str. 14\, Mainz\, 55129\, Deutschland
CATEGORIES:Gottesdienste
GEO:49.9621;8.2738908
X-APPLE-STRUCTURED-LOCATION;VALUE=URI;X-ADDRESS=Gemeindezentrum Lion-Feuchtwanger-Straße Lion-Feuchtwanger Str. 14 Mainz 55129 Deutschland;X-APPLE-RADIUS=500;X-TITLE=Lion-Feuchtwanger Str. 14:geo:8.2738908,49.9621
END:VEVENT
BEGIN:VEVENT
DTSTART;TZID=Europe/Paris:20180930T110000
DTEND;TZID=Europe/Paris:20180930T110000
DTSTAMP:20260425T203244
CREATED:20180816T153419Z
LAST-MODIFIED:20180816T153419Z
UID:10001115-1538305200-1538305200@www.ekg-hechtsheim.de
SUMMARY:KEIN Gottesdienst im Gemeindehaus
DESCRIPTION:
URL:https://www.ekg-hechtsheim.de/veranstaltungen/kein-gottesdienst-im-gemeindehaus-2/
LOCATION:Gemeindehaus Frankenhöhe\, Bodenheimer Straße 58\, Mainz\, 55129\, Deutschland
CATEGORIES:Gottesdienste
GEO:49.9667007;8.2872534
X-APPLE-STRUCTURED-LOCATION;VALUE=URI;X-ADDRESS=Gemeindehaus Frankenhöhe Bodenheimer Straße 58 Mainz 55129 Deutschland;X-APPLE-RADIUS=500;X-TITLE=Bodenheimer Straße 58:geo:8.2872534,49.9667007
END:VEVENT
END:VCALENDAR