BEGIN:VCALENDAR
VERSION:2.0
PRODID:-//Evangelische Kirchengemeinde Mainz-Hechtsheim - ECPv6.15.20//NONSGML v1.0//EN
CALSCALE:GREGORIAN
METHOD:PUBLISH
X-WR-CALNAME:Evangelische Kirchengemeinde Mainz-Hechtsheim
X-ORIGINAL-URL:https://www.ekg-hechtsheim.de
X-WR-CALDESC:Veranstaltungen für Evangelische Kirchengemeinde Mainz-Hechtsheim
REFRESH-INTERVAL;VALUE=DURATION:PT1H
X-Robots-Tag:noindex
X-PUBLISHED-TTL:PT1H
BEGIN:VTIMEZONE
TZID:Europe/Paris
BEGIN:DAYLIGHT
TZOFFSETFROM:+0100
TZOFFSETTO:+0200
TZNAME:CEST
DTSTART:20170326T010000
END:DAYLIGHT
BEGIN:STANDARD
TZOFFSETFROM:+0200
TZOFFSETTO:+0100
TZNAME:CET
DTSTART:20171029T010000
END:STANDARD
BEGIN:DAYLIGHT
TZOFFSETFROM:+0100
TZOFFSETTO:+0200
TZNAME:CEST
DTSTART:20180325T010000
END:DAYLIGHT
BEGIN:STANDARD
TZOFFSETFROM:+0200
TZOFFSETTO:+0100
TZNAME:CET
DTSTART:20181028T010000
END:STANDARD
BEGIN:DAYLIGHT
TZOFFSETFROM:+0100
TZOFFSETTO:+0200
TZNAME:CEST
DTSTART:20190331T010000
END:DAYLIGHT
BEGIN:STANDARD
TZOFFSETFROM:+0200
TZOFFSETTO:+0100
TZNAME:CET
DTSTART:20191027T010000
END:STANDARD
END:VTIMEZONE
BEGIN:VEVENT
DTSTART;TZID=Europe/Paris:20180603T100000
DTEND;TZID=Europe/Paris:20180603T100000
DTSTAMP:20260426T011332
CREATED:20180321T083606Z
LAST-MODIFIED:20180411T093726Z
UID:10000971-1528020000-1528020000@www.ekg-hechtsheim.de
SUMMARY:Gottesdienst
DESCRIPTION:
URL:https://www.ekg-hechtsheim.de/veranstaltungen/gottesdienst-56/
LOCATION:16:00 - \, Deutschland
CATEGORIES:Gottesdienste
END:VEVENT
BEGIN:VEVENT
DTSTART;TZID=Europe/Paris:20180603T110000
DTEND;TZID=Europe/Paris:20180603T110000
DTSTAMP:20260426T011332
CREATED:20180321T084419Z
LAST-MODIFIED:20180411T093916Z
UID:10000425-1528023600-1528023600@www.ekg-hechtsheim.de
SUMMARY:Gottesdienst
DESCRIPTION:
URL:https://www.ekg-hechtsheim.de/veranstaltungen/gottesdienst-57/
LOCATION:Gemeindehaus Frankenhöhe\, Bodenheimer Straße 58\, Mainz\, 55129\, Deutschland
CATEGORIES:Gottesdienste
GEO:49.9667007;8.2872534
X-APPLE-STRUCTURED-LOCATION;VALUE=URI;X-ADDRESS=Gemeindehaus Frankenhöhe Bodenheimer Straße 58 Mainz 55129 Deutschland;X-APPLE-RADIUS=500;X-TITLE=Bodenheimer Straße 58:geo:8.2872534,49.9667007
END:VEVENT
BEGIN:VEVENT
DTSTART;TZID=Europe/Paris:20180605T181500
DTEND;TZID=Europe/Paris:20180605T181500
DTSTAMP:20260426T011332
CREATED:20180314T075255Z
LAST-MODIFIED:20180314T075255Z
UID:10000411-1528222500-1528222500@www.ekg-hechtsheim.de
SUMMARY:Jugendtreff Hechtsheim - Für alle Vor-\, Ex- und aktuellen Konfirmanden
DESCRIPTION:
URL:https://www.ekg-hechtsheim.de/veranstaltungen/jugendtreff-hechtsheim-fuer-alle-vor-ex-und-aktuellen-konfirmanden-13/2018-06-05/
LOCATION:Gemeindehaus Frankenhöhe\, Bodenheimer Straße 58\, Mainz\, 55129\, Deutschland
CATEGORIES:Gemeinde
GEO:49.9667007;8.2872534
X-APPLE-STRUCTURED-LOCATION;VALUE=URI;X-ADDRESS=Gemeindehaus Frankenhöhe Bodenheimer Straße 58 Mainz 55129 Deutschland;X-APPLE-RADIUS=500;X-TITLE=Bodenheimer Straße 58:geo:8.2872534,49.9667007
END:VEVENT
BEGIN:VEVENT
DTSTART;TZID=Europe/Paris:20180607T183000
DTEND;TZID=Europe/Paris:20180607T220000
DTSTAMP:20260426T011332
CREATED:20180321T084830Z
LAST-MODIFIED:20180528T095351Z
UID:10000428-1528396200-1528408800@www.ekg-hechtsheim.de
SUMMARY:Sommersynode des Evangelischen Dekanats in Mainz
DESCRIPTION:
URL:https://www.ekg-hechtsheim.de/veranstaltungen/sommersynode-des-dekanats/
LOCATION:16:00 - \, Deutschland
CATEGORIES:Gemeinde
END:VEVENT
BEGIN:VEVENT
DTSTART;TZID=Europe/Paris:20180609T150000
DTEND;TZID=Europe/Paris:20180609T150000
DTSTAMP:20260426T011332
CREATED:20171206T081205Z
LAST-MODIFIED:20180228T080418Z
UID:10000771-1528556400-1528556400@www.ekg-hechtsheim.de
SUMMARY:Seniorenclub - Erzählcafé - Woher wir kommen - Brigitte Zander
DESCRIPTION:
URL:https://www.ekg-hechtsheim.de/veranstaltungen/seniorenclub-erzaehlcafe-woher-wir-kommen-brigitte-zander/
LOCATION:16:00 - \, Deutschland
CATEGORIES:Gemeinde
END:VEVENT
BEGIN:VEVENT
DTSTART;TZID=Europe/Paris:20180610T100000
DTEND;TZID=Europe/Paris:20180610T100000
DTSTAMP:20260426T011332
CREATED:20180321T085625Z
LAST-MODIFIED:20180601T135503Z
UID:10000432-1528624800-1528624800@www.ekg-hechtsheim.de
SUMMARY:Gottesdienst mit der Freiwilligen Feuerwehr Hechtsheim sowie der Feuerwehrkapelle Drais
DESCRIPTION:
URL:https://www.ekg-hechtsheim.de/veranstaltungen/gottesdienst-58/
LOCATION:16:00 - \, Deutschland
CATEGORIES:Gottesdienste
END:VEVENT
BEGIN:VEVENT
DTSTART;TZID=Europe/Paris:20180610T110000
DTEND;TZID=Europe/Paris:20180610T110000
DTSTAMP:20260426T011332
CREATED:20180321T085539Z
LAST-MODIFIED:20180321T085539Z
UID:10000431-1528628400-1528628400@www.ekg-hechtsheim.de
SUMMARY:Kinderkirche
DESCRIPTION:
URL:https://www.ekg-hechtsheim.de/veranstaltungen/kinderkirche-8/
LOCATION:Gemeindehaus Frankenhöhe\, Bodenheimer Straße 58\, Mainz\, 55129\, Deutschland
CATEGORIES:Gottesdienste
GEO:49.9667007;8.2872534
X-APPLE-STRUCTURED-LOCATION;VALUE=URI;X-ADDRESS=Gemeindehaus Frankenhöhe Bodenheimer Straße 58 Mainz 55129 Deutschland;X-APPLE-RADIUS=500;X-TITLE=Bodenheimer Straße 58:geo:8.2872534,49.9667007
END:VEVENT
BEGIN:VEVENT
DTSTART;TZID=Europe/Paris:20180612T181500
DTEND;TZID=Europe/Paris:20180612T181500
DTSTAMP:20260426T011332
CREATED:20180314T080428Z
LAST-MODIFIED:20180314T080428Z
UID:10000408-1528827300-1528827300@www.ekg-hechtsheim.de
SUMMARY:Jugendtreff Hechtsheim - Für alle Vor-\, Ex- und aktuellen Konfirmanden
DESCRIPTION:
URL:https://www.ekg-hechtsheim.de/veranstaltungen/jugendtreff-hechtsheim-fuer-alle-vor-ex-und-aktuellen-konfirmanden-14/2018-06-12/
LOCATION:16:00 - \, Deutschland
CATEGORIES:Gemeinde
END:VEVENT
BEGIN:VEVENT
DTSTART;TZID=Europe/Paris:20180613T193000
DTEND;TZID=Europe/Paris:20180613T193000
DTSTAMP:20260426T011332
CREATED:20180321T090411Z
LAST-MODIFIED:20180321T090411Z
UID:10000433-1528918200-1528918200@www.ekg-hechtsheim.de
SUMMARY:Meditatives Tanzen
DESCRIPTION:
URL:https://www.ekg-hechtsheim.de/veranstaltungen/meditatives-tanzen-4/
LOCATION:Gemeindehaus Frankenhöhe\, Bodenheimer Straße 58\, Mainz\, 55129\, Deutschland
CATEGORIES:Gemeinde
GEO:49.9667007;8.2872534
X-APPLE-STRUCTURED-LOCATION;VALUE=URI;X-ADDRESS=Gemeindehaus Frankenhöhe Bodenheimer Straße 58 Mainz 55129 Deutschland;X-APPLE-RADIUS=500;X-TITLE=Bodenheimer Straße 58:geo:8.2872534,49.9667007
END:VEVENT
BEGIN:VEVENT
DTSTART;TZID=Europe/Paris:20180614T160000
DTEND;TZID=Europe/Paris:20180614T160000
DTSTAMP:20260426T011332
CREATED:20180321T090943Z
LAST-MODIFIED:20180321T090943Z
UID:10000972-1528992000-1528992000@www.ekg-hechtsheim.de
SUMMARY:Werktagsgottesdienst mit Abendmahl
DESCRIPTION:
URL:https://www.ekg-hechtsheim.de/veranstaltungen/werktagsgottesdienst-mit-abendmahl-36/
LOCATION:16:00 - \, Deutschland
CATEGORIES:Gottesdienste
END:VEVENT
BEGIN:VEVENT
DTSTART;TZID=Europe/Paris:20180616T151500
DTEND;TZID=Europe/Paris:20180616T151500
DTSTAMP:20260426T011332
CREATED:20180228T081031Z
LAST-MODIFIED:20180508T073118Z
UID:10000834-1529162100-1529162100@www.ekg-hechtsheim.de
SUMMARY:SOMMERFEST DER GEMEINDE und 50 JAHRE KINDERGARTEN - Die Evangelische Kirchengemeinde lädt alle Hechtsheimerinnen und Hechtsheimer ein zum Gottesdienst unter freiem Himmel und Beteiligung des Kindergartens\, Ausstellungseröffnung "50 Jahre Kindergarten"\, Kuchenbuffet\, Besichtigung der KiTa\, Spiele\, Tombola\, Zeit für Begegnung bei einem Glas Wein und einem Imbiss bis in den Abend hinein - Alles weitere für ein Fingerfood-Buffet bitten wir Sie mitzubringen
DESCRIPTION:
URL:https://www.ekg-hechtsheim.de/veranstaltungen/sommerfest-2018-und-50-jahre-kindergarten-die-evangelische-kirchengemeinde-laedt-alle-hechtsheimerinnen-und-hechtsheimer-ein-zum-gottesdienst-unter-freiem-himmel-und-beteiligung-des-kindergartens-k/
LOCATION:16:00 - \, Deutschland
CATEGORIES:Gemeinde
END:VEVENT
BEGIN:VEVENT
DTSTART;VALUE=DATE:20180617
DTEND;VALUE=DATE:20180618
DTSTAMP:20260426T011332
CREATED:20180321T090639Z
LAST-MODIFIED:20180321T090639Z
UID:10000434-1529193600-1529279999@www.ekg-hechtsheim.de
SUMMARY:Sommerfest-Gottesdienst am Samstag\,16.6.! - KEINE weiteren Gottesdienste an diesem Wochenende in der Gemeinde
DESCRIPTION:
URL:https://www.ekg-hechtsheim.de/veranstaltungen/sommerfest-gottesdienst-am-samstag16-6-keine-weiteren-gottesdienste-an-diesem-wochenende-in-der-gemeinde/
CATEGORIES:Gottesdienste
END:VEVENT
BEGIN:VEVENT
DTSTART;TZID=Europe/Paris:20180618T193000
DTEND;TZID=Europe/Paris:20180618T210000
DTSTAMP:20260426T011332
CREATED:20171218T090742Z
LAST-MODIFIED:20180108T083306Z
UID:10000288-1529350200-1529355600@www.ekg-hechtsheim.de
SUMMARY:Abend in der Stille
DESCRIPTION:Einmal im Monat findet ein Abend in der Stille in der Regel am 3. Montag im Monat im Gemeindezentrum von 19.30 – 21  Uhr (außer in den Schulferien) statt. \nExerzitien im Alltag sind ein Weg\, auf dem wir einüben können\, den Alltag bewusster und aufmerksamer wahrzunehmen und Gott dort zu entdecken\, wo er sich von uns finden lassen möchte: mitten im Leben. \nAus dem Projekt in der Passionszeit 2016 ist der Wunsch entstanden\, regelmäßig\, einmal im Monat\, solche „Exerzitien im Alltag“ miteinander zu teilen und in Gemeinschaft einen solchen Weg zu gehen. \nEinmal im Monat sind alle Interessierten eingeladen zusammen zu kommen: zum Einüben verschiedener Formen von Zeiten der Stille\, Meditation über biblischen Worten und Gebet\, zum Austausch über die Erfahrungen. \nTermine in 2018: 22. Januar\, 19. Februar\,  19. März\, 23. April 21. Mai\, 18. Juni\, im Juli Pause wegen Sommerferien. \nBequeme Kleidung\, möglicherweise eine wärmende Decke oder Wollsocken\, um im Sitzen und Schweigen einen warmen Rücken und warme Füße zu behalten\, bringen Sie bitte dazu von zu Hause mit.
URL:https://www.ekg-hechtsheim.de/veranstaltungen/abend-in-der-stille-mit-den-perlen-des-glaubens-beten-und-ueber-gott-und-die-welt-gemeinsam-nachsinnen-2018-04-16/2018-06-18/
LOCATION:16:00 - \, Deutschland
CATEGORIES:Gottesdienste
END:VEVENT
BEGIN:VEVENT
DTSTART;TZID=Europe/Paris:20180619T181500
DTEND;TZID=Europe/Paris:20180619T181500
DTSTAMP:20260426T011332
CREATED:20180314T075255Z
LAST-MODIFIED:20180314T075255Z
UID:10000412-1529432100-1529432100@www.ekg-hechtsheim.de
SUMMARY:Jugendtreff Hechtsheim - Für alle Vor-\, Ex- und aktuellen Konfirmanden
DESCRIPTION:
URL:https://www.ekg-hechtsheim.de/veranstaltungen/jugendtreff-hechtsheim-fuer-alle-vor-ex-und-aktuellen-konfirmanden-13/2018-06-19/
LOCATION:Gemeindehaus Frankenhöhe\, Bodenheimer Straße 58\, Mainz\, 55129\, Deutschland
CATEGORIES:Gemeinde
GEO:49.9667007;8.2872534
X-APPLE-STRUCTURED-LOCATION;VALUE=URI;X-ADDRESS=Gemeindehaus Frankenhöhe Bodenheimer Straße 58 Mainz 55129 Deutschland;X-APPLE-RADIUS=500;X-TITLE=Bodenheimer Straße 58:geo:8.2872534,49.9667007
END:VEVENT
BEGIN:VEVENT
DTSTART;TZID=Europe/Paris:20180620T180000
DTEND;TZID=Europe/Paris:20180620T180000
DTSTAMP:20260426T011332
CREATED:20180528T095816Z
LAST-MODIFIED:20180528T095816Z
UID:10001071-1529517600-1529517600@www.ekg-hechtsheim.de
SUMMARY:"Einladung zum Kennenlernen" in die Makedonisch-Orthodoxe Kirche Mainz-Hechtsheim
DESCRIPTION:
URL:https://www.ekg-hechtsheim.de/veranstaltungen/einladung-zum-kennenlernen-in-die-makedonisch-orthodoxe-kirche-mainz-hechtsheim/
LOCATION:Makedonisch-Orthodoxe Kirche Hl. Nikolaus in der August-Horch-Str. 4 (Gewerbegebiet)\, Deutschland
CATEGORIES:Gemeinde
GEO:51.165691;10.451526
END:VEVENT
BEGIN:VEVENT
DTSTART;TZID=Europe/Paris:20180624T100000
DTEND;TZID=Europe/Paris:20180624T100000
DTSTAMP:20260426T011332
CREATED:20180321T091054Z
LAST-MODIFIED:20180321T091054Z
UID:10000973-1529834400-1529834400@www.ekg-hechtsheim.de
SUMMARY:Gottesdienst
DESCRIPTION:
URL:https://www.ekg-hechtsheim.de/veranstaltungen/gottesdienst-59/
LOCATION:16:00 - \, Deutschland
CATEGORIES:Gottesdienste
END:VEVENT
BEGIN:VEVENT
DTSTART;TZID=Europe/Paris:20180624T180000
DTEND;TZID=Europe/Paris:20180624T180000
DTSTAMP:20260426T011332
CREATED:20180508T091104Z
LAST-MODIFIED:20180508T091104Z
UID:10000437-1529863200-1529863200@www.ekg-hechtsheim.de
SUMMARY:Abend-Gottesdienst am Johannistag
DESCRIPTION:
URL:https://www.ekg-hechtsheim.de/veranstaltungen/abend-gottesdienst-am-johannistag/
LOCATION:Gemeindehaus Frankenhöhe\, Bodenheimer Straße 58\, Mainz\, 55129\, Deutschland
CATEGORIES:Gottesdienste
GEO:49.9667007;8.2872534
X-APPLE-STRUCTURED-LOCATION;VALUE=URI;X-ADDRESS=Gemeindehaus Frankenhöhe Bodenheimer Straße 58 Mainz 55129 Deutschland;X-APPLE-RADIUS=500;X-TITLE=Bodenheimer Straße 58:geo:8.2872534,49.9667007
END:VEVENT
BEGIN:VEVENT
DTSTART;TZID=Europe/Paris:20180625T170000
DTEND;TZID=Europe/Paris:20180625T190000
DTSTAMP:20260426T011332
CREATED:20180514T065945Z
LAST-MODIFIED:20180514T065945Z
UID:10001009-1529946000-1529953200@www.ekg-hechtsheim.de
SUMMARY:REGELMÄSSIG STATTFINDENDES CAFÉ DER BEGEGNUNG (FLÜCHTLINGSINITIATIVE AIH)
DESCRIPTION:Jeden zweiten und vierten Montag des Monats findet das „Café der Begegnung“ unserer ökumen. Flüchtlingsinitiative „Ankommen in Hechtsheim AIH“ statt.\nHier treffen sich Alt- und Neu-Hechtsheimer bei Kaffee und Kuchen zu netten Gesprächen. \nSchnuppern Sie doch mal rein\, wir freuen uns auf Sie …..
URL:https://www.ekg-hechtsheim.de/veranstaltungen/regelmaessig-stattfindendes-cafe-der-begegnung-fluechtlingsinitiative-aih-26/
LOCATION:Gemeindezentrum Lion-Feuchtwanger-Straße\, Lion-Feuchtwanger Str. 14\, Mainz\, 55129\, Deutschland
CATEGORIES:Kultur,Sonstiges
ORGANIZER;CN="%C3%96kumenische Fl%C3%BCchtlingsinitiative AIH":MAILTO:ankommen.in.hechtsheim@gmail.com
GEO:49.9621;8.2738908
X-APPLE-STRUCTURED-LOCATION;VALUE=URI;X-ADDRESS=Gemeindezentrum Lion-Feuchtwanger-Straße Lion-Feuchtwanger Str. 14 Mainz 55129 Deutschland;X-APPLE-RADIUS=500;X-TITLE=Lion-Feuchtwanger Str. 14:geo:8.2738908,49.9621
END:VEVENT
BEGIN:VEVENT
DTSTART;TZID=Europe/Paris:20180627T180000
DTEND;TZID=Europe/Paris:20180627T180000
DTSTAMP:20260426T011332
CREATED:20171206T081932Z
LAST-MODIFIED:20180904T083801Z
UID:10000777-1530122400-1530122400@www.ekg-hechtsheim.de
SUMMARY:Lust auf Singen?! - Ökumenisches Angebot zum Gemeinsamen Singen von Weltlichen und Geistlichen Liedern mit Klavierbegleitung
DESCRIPTION:
URL:https://www.ekg-hechtsheim.de/veranstaltungen/lust-auf-singen-oekumenisches-angebot-zum-gemeinsamen-singen-von-weltlichen-und-geistlichen-liedern-mit-klavierbegleitung/2018-06-27/
LOCATION:16:00 - \, Deutschland
CATEGORIES:Gemeinde
END:VEVENT
BEGIN:VEVENT
DTSTART;TZID=Europe/Paris:20180628T160000
DTEND;TZID=Europe/Paris:20180628T160000
DTSTAMP:20260426T011332
CREATED:20180508T091315Z
LAST-MODIFIED:20180508T091315Z
UID:10000438-1530201600-1530201600@www.ekg-hechtsheim.de
SUMMARY:Werktagsgottesdienst mit Abendmahl
DESCRIPTION:
URL:https://www.ekg-hechtsheim.de/veranstaltungen/werktagsgottesdienst-mit-abendmahl-37/
LOCATION:16:00 - \, Deutschland
CATEGORIES:Gottesdienste
END:VEVENT
END:VCALENDAR