BEGIN:VCALENDAR
VERSION:2.0
PRODID:-//Evangelische Kirchengemeinde Mainz-Hechtsheim - ECPv6.15.20//NONSGML v1.0//EN
CALSCALE:GREGORIAN
METHOD:PUBLISH
X-WR-CALNAME:Evangelische Kirchengemeinde Mainz-Hechtsheim
X-ORIGINAL-URL:https://www.ekg-hechtsheim.de
X-WR-CALDESC:Veranstaltungen für Evangelische Kirchengemeinde Mainz-Hechtsheim
REFRESH-INTERVAL;VALUE=DURATION:PT1H
X-Robots-Tag:noindex
X-PUBLISHED-TTL:PT1H
BEGIN:VTIMEZONE
TZID:Europe/Paris
BEGIN:DAYLIGHT
TZOFFSETFROM:+0100
TZOFFSETTO:+0200
TZNAME:CEST
DTSTART:20170326T010000
END:DAYLIGHT
BEGIN:STANDARD
TZOFFSETFROM:+0200
TZOFFSETTO:+0100
TZNAME:CET
DTSTART:20171029T010000
END:STANDARD
BEGIN:DAYLIGHT
TZOFFSETFROM:+0100
TZOFFSETTO:+0200
TZNAME:CEST
DTSTART:20180325T010000
END:DAYLIGHT
BEGIN:STANDARD
TZOFFSETFROM:+0200
TZOFFSETTO:+0100
TZNAME:CET
DTSTART:20181028T010000
END:STANDARD
BEGIN:DAYLIGHT
TZOFFSETFROM:+0100
TZOFFSETTO:+0200
TZNAME:CEST
DTSTART:20190331T010000
END:DAYLIGHT
BEGIN:STANDARD
TZOFFSETFROM:+0200
TZOFFSETTO:+0100
TZNAME:CET
DTSTART:20191027T010000
END:STANDARD
END:VTIMEZONE
BEGIN:VEVENT
DTSTART;VALUE=DATE:20180501
DTEND;VALUE=DATE:20180502
DTSTAMP:20260426T023953
CREATED:20180228T091116Z
LAST-MODIFIED:20180228T091339Z
UID:10000396-1525132800-1525219199@www.ekg-hechtsheim.de
SUMMARY:Kleidersammlung für die Stiftung Nieder-Ramstädter Diakonie in der Woche vom 30. April bis 05. Mai
DESCRIPTION:Sammelstellen sind das Gemeindezentrum und das Gemeindehaus
URL:https://www.ekg-hechtsheim.de/veranstaltungen/kleidersammlung-fuer-die-stiftung-nieder-ramstaedter-diakonie-in-der-woche-vom-30-april-bis-05-mai-am-gemeindezentrum-und-am-gemeindehaus/2018-05-01/
CATEGORIES:Gemeinde
END:VEVENT
BEGIN:VEVENT
DTSTART;VALUE=DATE:20180502
DTEND;VALUE=DATE:20180503
DTSTAMP:20260426T023953
CREATED:20180228T091116Z
LAST-MODIFIED:20180228T091339Z
UID:10000397-1525219200-1525305599@www.ekg-hechtsheim.de
SUMMARY:Kleidersammlung für die Stiftung Nieder-Ramstädter Diakonie in der Woche vom 30. April bis 05. Mai
DESCRIPTION:Sammelstellen sind das Gemeindezentrum und das Gemeindehaus
URL:https://www.ekg-hechtsheim.de/veranstaltungen/kleidersammlung-fuer-die-stiftung-nieder-ramstaedter-diakonie-in-der-woche-vom-30-april-bis-05-mai-am-gemeindezentrum-und-am-gemeindehaus/2018-05-02/
CATEGORIES:Gemeinde
END:VEVENT
BEGIN:VEVENT
DTSTART;VALUE=DATE:20180503
DTEND;VALUE=DATE:20180504
DTSTAMP:20260426T023953
CREATED:20180228T091116Z
LAST-MODIFIED:20180228T091339Z
UID:10000398-1525305600-1525391999@www.ekg-hechtsheim.de
SUMMARY:Kleidersammlung für die Stiftung Nieder-Ramstädter Diakonie in der Woche vom 30. April bis 05. Mai
DESCRIPTION:Sammelstellen sind das Gemeindezentrum und das Gemeindehaus
URL:https://www.ekg-hechtsheim.de/veranstaltungen/kleidersammlung-fuer-die-stiftung-nieder-ramstaedter-diakonie-in-der-woche-vom-30-april-bis-05-mai-am-gemeindezentrum-und-am-gemeindehaus/2018-05-03/
CATEGORIES:Gemeinde
END:VEVENT
BEGIN:VEVENT
DTSTART;TZID=Europe/Paris:20180503T160000
DTEND;TZID=Europe/Paris:20180503T160000
DTSTAMP:20260426T023953
CREATED:20180314T075410Z
LAST-MODIFIED:20180314T075410Z
UID:10000414-1525363200-1525363200@www.ekg-hechtsheim.de
SUMMARY:Werktagsgottesdienst mit Abendmahl
DESCRIPTION:
URL:https://www.ekg-hechtsheim.de/veranstaltungen/werktagsgottesdienst-mit-abendmahl-33/
LOCATION:16:00 - \, Deutschland
CATEGORIES:Gottesdienste
END:VEVENT
BEGIN:VEVENT
DTSTART;TZID=Europe/Paris:20180503T200000
DTEND;TZID=Europe/Paris:20180503T200000
DTSTAMP:20260426T023953
CREATED:20180228T084526Z
LAST-MODIFIED:20180228T084526Z
UID:10000035-1525377600-1525377600@www.ekg-hechtsheim.de
SUMMARY:"Taufe - Quelle lebendigen Wassers umsonst" - Ein Abend zum Austausch\, zum Fragen\, zum Antworten
DESCRIPTION:Ein Abend für Menschen\, \n…die dem\, was ihnen ihre eigene Taufe bedeutet\, auf die Spur kommen möchten \n…die sich für biblische und historische Hintergründe interessieren \n…die gemeinsam nachdenken wollen über die Zusage der Taufe \n…die gemeinsam nachdenken wollen über den Auftrag der Taufe
URL:https://www.ekg-hechtsheim.de/veranstaltungen/taufe-quelle-lebendigen-wassers-umsonst-ein-abend-zum-austausch-zum-fragen-zum-antworten/
LOCATION:Gemeindehaus Frankenhöhe\, Bodenheimer Straße 58\, Mainz\, 55129\, Deutschland
CATEGORIES:Gemeinde
GEO:49.9667007;8.2872534
X-APPLE-STRUCTURED-LOCATION;VALUE=URI;X-ADDRESS=Gemeindehaus Frankenhöhe Bodenheimer Straße 58 Mainz 55129 Deutschland;X-APPLE-RADIUS=500;X-TITLE=Bodenheimer Straße 58:geo:8.2872534,49.9667007
END:VEVENT
BEGIN:VEVENT
DTSTART;VALUE=DATE:20180504
DTEND;VALUE=DATE:20180505
DTSTAMP:20260426T023953
CREATED:20180228T091116Z
LAST-MODIFIED:20180228T091339Z
UID:10000399-1525392000-1525478399@www.ekg-hechtsheim.de
SUMMARY:Kleidersammlung für die Stiftung Nieder-Ramstädter Diakonie in der Woche vom 30. April bis 05. Mai
DESCRIPTION:Sammelstellen sind das Gemeindezentrum und das Gemeindehaus
URL:https://www.ekg-hechtsheim.de/veranstaltungen/kleidersammlung-fuer-die-stiftung-nieder-ramstaedter-diakonie-in-der-woche-vom-30-april-bis-05-mai-am-gemeindezentrum-und-am-gemeindehaus/2018-05-04/
CATEGORIES:Gemeinde
END:VEVENT
BEGIN:VEVENT
DTSTART;VALUE=DATE:20180505
DTEND;VALUE=DATE:20180506
DTSTAMP:20260426T023953
CREATED:20180228T091116Z
LAST-MODIFIED:20180228T091339Z
UID:10000400-1525478400-1525564799@www.ekg-hechtsheim.de
SUMMARY:Kleidersammlung für die Stiftung Nieder-Ramstädter Diakonie in der Woche vom 30. April bis 05. Mai
DESCRIPTION:Sammelstellen sind das Gemeindezentrum und das Gemeindehaus
URL:https://www.ekg-hechtsheim.de/veranstaltungen/kleidersammlung-fuer-die-stiftung-nieder-ramstaedter-diakonie-in-der-woche-vom-30-april-bis-05-mai-am-gemeindezentrum-und-am-gemeindehaus/2018-05-05/
CATEGORIES:Gemeinde
END:VEVENT
BEGIN:VEVENT
DTSTART;TZID=Europe/Paris:20180506T100000
DTEND;TZID=Europe/Paris:20180506T100000
DTSTAMP:20260426T023953
CREATED:20180314T075534Z
LAST-MODIFIED:20180314T075534Z
UID:10000416-1525600800-1525600800@www.ekg-hechtsheim.de
SUMMARY:Gottesdienst
DESCRIPTION:
URL:https://www.ekg-hechtsheim.de/veranstaltungen/gottesdienst-52/
LOCATION:16:00 - \, Deutschland
CATEGORIES:Gottesdienste
END:VEVENT
BEGIN:VEVENT
DTSTART;TZID=Europe/Paris:20180506T110000
DTEND;TZID=Europe/Paris:20180506T110000
DTSTAMP:20260426T023953
CREATED:20180314T075612Z
LAST-MODIFIED:20180314T075612Z
UID:10000927-1525604400-1525604400@www.ekg-hechtsheim.de
SUMMARY:KEIN Gottesdienst im Gemeindehaus
DESCRIPTION:
URL:https://www.ekg-hechtsheim.de/veranstaltungen/kein-gottesdienst-im-gemeindehaus/
LOCATION:Gemeindehaus Frankenhöhe\, Bodenheimer Straße 58\, Mainz\, 55129\, Deutschland
CATEGORIES:Gottesdienste
GEO:49.9667007;8.2872534
X-APPLE-STRUCTURED-LOCATION;VALUE=URI;X-ADDRESS=Gemeindehaus Frankenhöhe Bodenheimer Straße 58 Mainz 55129 Deutschland;X-APPLE-RADIUS=500;X-TITLE=Bodenheimer Straße 58:geo:8.2872534,49.9667007
END:VEVENT
BEGIN:VEVENT
DTSTART;TZID=Europe/Paris:20180508T181500
DTEND;TZID=Europe/Paris:20180508T181500
DTSTAMP:20260426T023953
CREATED:20180314T075255Z
LAST-MODIFIED:20180314T075255Z
UID:10000409-1525803300-1525803300@www.ekg-hechtsheim.de
SUMMARY:Jugendtreff Hechtsheim - Für alle Vor-\, Ex- und aktuellen Konfirmanden
DESCRIPTION:
URL:https://www.ekg-hechtsheim.de/veranstaltungen/jugendtreff-hechtsheim-fuer-alle-vor-ex-und-aktuellen-konfirmanden-13/2018-05-08/
LOCATION:Gemeindehaus Frankenhöhe\, Bodenheimer Straße 58\, Mainz\, 55129\, Deutschland
CATEGORIES:Gemeinde
GEO:49.9667007;8.2872534
X-APPLE-STRUCTURED-LOCATION;VALUE=URI;X-ADDRESS=Gemeindehaus Frankenhöhe Bodenheimer Straße 58 Mainz 55129 Deutschland;X-APPLE-RADIUS=500;X-TITLE=Bodenheimer Straße 58:geo:8.2872534,49.9667007
END:VEVENT
BEGIN:VEVENT
DTSTART;TZID=Europe/Paris:20180509T193000
DTEND;TZID=Europe/Paris:20180509T193000
DTSTAMP:20260426T023953
CREATED:20180314T075806Z
LAST-MODIFIED:20180314T075806Z
UID:10000931-1525894200-1525894200@www.ekg-hechtsheim.de
SUMMARY:Meditatives Tanzen
DESCRIPTION:
URL:https://www.ekg-hechtsheim.de/veranstaltungen/meditatives-tanzen-3/
LOCATION:Gemeindehaus Frankenhöhe\, Bodenheimer Straße 58\, Mainz\, 55129\, Deutschland
CATEGORIES:Gemeinde
GEO:49.9667007;8.2872534
X-APPLE-STRUCTURED-LOCATION;VALUE=URI;X-ADDRESS=Gemeindehaus Frankenhöhe Bodenheimer Straße 58 Mainz 55129 Deutschland;X-APPLE-RADIUS=500;X-TITLE=Bodenheimer Straße 58:geo:8.2872534,49.9667007
END:VEVENT
BEGIN:VEVENT
DTSTART;TZID=Europe/Paris:20180510T110000
DTEND;TZID=Europe/Paris:20180510T110000
DTSTAMP:20260426T023953
CREATED:20180314T080858Z
LAST-MODIFIED:20180427T173749Z
UID:10000936-1525950000-1525950000@www.ekg-hechtsheim.de
SUMMARY:Internationales Kirchenfest in der Altmünster-Gemeinde - Gottesdienst an Christi Himmelfahrt
DESCRIPTION:Liebe Interessenten\, \nDiejenigen\, die mit dem Fahrrad zum Internationalen Kirchenfest (ab 11:00 Uhr) in der Altmünstergemeinde fahren möchten\, sollten sich am 10. Mai um 10:15 Uhr vor dem Gemeindezentrum Lion-Feuchtwanger-Str. treffen. \nIch führe sie dann auf geeigneten Fahrradwegen zur Altmünsterkirche in der Walpodenstraße. \nIhr Jürgen Witzig \nHier zur Info der Link: \nhttps://altmuenster-mainz.ekhn.de/startseite/events-detail/events/himmelfahrt-internationales-kirchenfest.html?bpid=21369&cHash=6ffb0e46b7487cf74961c8812d022799 \n 
URL:https://www.ekg-hechtsheim.de/veranstaltungen/internationales-kirchenfest-in-der-altmuenster-gemeinde-gottesdienst-an-christi-himmelfahrt/
LOCATION:16:00 - \, Deutschland
CATEGORIES:Gottesdienste
END:VEVENT
BEGIN:VEVENT
DTSTART;TZID=Europe/Paris:20180511T193000
DTEND;TZID=Europe/Paris:20180511T193000
DTSTAMP:20260426T023953
CREATED:20180228T083251Z
LAST-MODIFIED:20180228T083251Z
UID:10000050-1526067000-1526067000@www.ekg-hechtsheim.de
SUMMARY:HECHTSHEIM LIEST! - Menschen aus Hechtsheim lesen aus Texten ihrer Wahl - Diesmal lesen: Christiane Prätorius und Reinhard Schwarz
DESCRIPTION:Moderation: Brigitte Zander; \nIm Anschluss besteht Gelegenheit zur Begegnung und zu Gesprächen bei einem Büchertisch der Buchhandlung Ruthmann
URL:https://www.ekg-hechtsheim.de/veranstaltungen/hechtsheim-liest-menschen-aus-hechtsheim-lesen-aus-texten-ihrer-wahl-diesmal-lesen-christiane-praetorius-und-reinhard-schwarz/
LOCATION:16:00 - \, Deutschland
CATEGORIES:Gemeinde
END:VEVENT
BEGIN:VEVENT
DTSTART;TZID=Europe/Paris:20180512T150000
DTEND;TZID=Europe/Paris:20180512T150000
DTSTAMP:20260426T023953
CREATED:20171206T081038Z
LAST-MODIFIED:20171206T081038Z
UID:10000767-1526137200-1526137200@www.ekg-hechtsheim.de
SUMMARY:Seniorenclub - Frühlingsgeflüster - Marita Manguay-Becht und Hans Becht
DESCRIPTION:
URL:https://www.ekg-hechtsheim.de/veranstaltungen/seniorenclub-fruehlingsgefluester-marita-manguay-becht-und-hans-becht/
LOCATION:16:00 - \, Deutschland
CATEGORIES:Gemeinde
END:VEVENT
BEGIN:VEVENT
DTSTART;TZID=Europe/Paris:20180513T100000
DTEND;TZID=Europe/Paris:20180513T100000
DTSTAMP:20260426T023953
CREATED:20180314T082348Z
LAST-MODIFIED:20180503T121109Z
UID:10000937-1526205600-1526205600@www.ekg-hechtsheim.de
SUMMARY:Gottesdienst
DESCRIPTION:
URL:https://www.ekg-hechtsheim.de/veranstaltungen/gottesdienst-53/
LOCATION:16:00 - \, Deutschland
CATEGORIES:Gottesdienste
END:VEVENT
BEGIN:VEVENT
DTSTART;TZID=Europe/Paris:20180513T110000
DTEND;TZID=Europe/Paris:20180513T110000
DTSTAMP:20260426T023953
CREATED:20180314T082450Z
LAST-MODIFIED:20180503T121153Z
UID:10000938-1526209200-1526209200@www.ekg-hechtsheim.de
SUMMARY:Kinderkirche
DESCRIPTION:
URL:https://www.ekg-hechtsheim.de/veranstaltungen/gottesdienst-54/
LOCATION:Gemeindehaus Frankenhöhe\, Bodenheimer Straße 58\, Mainz\, 55129\, Deutschland
CATEGORIES:Gottesdienste
GEO:49.9667007;8.2872534
X-APPLE-STRUCTURED-LOCATION;VALUE=URI;X-ADDRESS=Gemeindehaus Frankenhöhe Bodenheimer Straße 58 Mainz 55129 Deutschland;X-APPLE-RADIUS=500;X-TITLE=Bodenheimer Straße 58:geo:8.2872534,49.9667007
END:VEVENT
BEGIN:VEVENT
DTSTART;TZID=Europe/Paris:20180514T170000
DTEND;TZID=Europe/Paris:20180514T190000
DTSTAMP:20260426T023953
CREATED:20180514T065634Z
LAST-MODIFIED:20180514T065700Z
UID:10000968-1526317200-1526324400@www.ekg-hechtsheim.de
SUMMARY:REGELMÄSSIG STATTFINDENDES CAFÉ DER BEGEGNUNG (FLÜCHTLINGSINITIATIVE AIH)
DESCRIPTION:Zum letzten mal vor dem Ramadan (15.05.-15.06.):\nJeden zweiten und vierten Montag des Monats findet das „Café der Begegnung“ unserer ökumen. Flüchtlingsinitiative „Ankommen in Hechtsheim AIH“ statt.\nHier treffen sich Alt- und Neu-Hechtsheimer bei Kaffee und Kuchen zu netten Gesprächen. \nSchnuppern Sie doch mal rein\, wir freuen uns auf Sie ….. und wenn Sie es nicht schaffen\, dann gerne wieder Montag 25.06. zur gleichen Zeit.
URL:https://www.ekg-hechtsheim.de/veranstaltungen/regelmaessig-stattfindendes-cafe-der-begegnung-fluechtlingsinitiative-aih-25/
LOCATION:Gemeindezentrum Lion-Feuchtwanger-Straße\, Lion-Feuchtwanger Str. 14\, Mainz\, 55129\, Deutschland
CATEGORIES:Kultur,Sonstiges
ORGANIZER;CN="%C3%96kumenische Fl%C3%BCchtlingsinitiative AIH":MAILTO:ankommen.in.hechtsheim@gmail.com
GEO:49.9621;8.2738908
X-APPLE-STRUCTURED-LOCATION;VALUE=URI;X-ADDRESS=Gemeindezentrum Lion-Feuchtwanger-Straße Lion-Feuchtwanger Str. 14 Mainz 55129 Deutschland;X-APPLE-RADIUS=500;X-TITLE=Lion-Feuchtwanger Str. 14:geo:8.2738908,49.9621
END:VEVENT
BEGIN:VEVENT
DTSTART;TZID=Europe/Paris:20180515T181500
DTEND;TZID=Europe/Paris:20180515T181500
DTSTAMP:20260426T023953
CREATED:20180314T080428Z
LAST-MODIFIED:20180314T080428Z
UID:10000406-1526408100-1526408100@www.ekg-hechtsheim.de
SUMMARY:Jugendtreff Hechtsheim - Für alle Vor-\, Ex- und aktuellen Konfirmanden
DESCRIPTION:
URL:https://www.ekg-hechtsheim.de/veranstaltungen/jugendtreff-hechtsheim-fuer-alle-vor-ex-und-aktuellen-konfirmanden-14/2018-05-15/
LOCATION:16:00 - \, Deutschland
CATEGORIES:Gemeinde
END:VEVENT
BEGIN:VEVENT
DTSTART;TZID=Europe/Paris:20180517T160000
DTEND;TZID=Europe/Paris:20180517T160000
DTSTAMP:20260426T023953
CREATED:20180321T085048Z
LAST-MODIFIED:20180508T082101Z
UID:10000429-1526572800-1526572800@www.ekg-hechtsheim.de
SUMMARY:Werktagsgottesdienst mit Abendmahl
DESCRIPTION:
URL:https://www.ekg-hechtsheim.de/veranstaltungen/werktagsgottesdienst-mit-abendmahl-34/
LOCATION:16:00 - \, Deutschland
CATEGORIES:Gottesdienste
END:VEVENT
BEGIN:VEVENT
DTSTART;TZID=Europe/Paris:20180518T203000
DTEND;TZID=Europe/Paris:20180518T203000
DTSTAMP:20260426T023953
CREATED:20180228T091750Z
LAST-MODIFIED:20180228T091750Z
UID:10000895-1526675400-1526675400@www.ekg-hechtsheim.de
SUMMARY:Ökumenische Pfingstkomplet (Nachtgebet) mit Übergabe der handgeschriebenen ökumenischen Bibel von der katholischen an die evangelische Gemeinde
DESCRIPTION:Im Anschluss laden wir ein zum Gespräch und Zusammensein bei einem Glas Wein
URL:https://www.ekg-hechtsheim.de/veranstaltungen/oekumenische-pfingstkomplet-nachtgebet-mit-uebergabe-der-handgeschriebenen-oekumenischen-bibel-von-der-katholischen-an-die-evangelische-gemeinde/
LOCATION:16:00 - \, Deutschland
CATEGORIES:Gottesdienste
END:VEVENT
BEGIN:VEVENT
DTSTART;TZID=Europe/Paris:20180520T100000
DTEND;TZID=Europe/Paris:20180520T100000
DTSTAMP:20260426T023953
CREATED:20180321T082035Z
LAST-MODIFIED:20180321T082035Z
UID:10000953-1526810400-1526810400@www.ekg-hechtsheim.de
SUMMARY:Gottesdienst an Pfingsten
DESCRIPTION:
URL:https://www.ekg-hechtsheim.de/veranstaltungen/gottesdienst-an-pfingsten/
LOCATION:16:00 - \, Deutschland
CATEGORIES:Gottesdienste
END:VEVENT
BEGIN:VEVENT
DTSTART;TZID=Europe/Paris:20180520T110000
DTEND;TZID=Europe/Paris:20180520T110000
DTSTAMP:20260426T023953
CREATED:20180321T082124Z
LAST-MODIFIED:20180321T082124Z
UID:10000955-1526814000-1526814000@www.ekg-hechtsheim.de
SUMMARY:Gottesdienst an Pfingsten
DESCRIPTION:
URL:https://www.ekg-hechtsheim.de/veranstaltungen/gottesdienst-an-pfingsten-2/
LOCATION:Gemeindehaus Frankenhöhe\, Bodenheimer Straße 58\, Mainz\, 55129\, Deutschland
CATEGORIES:Gottesdienste
GEO:49.9667007;8.2872534
X-APPLE-STRUCTURED-LOCATION;VALUE=URI;X-ADDRESS=Gemeindehaus Frankenhöhe Bodenheimer Straße 58 Mainz 55129 Deutschland;X-APPLE-RADIUS=500;X-TITLE=Bodenheimer Straße 58:geo:8.2872534,49.9667007
END:VEVENT
BEGIN:VEVENT
DTSTART;TZID=Europe/Paris:20180521T193000
DTEND;TZID=Europe/Paris:20180521T210000
DTSTAMP:20260426T023953
CREATED:20171218T090742Z
LAST-MODIFIED:20180108T083306Z
UID:10000287-1526931000-1526936400@www.ekg-hechtsheim.de
SUMMARY:Abend in der Stille
DESCRIPTION:Einmal im Monat findet ein Abend in der Stille in der Regel am 3. Montag im Monat im Gemeindezentrum von 19.30 – 21  Uhr (außer in den Schulferien) statt. \nExerzitien im Alltag sind ein Weg\, auf dem wir einüben können\, den Alltag bewusster und aufmerksamer wahrzunehmen und Gott dort zu entdecken\, wo er sich von uns finden lassen möchte: mitten im Leben. \nAus dem Projekt in der Passionszeit 2016 ist der Wunsch entstanden\, regelmäßig\, einmal im Monat\, solche „Exerzitien im Alltag“ miteinander zu teilen und in Gemeinschaft einen solchen Weg zu gehen. \nEinmal im Monat sind alle Interessierten eingeladen zusammen zu kommen: zum Einüben verschiedener Formen von Zeiten der Stille\, Meditation über biblischen Worten und Gebet\, zum Austausch über die Erfahrungen. \nTermine in 2018: 22. Januar\, 19. Februar\,  19. März\, 23. April 21. Mai\, 18. Juni\, im Juli Pause wegen Sommerferien. \nBequeme Kleidung\, möglicherweise eine wärmende Decke oder Wollsocken\, um im Sitzen und Schweigen einen warmen Rücken und warme Füße zu behalten\, bringen Sie bitte dazu von zu Hause mit.
URL:https://www.ekg-hechtsheim.de/veranstaltungen/abend-in-der-stille-mit-den-perlen-des-glaubens-beten-und-ueber-gott-und-die-welt-gemeinsam-nachsinnen-2018-04-16/2018-05-21/
LOCATION:16:00 - \, Deutschland
CATEGORIES:Gottesdienste
END:VEVENT
BEGIN:VEVENT
DTSTART;TZID=Europe/Paris:20180522T181500
DTEND;TZID=Europe/Paris:20180522T181500
DTSTAMP:20260426T023953
CREATED:20180314T075255Z
LAST-MODIFIED:20180314T075255Z
UID:10000410-1527012900-1527012900@www.ekg-hechtsheim.de
SUMMARY:Jugendtreff Hechtsheim - Für alle Vor-\, Ex- und aktuellen Konfirmanden
DESCRIPTION:
URL:https://www.ekg-hechtsheim.de/veranstaltungen/jugendtreff-hechtsheim-fuer-alle-vor-ex-und-aktuellen-konfirmanden-13/2018-05-22/
LOCATION:Gemeindehaus Frankenhöhe\, Bodenheimer Straße 58\, Mainz\, 55129\, Deutschland
CATEGORIES:Gemeinde
GEO:49.9667007;8.2872534
X-APPLE-STRUCTURED-LOCATION;VALUE=URI;X-ADDRESS=Gemeindehaus Frankenhöhe Bodenheimer Straße 58 Mainz 55129 Deutschland;X-APPLE-RADIUS=500;X-TITLE=Bodenheimer Straße 58:geo:8.2872534,49.9667007
END:VEVENT
BEGIN:VEVENT
DTSTART;TZID=Europe/Paris:20180523T150000
DTEND;TZID=Europe/Paris:20180523T150000
DTSTAMP:20260426T023953
CREATED:20180508T082517Z
LAST-MODIFIED:20180508T082517Z
UID:10001002-1527087600-1527087600@www.ekg-hechtsheim.de
SUMMARY:Kindermusical-Aufführung "Noah und die coole Arche"
DESCRIPTION:
URL:https://www.ekg-hechtsheim.de/veranstaltungen/kindermusical-auffuehrung-noah-und-die-coole-arche/
LOCATION:16:00 - \, Deutschland
CATEGORIES:Gemeinde
END:VEVENT
BEGIN:VEVENT
DTSTART;TZID=Europe/Paris:20180523T180000
DTEND;TZID=Europe/Paris:20180523T180000
DTSTAMP:20260426T023953
CREATED:20171206T081932Z
LAST-MODIFIED:20180904T083801Z
UID:10000776-1527098400-1527098400@www.ekg-hechtsheim.de
SUMMARY:Lust auf Singen?! - Ökumenisches Angebot zum Gemeinsamen Singen von Weltlichen und Geistlichen Liedern mit Klavierbegleitung
DESCRIPTION:
URL:https://www.ekg-hechtsheim.de/veranstaltungen/lust-auf-singen-oekumenisches-angebot-zum-gemeinsamen-singen-von-weltlichen-und-geistlichen-liedern-mit-klavierbegleitung/2018-05-23/
LOCATION:16:00 - \, Deutschland
CATEGORIES:Gemeinde
END:VEVENT
BEGIN:VEVENT
DTSTART;TZID=Europe/Paris:20180525T200000
DTEND;TZID=Europe/Paris:20180525T200000
DTSTAMP:20260426T023953
CREATED:20180321T082627Z
LAST-MODIFIED:20180321T082627Z
UID:10000969-1527278400-1527278400@www.ekg-hechtsheim.de
SUMMARY:CVJM-Spiele-Abend
DESCRIPTION:
URL:https://www.ekg-hechtsheim.de/veranstaltungen/cvjm-spiele-abend-6/
LOCATION:16:00 - \, Deutschland
CATEGORIES:Gottesdienste
END:VEVENT
BEGIN:VEVENT
DTSTART;TZID=Europe/Paris:20180526T190000
DTEND;TZID=Europe/Paris:20180526T190000
DTSTAMP:20260426T023953
CREATED:20180508T081920Z
LAST-MODIFIED:20180508T081920Z
UID:10001001-1527361200-1527361200@www.ekg-hechtsheim.de
SUMMARY:Vorabend-Gottesdienst zur Konfirmation mit Abendmahl
DESCRIPTION:
URL:https://www.ekg-hechtsheim.de/veranstaltungen/vorabend-gottesdienst-zur-konfirmation-mit-abendmahl-2/
LOCATION:Gemeindehaus Frankenhöhe\, Bodenheimer Straße 58\, Mainz\, 55129\, Deutschland
CATEGORIES:Gottesdienste
GEO:49.9667007;8.2872534
X-APPLE-STRUCTURED-LOCATION;VALUE=URI;X-ADDRESS=Gemeindehaus Frankenhöhe Bodenheimer Straße 58 Mainz 55129 Deutschland;X-APPLE-RADIUS=500;X-TITLE=Bodenheimer Straße 58:geo:8.2872534,49.9667007
END:VEVENT
BEGIN:VEVENT
DTSTART;TZID=Europe/Paris:20180527T091500
DTEND;TZID=Europe/Paris:20180527T091500
DTSTAMP:20260426T023953
CREATED:20171204T110945Z
LAST-MODIFIED:20180508T081435Z
UID:10000730-1527412500-1527412500@www.ekg-hechtsheim.de
SUMMARY:Konfirmation im Gemeindehaus
DESCRIPTION:
URL:https://www.ekg-hechtsheim.de/veranstaltungen/konfirmation-im-gemeindehaus/
LOCATION:Gemeindehaus Frankenhöhe\, Bodenheimer Straße 58\, Mainz\, 55129\, Deutschland
CATEGORIES:Gottesdienste
GEO:49.9667007;8.2872534
X-APPLE-STRUCTURED-LOCATION;VALUE=URI;X-ADDRESS=Gemeindehaus Frankenhöhe Bodenheimer Straße 58 Mainz 55129 Deutschland;X-APPLE-RADIUS=500;X-TITLE=Bodenheimer Straße 58:geo:8.2872534,49.9667007
END:VEVENT
BEGIN:VEVENT
DTSTART;TZID=Europe/Paris:20180527T100000
DTEND;TZID=Europe/Paris:20180527T100000
DTSTAMP:20260426T023953
CREATED:20180321T082850Z
LAST-MODIFIED:20180321T082850Z
UID:10000970-1527415200-1527415200@www.ekg-hechtsheim.de
SUMMARY:Gottesdienst
DESCRIPTION:
URL:https://www.ekg-hechtsheim.de/veranstaltungen/gottesdienst-55/
LOCATION:16:00 - \, Deutschland
CATEGORIES:Gottesdienste
END:VEVENT
END:VCALENDAR