BEGIN:VCALENDAR
VERSION:2.0
PRODID:-//Evangelische Kirchengemeinde Mainz-Hechtsheim - ECPv6.15.20//NONSGML v1.0//EN
CALSCALE:GREGORIAN
METHOD:PUBLISH
X-WR-CALNAME:Evangelische Kirchengemeinde Mainz-Hechtsheim
X-ORIGINAL-URL:https://www.ekg-hechtsheim.de
X-WR-CALDESC:Veranstaltungen für Evangelische Kirchengemeinde Mainz-Hechtsheim
REFRESH-INTERVAL;VALUE=DURATION:PT1H
X-Robots-Tag:noindex
X-PUBLISHED-TTL:PT1H
BEGIN:VTIMEZONE
TZID:Europe/Paris
BEGIN:DAYLIGHT
TZOFFSETFROM:+0100
TZOFFSETTO:+0200
TZNAME:CEST
DTSTART:20170326T010000
END:DAYLIGHT
BEGIN:STANDARD
TZOFFSETFROM:+0200
TZOFFSETTO:+0100
TZNAME:CET
DTSTART:20171029T010000
END:STANDARD
BEGIN:DAYLIGHT
TZOFFSETFROM:+0100
TZOFFSETTO:+0200
TZNAME:CEST
DTSTART:20180325T010000
END:DAYLIGHT
BEGIN:STANDARD
TZOFFSETFROM:+0200
TZOFFSETTO:+0100
TZNAME:CET
DTSTART:20181028T010000
END:STANDARD
BEGIN:DAYLIGHT
TZOFFSETFROM:+0100
TZOFFSETTO:+0200
TZNAME:CEST
DTSTART:20190331T010000
END:DAYLIGHT
BEGIN:STANDARD
TZOFFSETFROM:+0200
TZOFFSETTO:+0100
TZNAME:CET
DTSTART:20191027T010000
END:STANDARD
END:VTIMEZONE
BEGIN:VEVENT
DTSTART;TZID=Europe/Paris:20180401T060000
DTEND;TZID=Europe/Paris:20180401T060000
DTSTAMP:20260426T040415
CREATED:20180221T110056Z
LAST-MODIFIED:20180325T183709Z
UID:10000389-1522562400-1522562400@www.ekg-hechtsheim.de
SUMMARY:Gemeindezentrum Hechtsheim – "Aus dem Dunkeln zum Licht" Frühgottesdienst mit Osterfeuer
DESCRIPTION:
URL:https://www.ekg-hechtsheim.de/veranstaltungen/aus-dem-dunkeln-zum-licht-fruehgottesdienst-mit-osterfeuer/
LOCATION:16:00 - \, Deutschland
CATEGORIES:Gottesdienste
END:VEVENT
BEGIN:VEVENT
DTSTART;TZID=Europe/Paris:20180401T110000
DTEND;TZID=Europe/Paris:20180401T110000
DTSTAMP:20260426T040415
CREATED:20180221T110204Z
LAST-MODIFIED:20180321T091442Z
UID:10000390-1522580400-1522580400@www.ekg-hechtsheim.de
SUMMARY:Gemeindehaus Frankenhöhe "Im hellen Licht" - Ostergottesdienst
DESCRIPTION:
URL:https://www.ekg-hechtsheim.de/veranstaltungen/im-hellen-licht-ostergottesdienst/
LOCATION:Gemeindehaus Frankenhöhe\, Bodenheimer Straße 58\, Mainz\, 55129\, Deutschland
CATEGORIES:Gottesdienste
GEO:49.9667007;8.2872534
X-APPLE-STRUCTURED-LOCATION;VALUE=URI;X-ADDRESS=Gemeindehaus Frankenhöhe Bodenheimer Straße 58 Mainz 55129 Deutschland;X-APPLE-RADIUS=500;X-TITLE=Bodenheimer Straße 58:geo:8.2872534,49.9667007
END:VEVENT
BEGIN:VEVENT
DTSTART;TZID=Europe/Paris:20180402T100000
DTEND;TZID=Europe/Paris:20180402T100000
DTSTAMP:20260426T040415
CREATED:20180221T110304Z
LAST-MODIFIED:20180325T183843Z
UID:10000391-1522663200-1522663200@www.ekg-hechtsheim.de
SUMMARY:Gemeindezentrum Hechtsheim – "Auf ihn sehen - durch ihn die Welt sehen" Gottesdienst mit Abendmahl
DESCRIPTION:
URL:https://www.ekg-hechtsheim.de/veranstaltungen/auf-ihn-sehen-durch-ihn-die-welt-sehen-gottesdienst-mit-abendmahl/
LOCATION:16:00 - \, Deutschland
CATEGORIES:Gottesdienste
END:VEVENT
BEGIN:VEVENT
DTSTART;TZID=Europe/Paris:20180405T160000
DTEND;TZID=Europe/Paris:20180405T160000
DTSTAMP:20260426T040415
CREATED:20180313T104926Z
LAST-MODIFIED:20180313T104926Z
UID:10000394-1522944000-1522944000@www.ekg-hechtsheim.de
SUMMARY:Werktagsgottesdienst mit Abendmahl
DESCRIPTION:
URL:https://www.ekg-hechtsheim.de/veranstaltungen/werktagsgottesdienst-mit-abendmahl-32/
LOCATION:16:00 - \, Deutschland
CATEGORIES:Gottesdienste
END:VEVENT
BEGIN:VEVENT
DTSTART;TZID=Europe/Paris:20180408T100000
DTEND;TZID=Europe/Paris:20180408T100000
DTSTAMP:20260426T040415
CREATED:20180313T105018Z
LAST-MODIFIED:20180325T184038Z
UID:10000916-1523181600-1523181600@www.ekg-hechtsheim.de
SUMMARY:Gemeindezentrum Hechtsheim – Gottesdienst
DESCRIPTION:
URL:https://www.ekg-hechtsheim.de/veranstaltungen/gottesdienst-49/
LOCATION:16:00 - \, Deutschland
CATEGORIES:Gottesdienste
END:VEVENT
BEGIN:VEVENT
DTSTART;TZID=Europe/Paris:20180408T110000
DTEND;TZID=Europe/Paris:20180408T110000
DTSTAMP:20260426T040416
CREATED:20180313T105057Z
LAST-MODIFIED:20180313T105057Z
UID:10000881-1523185200-1523185200@www.ekg-hechtsheim.de
SUMMARY:Keine Kinderkirche im Gemeindehaus
DESCRIPTION:
URL:https://www.ekg-hechtsheim.de/veranstaltungen/keine-kinderkirche-im-gemeindehaus/
CATEGORIES:Gottesdienste
END:VEVENT
BEGIN:VEVENT
DTSTART;TZID=Europe/Paris:20180409T170000
DTEND;TZID=Europe/Paris:20180409T190000
DTSTAMP:20260426T040416
CREATED:20180126T105722Z
LAST-MODIFIED:20180126T105746Z
UID:10000860-1523293200-1523300400@www.ekg-hechtsheim.de
SUMMARY:Regelmäßig stattfindendes CAFÉ DER BEGEGNUNG (Flüchtlingsinitiative AIH
DESCRIPTION:Jeden zweiten und vierten Montag des Monats findet das „Café der Begegnung“ unserer ökumen. Flüchtlingsinitiative „Ankommen in Hechtsheim AIH“ statt.\nHier treffen sich Alt- und Neu-Hechtsheimer bei Kaffee und Kuchen zu netten Gesprächen. \nSchnuppern Sie doch mal rein\, wir freuen uns auf Sie …..
URL:https://www.ekg-hechtsheim.de/veranstaltungen/regelmaessig-stattfindendes-cafe-der-begegnung-fluechtlingsinitiative-aih-23/
LOCATION:Gemeindezentrum Lion-Feuchtwanger-Straße\, Lion-Feuchtwanger Str. 14\, Mainz\, 55129\, Deutschland
CATEGORIES:Kultur,Sonstiges
GEO:49.9621;8.2738908
X-APPLE-STRUCTURED-LOCATION;VALUE=URI;X-ADDRESS=Gemeindezentrum Lion-Feuchtwanger-Straße Lion-Feuchtwanger Str. 14 Mainz 55129 Deutschland;X-APPLE-RADIUS=500;X-TITLE=Lion-Feuchtwanger Str. 14:geo:8.2738908,49.9621
END:VEVENT
BEGIN:VEVENT
DTSTART;TZID=Europe/Paris:20180410T181500
DTEND;TZID=Europe/Paris:20180410T181500
DTSTAMP:20260426T040416
CREATED:20180314T074711Z
LAST-MODIFIED:20180314T074711Z
UID:10000403-1523384100-1523384100@www.ekg-hechtsheim.de
SUMMARY:Jugendtreff Hechtsheim - Für alle Vor-\, Ex- und aktuellen Konfirmanden
DESCRIPTION:
URL:https://www.ekg-hechtsheim.de/veranstaltungen/jugendtreff-hechtsheim-fuer-alle-vor-ex-und-aktuellen-konfirmanden-11/
LOCATION:16:00 - \, Deutschland
CATEGORIES:Gemeinde
END:VEVENT
BEGIN:VEVENT
DTSTART;TZID=Europe/Paris:20180411T193000
DTEND;TZID=Europe/Paris:20180411T193000
DTSTAMP:20260426T040416
CREATED:20180313T105642Z
LAST-MODIFIED:20180313T105642Z
UID:10000919-1523475000-1523475000@www.ekg-hechtsheim.de
SUMMARY:Meditatives Tanzen
DESCRIPTION:
URL:https://www.ekg-hechtsheim.de/veranstaltungen/meditatives-tanzen-2/
LOCATION:Gemeindehaus Frankenhöhe\, Bodenheimer Straße 58\, Mainz\, 55129\, Deutschland
CATEGORIES:Gemeinde
GEO:49.9667007;8.2872534
X-APPLE-STRUCTURED-LOCATION;VALUE=URI;X-ADDRESS=Gemeindehaus Frankenhöhe Bodenheimer Straße 58 Mainz 55129 Deutschland;X-APPLE-RADIUS=500;X-TITLE=Bodenheimer Straße 58:geo:8.2872534,49.9667007
END:VEVENT
BEGIN:VEVENT
DTSTART;TZID=Europe/Paris:20180414T150000
DTEND;TZID=Europe/Paris:20180414T150000
DTSTAMP:20260426T040416
CREATED:20171206T080848Z
LAST-MODIFIED:20171206T080848Z
UID:10000721-1523718000-1523718000@www.ekg-hechtsheim.de
SUMMARY:Seniorenclub - Unterwegs auf einem alten Pilgerweg - der Olavsweg in Norwegen - Pfarrerin Stein
DESCRIPTION:
URL:https://www.ekg-hechtsheim.de/veranstaltungen/seniorenclub-unterwegs-auf-einem-alten-pilgerweg-der-olavsweg-in-norwegen-pfarrerin-stein/
LOCATION:16:00 - \, Deutschland
CATEGORIES:Gemeinde
END:VEVENT
BEGIN:VEVENT
DTSTART;TZID=Europe/Paris:20180414T170000
DTEND;TZID=Europe/Paris:20180414T223000
DTSTAMP:20260426T040416
CREATED:20171204T110413Z
LAST-MODIFIED:20180319T143518Z
UID:10000278-1523725200-1523745000@www.ekg-hechtsheim.de
SUMMARY:Benefizabend "Wein trifft Kultur" - Abendlicher Genuss mit Wein\, Kunst\, Lesung und Musik im Weingut Christophorus-Hof zugunsten der evangelischen Kita
DESCRIPTION:Abendlicher Genuss mit Wein\, Kunst\, Lesung und Musik im Weingut Christophorus-Hof am Samstag\, 14. April\, ab 17 Uhr. \nDer Eintritt ist frei\, die Arbeitsgemeinschaft Fundraising Krippe erbittet Spenden für den Bauerhalt der evangelischen Einrichtung. \nWas erwartet Sie? Der Christophorus-Hof der Familie Schmitt-Rieth verwandelt sich am Samstag\, 14. April\, ab 17 Uhr in einen behaglichen Ort zum Ausspannen und Genießen. In Szene gesetzte kunstvolle Skulpturen und Gemälde der Bildenden Künstlerin Anne Schmitt aus Zornheim\, interessante Lesungen und Gespräche mit der Mainzer Autorin Dr. Nicole Weisheit-Zenz sowie anregende Musik des Limburger Interpreten Klaus Werner lassen an diesem Abend den Alltag vergessen. Dazu präsentieren Simone Schmitt-Rieth und ihr Team Erlesenes aus dem Winzerkeller.
URL:https://www.ekg-hechtsheim.de/veranstaltungen/kunst-und-wein/
CATEGORIES:Gemeinde
END:VEVENT
BEGIN:VEVENT
DTSTART;TZID=Europe/Paris:20180415T100000
DTEND;TZID=Europe/Paris:20180415T100000
DTSTAMP:20260426T040416
CREATED:20180313T105142Z
LAST-MODIFIED:20180325T184151Z
UID:10000880-1523786400-1523786400@www.ekg-hechtsheim.de
SUMMARY:Gemeindezentrum Hechtsheim – Familiengottesdienst
DESCRIPTION:
URL:https://www.ekg-hechtsheim.de/veranstaltungen/familien-gottesdienst/
LOCATION:16:00 - \, Deutschland
CATEGORIES:Gottesdienste
END:VEVENT
BEGIN:VEVENT
DTSTART;TZID=Europe/Paris:20180415T110000
DTEND;TZID=Europe/Paris:20180415T110000
DTSTAMP:20260426T040416
CREATED:20180313T105231Z
LAST-MODIFIED:20180325T184255Z
UID:10000857-1523790000-1523790000@www.ekg-hechtsheim.de
SUMMARY:Gemeindehaus Frankenhöhe - Gottesdienst
DESCRIPTION:
URL:https://www.ekg-hechtsheim.de/veranstaltungen/gottesdienst-50/
LOCATION:Gemeindehaus Frankenhöhe\, Bodenheimer Straße 58\, Mainz\, 55129\, Deutschland
CATEGORIES:Gottesdienste
GEO:49.9667007;8.2872534
X-APPLE-STRUCTURED-LOCATION;VALUE=URI;X-ADDRESS=Gemeindehaus Frankenhöhe Bodenheimer Straße 58 Mainz 55129 Deutschland;X-APPLE-RADIUS=500;X-TITLE=Bodenheimer Straße 58:geo:8.2872534,49.9667007
END:VEVENT
BEGIN:VEVENT
DTSTART;TZID=Europe/Paris:20180416T193000
DTEND;TZID=Europe/Paris:20180416T210000
DTSTAMP:20260426T040416
CREATED:20171218T090742Z
LAST-MODIFIED:20180108T082553Z
UID:10000741-1523907000-1523912400@www.ekg-hechtsheim.de
SUMMARY:Abend in der Stille
DESCRIPTION:Einmal im Monat findet ein Abend in der Stille in der Regel am 3. Montag im Monat im Gemeindezentrum von 19.30 – 21  Uhr (außer in den Schulferien) statt. \nExerzitien im Alltag sind ein Weg\, auf dem wir einüben können\, den Alltag bewusster und aufmerksamer wahrzunehmen und Gott dort zu entdecken\, wo er sich von uns finden lassen möchte: mitten im Leben. \nAus dem Projekt in der Passionszeit 2016 ist der Wunsch entstanden\, regelmäßig\, einmal im Monat\, solche „Exerzitien im Alltag“ miteinander zu teilen und in Gemeinschaft einen solchen Weg zu gehen. \nEinmal im Monat sind alle Interessierten eingeladen zusammen zu kommen: zum Einüben verschiedener Formen von Zeiten der Stille\, Meditation über biblischen Worten und Gebet\, zum Austausch über die Erfahrungen. \nTermine in 2018: 22. Januar\, 19. Februar\,  19. März\, 23. April 21. Mai\, 18. Juni\, im Juli Pause wegen Sommerferien. \nBequeme Kleidung\, möglicherweise eine wärmende Decke oder Wollsocken\, um im Sitzen und Schweigen einen warmen Rücken und warme Füße zu behalten\, bringen Sie bitte dazu von zu Hause mit.
URL:https://www.ekg-hechtsheim.de/veranstaltungen/abend-in-der-stille-mit-den-perlen-des-glaubens-beten-und-ueber-gott-und-die-welt-gemeinsam-nachsinnen/2018-04-16/
LOCATION:16:00 - \, Deutschland
CATEGORIES:Gottesdienste
END:VEVENT
BEGIN:VEVENT
DTSTART;TZID=Europe/Paris:20180417T181500
DTEND;TZID=Europe/Paris:20180417T181500
DTSTAMP:20260426T040416
CREATED:20180314T074831Z
LAST-MODIFIED:20180314T074831Z
UID:10000404-1523988900-1523988900@www.ekg-hechtsheim.de
SUMMARY:Jugendtreff Hehctsheim - Für alle Vor-\, Ex- und aktuellen Konfirmanden
DESCRIPTION:
URL:https://www.ekg-hechtsheim.de/veranstaltungen/jugendtreff-hehctsheim-fuer-alle-vor-ex-und-aktuellen-konfirmanden/
LOCATION:Gemeindehaus Frankenhöhe\, Bodenheimer Straße 58\, Mainz\, 55129\, Deutschland
CATEGORIES:Gemeinde
GEO:49.9667007;8.2872534
X-APPLE-STRUCTURED-LOCATION;VALUE=URI;X-ADDRESS=Gemeindehaus Frankenhöhe Bodenheimer Straße 58 Mainz 55129 Deutschland;X-APPLE-RADIUS=500;X-TITLE=Bodenheimer Straße 58:geo:8.2872534,49.9667007
END:VEVENT
BEGIN:VEVENT
DTSTART;TZID=Europe/Paris:20180419T160000
DTEND;TZID=Europe/Paris:20180419T160000
DTSTAMP:20260426T040416
CREATED:20180313T105912Z
LAST-MODIFIED:20180313T105912Z
UID:10000922-1524153600-1524153600@www.ekg-hechtsheim.de
SUMMARY:Werktags-Gottesdienst mit Abendmahl
DESCRIPTION:
URL:https://www.ekg-hechtsheim.de/veranstaltungen/werktags-gottesdienst-mit-abendmahl/
LOCATION:16:00 - \, Deutschland
CATEGORIES:Gottesdienste
END:VEVENT
BEGIN:VEVENT
DTSTART;TZID=Europe/Paris:20180422T100000
DTEND;TZID=Europe/Paris:20180422T100000
DTSTAMP:20260426T040416
CREATED:20180313T110008Z
LAST-MODIFIED:20180325T184422Z
UID:10000924-1524391200-1524391200@www.ekg-hechtsheim.de
SUMMARY:Gemeindezentrum Hechtsheim – Gottesdienst
DESCRIPTION:
URL:https://www.ekg-hechtsheim.de/veranstaltungen/gottesdienst-51/
LOCATION:16:00 - \, Deutschland
CATEGORIES:Gottesdienste
END:VEVENT
BEGIN:VEVENT
DTSTART;TZID=Europe/Paris:20180422T110000
DTEND;TZID=Europe/Paris:20180422T110000
DTSTAMP:20260426T040416
CREATED:20180313T110125Z
LAST-MODIFIED:20180325T184542Z
UID:10000401-1524394800-1524394800@www.ekg-hechtsheim.de
SUMMARY:Gemeindehaus Frankenhöhe - Vorstellungsgottesdienst der Konfirmandinnen und Konfirmanden zum Thema "Freiheit"
DESCRIPTION:
URL:https://www.ekg-hechtsheim.de/veranstaltungen/vorstellungs-gottesdienst-der-konfirmandinnen-und-konfirmanden-zum-thema-freiheit/
LOCATION:Gemeindehaus Frankenhöhe\, Bodenheimer Straße 58\, Mainz\, 55129\, Deutschland
CATEGORIES:Gottesdienste
GEO:49.9667007;8.2872534
X-APPLE-STRUCTURED-LOCATION;VALUE=URI;X-ADDRESS=Gemeindehaus Frankenhöhe Bodenheimer Straße 58 Mainz 55129 Deutschland;X-APPLE-RADIUS=500;X-TITLE=Bodenheimer Straße 58:geo:8.2872534,49.9667007
END:VEVENT
BEGIN:VEVENT
DTSTART;TZID=Europe/Paris:20180423T170000
DTEND;TZID=Europe/Paris:20180423T190000
DTSTAMP:20260426T040416
CREATED:20180126T105852Z
LAST-MODIFIED:20180126T105852Z
UID:10000861-1524502800-1524510000@www.ekg-hechtsheim.de
SUMMARY:Regelmäßig stattfindendes CAFÉ DER BEGEGNUNG (Flüchtlingsinitiative AIH
DESCRIPTION:Jeden zweiten und vierten Montag des Monats findet das „Café der Begegnung“ unserer ökumen. Flüchtlingsinitiative „Ankommen in Hechtsheim AIH“ statt.\nHier treffen sich Alt- und Neu-Hechtsheimer bei Kaffee und Kuchen zu netten Gesprächen. \nSchnuppern Sie doch mal rein\, wir freuen uns auf Sie …..
URL:https://www.ekg-hechtsheim.de/veranstaltungen/regelmaessig-stattfindendes-cafe-der-begegnung-fluechtlingsinitiative-aih-24/
LOCATION:Gemeindezentrum Lion-Feuchtwanger-Straße\, Lion-Feuchtwanger Str. 14\, Mainz\, 55129\, Deutschland
CATEGORIES:Kultur,Sonstiges
GEO:49.9621;8.2738908
X-APPLE-STRUCTURED-LOCATION;VALUE=URI;X-ADDRESS=Gemeindezentrum Lion-Feuchtwanger-Straße Lion-Feuchtwanger Str. 14 Mainz 55129 Deutschland;X-APPLE-RADIUS=500;X-TITLE=Lion-Feuchtwanger Str. 14:geo:8.2738908,49.9621
END:VEVENT
BEGIN:VEVENT
DTSTART;TZID=Europe/Paris:20180423T193000
DTEND;TZID=Europe/Paris:20180423T210000
DTSTAMP:20260426T040416
CREATED:20171218T090742Z
LAST-MODIFIED:20180108T083306Z
UID:10000286-1524511800-1524517200@www.ekg-hechtsheim.de
SUMMARY:Abend in der Stille
DESCRIPTION:Einmal im Monat findet ein Abend in der Stille in der Regel am 3. Montag im Monat im Gemeindezentrum von 19.30 – 21  Uhr (außer in den Schulferien) statt. \nExerzitien im Alltag sind ein Weg\, auf dem wir einüben können\, den Alltag bewusster und aufmerksamer wahrzunehmen und Gott dort zu entdecken\, wo er sich von uns finden lassen möchte: mitten im Leben. \nAus dem Projekt in der Passionszeit 2016 ist der Wunsch entstanden\, regelmäßig\, einmal im Monat\, solche „Exerzitien im Alltag“ miteinander zu teilen und in Gemeinschaft einen solchen Weg zu gehen. \nEinmal im Monat sind alle Interessierten eingeladen zusammen zu kommen: zum Einüben verschiedener Formen von Zeiten der Stille\, Meditation über biblischen Worten und Gebet\, zum Austausch über die Erfahrungen. \nTermine in 2018: 22. Januar\, 19. Februar\,  19. März\, 23. April 21. Mai\, 18. Juni\, im Juli Pause wegen Sommerferien. \nBequeme Kleidung\, möglicherweise eine wärmende Decke oder Wollsocken\, um im Sitzen und Schweigen einen warmen Rücken und warme Füße zu behalten\, bringen Sie bitte dazu von zu Hause mit.
URL:https://www.ekg-hechtsheim.de/veranstaltungen/abend-in-der-stille-mit-den-perlen-des-glaubens-beten-und-ueber-gott-und-die-welt-gemeinsam-nachsinnen-2018-04-16/2018-04-23/
LOCATION:16:00 - \, Deutschland
CATEGORIES:Gottesdienste
END:VEVENT
BEGIN:VEVENT
DTSTART;TZID=Europe/Paris:20180424T181500
DTEND;TZID=Europe/Paris:20180424T181500
DTSTAMP:20260426T040416
CREATED:20180314T075105Z
LAST-MODIFIED:20180314T080201Z
UID:10000405-1524593700-1524593700@www.ekg-hechtsheim.de
SUMMARY:Jugendtreff Hechtsheim - Für alle Vor-\, Ex- und aktuellen Konfirmanden
DESCRIPTION:
URL:https://www.ekg-hechtsheim.de/veranstaltungen/jugendtreff-hechtsheim-fuer-alle-vor-ex-und-aktuellen-konfirmanden-12/2018-04-24/
LOCATION:16:00 - \, Deutschland
CATEGORIES:Gemeinde
END:VEVENT
BEGIN:VEVENT
DTSTART;TZID=Europe/Paris:20180425T180000
DTEND;TZID=Europe/Paris:20180425T180000
DTSTAMP:20260426T040416
CREATED:20171206T081932Z
LAST-MODIFIED:20180904T083801Z
UID:10000775-1524679200-1524679200@www.ekg-hechtsheim.de
SUMMARY:Lust auf Singen?! - Ökumenisches Angebot zum Gemeinsamen Singen von Weltlichen und Geistlichen Liedern mit Klavierbegleitung
DESCRIPTION:
URL:https://www.ekg-hechtsheim.de/veranstaltungen/lust-auf-singen-oekumenisches-angebot-zum-gemeinsamen-singen-von-weltlichen-und-geistlichen-liedern-mit-klavierbegleitung/2018-04-25/
LOCATION:16:00 - \, Deutschland
CATEGORIES:Gemeinde
END:VEVENT
BEGIN:VEVENT
DTSTART;TZID=Europe/Paris:20180428T180000
DTEND;TZID=Europe/Paris:20180428T180000
DTSTAMP:20260426T040416
CREATED:20180313T110401Z
LAST-MODIFIED:20180313T110401Z
UID:10000402-1524938400-1524938400@www.ekg-hechtsheim.de
SUMMARY:Vorabend-Gottesdienst zur Konfirmation mit Abendmahl
DESCRIPTION:
URL:https://www.ekg-hechtsheim.de/veranstaltungen/vorabend-gottesdienst-zur-konfirmation-mit-abendmahl/
LOCATION:16:00 - \, Deutschland
CATEGORIES:Gottesdienste
END:VEVENT
BEGIN:VEVENT
DTSTART;TZID=Europe/Paris:20180429T100000
DTEND;TZID=Europe/Paris:20180429T100000
DTSTAMP:20260426T040416
CREATED:20171204T110539Z
LAST-MODIFIED:20180314T074524Z
UID:10000728-1524996000-1524996000@www.ekg-hechtsheim.de
SUMMARY:Konfirmation im Gemeindezentrum
DESCRIPTION:
URL:https://www.ekg-hechtsheim.de/veranstaltungen/konfirmation-im-gemeindezentrum/
LOCATION:16:00 - \, Deutschland
CATEGORIES:Gottesdienste
END:VEVENT
BEGIN:VEVENT
DTSTART;TZID=Europe/Paris:20180429T140000
DTEND;TZID=Europe/Paris:20180429T200000
DTSTAMP:20260426T040416
CREATED:20180413T104822Z
LAST-MODIFIED:20180427T200859Z
UID:10000945-1525010400-1525032000@www.ekg-hechtsheim.de
SUMMARY:ES FÄLLT LEIDER AUS !!         Grillfest der ökumen.  Flüchtlingsinitiative "Ankommen in Hechtsheim" AIH
DESCRIPTION:Aus organisatorischen Gründen muss unser Grillfest am Sonntag leider AUSFALLEN. \nWir wünschen Ihnen allen trotzdem ein schönes Wochenende .. \n  \n  \n 
URL:https://www.ekg-hechtsheim.de/veranstaltungen/grillfest-der-oekumen-fluechtlingsinitiative-ankommen-in-hechtsheim-aih/
LOCATION:Gemeindezentrum Lion-Feuchtwanger-Straße\, Lion-Feuchtwanger Str. 14\, Mainz\, 55129\, Deutschland
CATEGORIES:Kultur,Sonstiges
ORGANIZER;CN="%C3%96kumenische Fl%C3%BCchtlingsinitiative AIH":MAILTO:ankommen.in.hechtsheim@gmail.com
GEO:49.9621;8.2738908
X-APPLE-STRUCTURED-LOCATION;VALUE=URI;X-ADDRESS=Gemeindezentrum Lion-Feuchtwanger-Straße Lion-Feuchtwanger Str. 14 Mainz 55129 Deutschland;X-APPLE-RADIUS=500;X-TITLE=Lion-Feuchtwanger Str. 14:geo:8.2738908,49.9621
END:VEVENT
BEGIN:VEVENT
DTSTART;TZID=Europe/Paris:20180429T180000
DTEND;TZID=Europe/Paris:20180429T180000
DTSTAMP:20260426T040416
CREATED:20180228T083822Z
LAST-MODIFIED:20180325T184648Z
UID:10000033-1525024800-1525024800@www.ekg-hechtsheim.de
SUMMARY:Gemeindehaus Frankenhöhe - "Das Leben ist bunt" - Ausstellungseröffnung 10 Jahre Malschule mal-zeit in Mainz-Hechtsheim (Ausstellung 29.4.-13.5.18) nach dem Abendgottesdienst
DESCRIPTION:
URL:https://www.ekg-hechtsheim.de/veranstaltungen/das-leben-ist-bunt-ausstellungseroeffnung-10-jahre-malschule-mal-zeit-in-mainz-hechtsheim-ausstellung-29-4-13-5-18-nach-dem-abendgottesdienst/
LOCATION:Gemeindehaus Frankenhöhe\, Bodenheimer Straße 58\, Mainz\, 55129\, Deutschland
CATEGORIES:Gemeinde
GEO:49.9667007;8.2872534
X-APPLE-STRUCTURED-LOCATION;VALUE=URI;X-ADDRESS=Gemeindehaus Frankenhöhe Bodenheimer Straße 58 Mainz 55129 Deutschland;X-APPLE-RADIUS=500;X-TITLE=Bodenheimer Straße 58:geo:8.2872534,49.9667007
END:VEVENT
BEGIN:VEVENT
DTSTART;VALUE=DATE:20180430
DTEND;VALUE=DATE:20180501
DTSTAMP:20260426T040416
CREATED:20180228T091116Z
LAST-MODIFIED:20180228T091339Z
UID:10000395-1525046400-1525132799@www.ekg-hechtsheim.de
SUMMARY:Kleidersammlung für die Stiftung Nieder-Ramstädter Diakonie in der Woche vom 30. April bis 05. Mai
DESCRIPTION:Sammelstellen sind das Gemeindezentrum und das Gemeindehaus
URL:https://www.ekg-hechtsheim.de/veranstaltungen/kleidersammlung-fuer-die-stiftung-nieder-ramstaedter-diakonie-in-der-woche-vom-30-april-bis-05-mai-am-gemeindezentrum-und-am-gemeindehaus/2018-04-30/
CATEGORIES:Gemeinde
END:VEVENT
END:VCALENDAR