BEGIN:VCALENDAR
VERSION:2.0
PRODID:-//Evangelische Kirchengemeinde Mainz-Hechtsheim - ECPv6.15.20//NONSGML v1.0//EN
CALSCALE:GREGORIAN
METHOD:PUBLISH
X-WR-CALNAME:Evangelische Kirchengemeinde Mainz-Hechtsheim
X-ORIGINAL-URL:https://www.ekg-hechtsheim.de
X-WR-CALDESC:Veranstaltungen für Evangelische Kirchengemeinde Mainz-Hechtsheim
REFRESH-INTERVAL;VALUE=DURATION:PT1H
X-Robots-Tag:noindex
X-PUBLISHED-TTL:PT1H
BEGIN:VTIMEZONE
TZID:Europe/Paris
BEGIN:DAYLIGHT
TZOFFSETFROM:+0100
TZOFFSETTO:+0200
TZNAME:CEST
DTSTART:20170326T010000
END:DAYLIGHT
BEGIN:STANDARD
TZOFFSETFROM:+0200
TZOFFSETTO:+0100
TZNAME:CET
DTSTART:20171029T010000
END:STANDARD
BEGIN:DAYLIGHT
TZOFFSETFROM:+0100
TZOFFSETTO:+0200
TZNAME:CEST
DTSTART:20180325T010000
END:DAYLIGHT
BEGIN:STANDARD
TZOFFSETFROM:+0200
TZOFFSETTO:+0100
TZNAME:CET
DTSTART:20181028T010000
END:STANDARD
BEGIN:DAYLIGHT
TZOFFSETFROM:+0100
TZOFFSETTO:+0200
TZNAME:CEST
DTSTART:20190331T010000
END:DAYLIGHT
BEGIN:STANDARD
TZOFFSETFROM:+0200
TZOFFSETTO:+0100
TZNAME:CET
DTSTART:20191027T010000
END:STANDARD
END:VTIMEZONE
BEGIN:VEVENT
DTSTART;TZID=Europe/Paris:20180302T170000
DTEND;TZID=Europe/Paris:20180302T170000
DTSTAMP:20260426T052518
CREATED:20171204T110047Z
LAST-MODIFIED:20180228T081535Z
UID:10000277-1520010000-1520010000@www.ekg-hechtsheim.de
SUMMARY:Ökumenischer Weltgebetstag 2018 aus Surinam - Herzliche Einladung ins Katholische Gemeindehaus\, Georg-Büchner-Str.
DESCRIPTION:
URL:https://www.ekg-hechtsheim.de/veranstaltungen/weltgebetstag/
LOCATION:Katholisches Gemeindehaus Hechtsheim\, Georg-Büchner-Str. 1\, Mainz\, 55129\, Deutschland
CATEGORIES:Gemeinde
GEO:49.9634123;8.2742837
X-APPLE-STRUCTURED-LOCATION;VALUE=URI;X-ADDRESS=Katholisches Gemeindehaus Hechtsheim Georg-Büchner-Str. 1 Mainz 55129 Deutschland;X-APPLE-RADIUS=500;X-TITLE=Georg-Büchner-Str. 1:geo:8.2742837,49.9634123
END:VEVENT
BEGIN:VEVENT
DTSTART;TZID=Europe/Paris:20180304T100000
DTEND;TZID=Europe/Paris:20180304T100000
DTSTAMP:20260426T052518
CREATED:20180115T100243Z
LAST-MODIFIED:20180115T100243Z
UID:10000769-1520157600-1520157600@www.ekg-hechtsheim.de
SUMMARY:Gottesdienst
DESCRIPTION:
URL:https://www.ekg-hechtsheim.de/veranstaltungen/gottesdienst-47/
LOCATION:16:00 - \, Deutschland
CATEGORIES:Gottesdienste
END:VEVENT
BEGIN:VEVENT
DTSTART;TZID=Europe/Paris:20180304T110000
DTEND;TZID=Europe/Paris:20180304T110000
DTSTAMP:20260426T052518
CREATED:20180115T100321Z
LAST-MODIFIED:20180115T100321Z
UID:10000768-1520161200-1520161200@www.ekg-hechtsheim.de
SUMMARY:Gottesdienst
DESCRIPTION:
URL:https://www.ekg-hechtsheim.de/veranstaltungen/gottesdienst-48/
LOCATION:Gemeindehaus Frankenhöhe\, Bodenheimer Straße 58\, Mainz\, 55129\, Deutschland
CATEGORIES:Gottesdienste
GEO:49.9667007;8.2872534
X-APPLE-STRUCTURED-LOCATION;VALUE=URI;X-ADDRESS=Gemeindehaus Frankenhöhe Bodenheimer Straße 58 Mainz 55129 Deutschland;X-APPLE-RADIUS=500;X-TITLE=Bodenheimer Straße 58:geo:8.2872534,49.9667007
END:VEVENT
BEGIN:VEVENT
DTSTART;TZID=Europe/Paris:20180306T181500
DTEND;TZID=Europe/Paris:20180306T181500
DTSTAMP:20260426T052518
CREATED:20180115T101537Z
LAST-MODIFIED:20180115T101537Z
UID:10000840-1520360100-1520360100@www.ekg-hechtsheim.de
SUMMARY:Jugendgruppe Hechtsheim - Für alle Vor-\, Ex- und aktuellen Konfirmanden - Heute im Gemeindehaus
DESCRIPTION:
URL:https://www.ekg-hechtsheim.de/veranstaltungen/jugendgruppe-hechtsheim-fuer-alle-vor-ex-und-aktuellen-konfirmanden-heute-im-gemeindehaus-2/
LOCATION:Gemeindehaus Frankenhöhe\, Bodenheimer Straße 58\, Mainz\, 55129\, Deutschland
CATEGORIES:Gemeinde
GEO:49.9667007;8.2872534
X-APPLE-STRUCTURED-LOCATION;VALUE=URI;X-ADDRESS=Gemeindehaus Frankenhöhe Bodenheimer Straße 58 Mainz 55129 Deutschland;X-APPLE-RADIUS=500;X-TITLE=Bodenheimer Straße 58:geo:8.2872534,49.9667007
END:VEVENT
BEGIN:VEVENT
DTSTART;TZID=Europe/Paris:20180307T190000
DTEND;TZID=Europe/Paris:20180307T190000
DTSTAMP:20260426T052518
CREATED:20180215T170323Z
LAST-MODIFIED:20180215T170323Z
UID:10000876-1520449200-1520449200@www.ekg-hechtsheim.de
SUMMARY:Abendgebet in der Passionszeit
DESCRIPTION:
URL:https://www.ekg-hechtsheim.de/veranstaltungen/abendgebet-in-der-passionszeit-9/
LOCATION:16:00 - \, Deutschland
CATEGORIES:Gottesdienste
END:VEVENT
BEGIN:VEVENT
DTSTART;TZID=Europe/Paris:20180308T160000
DTEND;TZID=Europe/Paris:20180308T160000
DTSTAMP:20260426T052518
CREATED:20180115T100852Z
LAST-MODIFIED:20180115T100852Z
UID:10000836-1520524800-1520524800@www.ekg-hechtsheim.de
SUMMARY:Werktagsgottesdienst mit Abendmahl
DESCRIPTION:
URL:https://www.ekg-hechtsheim.de/veranstaltungen/werktagsgottesdienst-mit-abendmahl-30/
LOCATION:16:00 - \, Deutschland
CATEGORIES:Gottesdienste
END:VEVENT
BEGIN:VEVENT
DTSTART;TZID=Europe/Paris:20180310T150000
DTEND;TZID=Europe/Paris:20180310T150000
DTSTAMP:20260426T052518
CREATED:20171206T080645Z
LAST-MODIFIED:20171206T080645Z
UID:10000720-1520694000-1520694000@www.ekg-hechtsheim.de
SUMMARY:Seniorenclub - Das Buch der fast vergessenen Wörter
DESCRIPTION:
URL:https://www.ekg-hechtsheim.de/veranstaltungen/seniorenclub-das-buch-der-fast-vergessenen-woerter/
LOCATION:16:00 - \, Deutschland
CATEGORIES:Gemeinde
END:VEVENT
BEGIN:VEVENT
DTSTART;TZID=Europe/Paris:20180311T100000
DTEND;TZID=Europe/Paris:20180311T100000
DTSTAMP:20260426T052518
CREATED:20180124T105111Z
LAST-MODIFIED:20180124T105111Z
UID:10000841-1520762400-1520762400@www.ekg-hechtsheim.de
SUMMARY:Gottesdienst mit Abendmahl
DESCRIPTION:
URL:https://www.ekg-hechtsheim.de/veranstaltungen/gottesdienst-mit-abendmahl-19/
LOCATION:16:00 - \, Deutschland
CATEGORIES:Gottesdienste
END:VEVENT
BEGIN:VEVENT
DTSTART;TZID=Europe/Paris:20180311T110000
DTEND;TZID=Europe/Paris:20180311T110000
DTSTAMP:20260426T052518
CREATED:20180124T105157Z
LAST-MODIFIED:20180124T105157Z
UID:10000373-1520766000-1520766000@www.ekg-hechtsheim.de
SUMMARY:Kinderkirche
DESCRIPTION:
URL:https://www.ekg-hechtsheim.de/veranstaltungen/kinderkirche-7/
LOCATION:Gemeindehaus Frankenhöhe\, Bodenheimer Straße 58\, Mainz\, 55129\, Deutschland
CATEGORIES:Gottesdienste
GEO:49.9667007;8.2872534
X-APPLE-STRUCTURED-LOCATION;VALUE=URI;X-ADDRESS=Gemeindehaus Frankenhöhe Bodenheimer Straße 58 Mainz 55129 Deutschland;X-APPLE-RADIUS=500;X-TITLE=Bodenheimer Straße 58:geo:8.2872534,49.9667007
END:VEVENT
BEGIN:VEVENT
DTSTART;TZID=Europe/Paris:20180312T170000
DTEND;TZID=Europe/Paris:20180312T190000
DTSTAMP:20260426T052518
CREATED:20180126T105304Z
LAST-MODIFIED:20180126T105554Z
UID:10000849-1520874000-1520881200@www.ekg-hechtsheim.de
SUMMARY:Regelmäßig stattfindendes CAFÉ DER BEGEGNUNG (Flüchtlingsinitiative AIH)
DESCRIPTION:Jeden zweiten und vierten Montag des Monats findet das „Café der Begegnung“ unserer ökumen. Flüchtlingsinitiative „Ankommen in Hechtsheim AIH“ statt.\nHier treffen sich Alt- und Neu-Hechtsheimer bei Kaffee und Kuchen zu netten Gesprächen. \nSchnuppern Sie doch mal rein\, wir freuen uns auf Sie …..
URL:https://www.ekg-hechtsheim.de/veranstaltungen/regelmaessig-stattfindendes-cafe-der-begegnung-fluechtlingsinitiative-aih-20/
LOCATION:Gemeindezentrum Lion-Feuchtwanger-Straße\, Lion-Feuchtwanger Str. 14\, Mainz\, 55129\, Deutschland
CATEGORIES:Kultur,Sonstiges
GEO:49.9621;8.2738908
X-APPLE-STRUCTURED-LOCATION;VALUE=URI;X-ADDRESS=Gemeindezentrum Lion-Feuchtwanger-Straße Lion-Feuchtwanger Str. 14 Mainz 55129 Deutschland;X-APPLE-RADIUS=500;X-TITLE=Lion-Feuchtwanger Str. 14:geo:8.2738908,49.9621
END:VEVENT
BEGIN:VEVENT
DTSTART;TZID=Europe/Paris:20180313T181500
DTEND;TZID=Europe/Paris:20180313T181500
DTSTAMP:20260426T052518
CREATED:20180124T105427Z
LAST-MODIFIED:20180124T105427Z
UID:10000375-1520964900-1520964900@www.ekg-hechtsheim.de
SUMMARY:Jugendgruppe Hechtsheim - Für alle Vor-\, Ex- und aktuellen Konfirmanden - Heute im Gemeindezentrum
DESCRIPTION:
URL:https://www.ekg-hechtsheim.de/veranstaltungen/jugendgruppe-hechtsheim-fuer-alle-vor-ex-und-aktuellen-konfirmanden-heute-im-gemeindezentrum-3/
LOCATION:16:00 - \, Deutschland
CATEGORIES:Gemeinde
END:VEVENT
BEGIN:VEVENT
DTSTART;TZID=Europe/Paris:20180314T190000
DTEND;TZID=Europe/Paris:20180314T190000
DTSTAMP:20260426T052518
CREATED:20180124T105602Z
LAST-MODIFIED:20180124T105602Z
UID:10000377-1521054000-1521054000@www.ekg-hechtsheim.de
SUMMARY:Abendgebet in der Passionszeit
DESCRIPTION:
URL:https://www.ekg-hechtsheim.de/veranstaltungen/abendgebet-in-der-passionszeit-7/
LOCATION:16:00 - \, Deutschland
CATEGORIES:Gottesdienste
END:VEVENT
BEGIN:VEVENT
DTSTART;TZID=Europe/Paris:20180314T193000
DTEND;TZID=Europe/Paris:20180314T193000
DTSTAMP:20260426T052518
CREATED:20180124T105813Z
LAST-MODIFIED:20180124T105813Z
UID:10000378-1521055800-1521055800@www.ekg-hechtsheim.de
SUMMARY:Meditatives Tanzen
DESCRIPTION:
URL:https://www.ekg-hechtsheim.de/veranstaltungen/meditatives-tanzen/
LOCATION:Gemeindehaus Frankenhöhe\, Bodenheimer Straße 58\, Mainz\, 55129\, Deutschland
CATEGORIES:Gemeinde
GEO:49.9667007;8.2872534
X-APPLE-STRUCTURED-LOCATION;VALUE=URI;X-ADDRESS=Gemeindehaus Frankenhöhe Bodenheimer Straße 58 Mainz 55129 Deutschland;X-APPLE-RADIUS=500;X-TITLE=Bodenheimer Straße 58:geo:8.2872534,49.9667007
END:VEVENT
BEGIN:VEVENT
DTSTART;TZID=Europe/Paris:20180315T193000
DTEND;TZID=Europe/Paris:20180315T210000
DTSTAMP:20260426T052518
CREATED:20171204T105929Z
LAST-MODIFIED:20171204T105929Z
UID:10000276-1521142200-1521147600@www.ekg-hechtsheim.de
SUMMARY:Mit der Bibel im Gespräch - Gemeinsamer Austausch über Glauben\, Fragen und Zweifel zum Thema Auferstehung
DESCRIPTION:
URL:https://www.ekg-hechtsheim.de/veranstaltungen/mit-der-bibel-im-gespraech-gemeinsamer-austausch-ueber-glauben-fragen-und-zweifel-zum-thema-auferstehung-2/
LOCATION:Gemeindehaus Frankenhöhe\, Bodenheimer Straße 58\, Mainz\, 55129\, Deutschland
CATEGORIES:Gemeinde
GEO:49.9667007;8.2872534
X-APPLE-STRUCTURED-LOCATION;VALUE=URI;X-ADDRESS=Gemeindehaus Frankenhöhe Bodenheimer Straße 58 Mainz 55129 Deutschland;X-APPLE-RADIUS=500;X-TITLE=Bodenheimer Straße 58:geo:8.2872534,49.9667007
END:VEVENT
BEGIN:VEVENT
DTSTART;TZID=Europe/Paris:20180316T200000
DTEND;TZID=Europe/Paris:20180316T200000
DTSTAMP:20260426T052518
CREATED:20180124T112127Z
LAST-MODIFIED:20180124T112127Z
UID:10000845-1521230400-1521230400@www.ekg-hechtsheim.de
SUMMARY:CVJM-Spiele-Abend
DESCRIPTION:
URL:https://www.ekg-hechtsheim.de/veranstaltungen/cvjm-spiele-abend-5/
LOCATION:16:00 - \, Deutschland
CATEGORIES:Gemeinde
END:VEVENT
BEGIN:VEVENT
DTSTART;TZID=Europe/Paris:20180317T140000
DTEND;TZID=Europe/Paris:20180317T160000
DTSTAMP:20260426T052518
CREATED:20171003T102903Z
LAST-MODIFIED:20171003T102903Z
UID:10000561-1521295200-1521302400@www.ekg-hechtsheim.de
SUMMARY:Frühlingsbasar des Fördervereins der KiTa "Kinderkram kinderleicht verkauft und gekauft"
DESCRIPTION:Nähere Infos auf unserer Homepage unter „KiTa“
URL:https://www.ekg-hechtsheim.de/veranstaltungen/fruehlingsbasar-des-foerdervereins-der-kita-kinderkram-kinderleicht-verkauft-und-gekauft/
CATEGORIES:Gemeinde
END:VEVENT
BEGIN:VEVENT
DTSTART;TZID=Europe/Paris:20180318T100000
DTEND;TZID=Europe/Paris:20180318T100000
DTSTAMP:20260426T052518
CREATED:20180131T112350Z
LAST-MODIFIED:20180221T095550Z
UID:10000862-1521367200-1521367200@www.ekg-hechtsheim.de
SUMMARY:Vorstellungsgottesdienst der Konfirmandinnen und Konfirmanden\, anschliessend Brunch
DESCRIPTION:
URL:https://www.ekg-hechtsheim.de/veranstaltungen/gottesdienst-der-konfirmandinnen-und-konfirmanden-anschliessend-brunch-2/
LOCATION:16:00 - \, Deutschland
CATEGORIES:Gottesdienste
END:VEVENT
BEGIN:VEVENT
DTSTART;TZID=Europe/Paris:20180318T180000
DTEND;TZID=Europe/Paris:20180318T180000
DTSTAMP:20260426T052518
CREATED:20170830T083752Z
LAST-MODIFIED:20170830T083752Z
UID:10000211-1521396000-1521396000@www.ekg-hechtsheim.de
SUMMARY:Literatur-Abend-Gottesdienst - Was ist Heimat? - Sabine Bode "Das Mädchen im Strom"
DESCRIPTION:Im Anschluss an den Gottesdienst Gelegenheit zum Gespräch bei einem Glas Wein und Büchertisch der Buchhandlung Ruthmann
URL:https://www.ekg-hechtsheim.de/veranstaltungen/literatur-abend-gottesdienst-was-ist-heimat-sabine-bode-das-maedchen-im-strom/
LOCATION:Gemeindehaus Frankenhöhe\, Bodenheimer Straße 58\, Mainz\, 55129\, Deutschland
CATEGORIES:Gottesdienste
GEO:49.9667007;8.2872534
X-APPLE-STRUCTURED-LOCATION;VALUE=URI;X-ADDRESS=Gemeindehaus Frankenhöhe Bodenheimer Straße 58 Mainz 55129 Deutschland;X-APPLE-RADIUS=500;X-TITLE=Bodenheimer Straße 58:geo:8.2872534,49.9667007
END:VEVENT
BEGIN:VEVENT
DTSTART;TZID=Europe/Paris:20180319T193000
DTEND;TZID=Europe/Paris:20180319T210000
DTSTAMP:20260426T052518
CREATED:20171218T090742Z
LAST-MODIFIED:20180108T082553Z
UID:10000740-1521487800-1521493200@www.ekg-hechtsheim.de
SUMMARY:Abend in der Stille
DESCRIPTION:Einmal im Monat findet ein Abend in der Stille in der Regel am 3. Montag im Monat im Gemeindezentrum von 19.30 – 21  Uhr (außer in den Schulferien) statt. \nExerzitien im Alltag sind ein Weg\, auf dem wir einüben können\, den Alltag bewusster und aufmerksamer wahrzunehmen und Gott dort zu entdecken\, wo er sich von uns finden lassen möchte: mitten im Leben. \nAus dem Projekt in der Passionszeit 2016 ist der Wunsch entstanden\, regelmäßig\, einmal im Monat\, solche „Exerzitien im Alltag“ miteinander zu teilen und in Gemeinschaft einen solchen Weg zu gehen. \nEinmal im Monat sind alle Interessierten eingeladen zusammen zu kommen: zum Einüben verschiedener Formen von Zeiten der Stille\, Meditation über biblischen Worten und Gebet\, zum Austausch über die Erfahrungen. \nTermine in 2018: 22. Januar\, 19. Februar\,  19. März\, 23. April 21. Mai\, 18. Juni\, im Juli Pause wegen Sommerferien. \nBequeme Kleidung\, möglicherweise eine wärmende Decke oder Wollsocken\, um im Sitzen und Schweigen einen warmen Rücken und warme Füße zu behalten\, bringen Sie bitte dazu von zu Hause mit.
URL:https://www.ekg-hechtsheim.de/veranstaltungen/abend-in-der-stille-mit-den-perlen-des-glaubens-beten-und-ueber-gott-und-die-welt-gemeinsam-nachsinnen/2018-03-19/
LOCATION:16:00 - \, Deutschland
CATEGORIES:Gottesdienste
END:VEVENT
BEGIN:VEVENT
DTSTART;TZID=Europe/Paris:20180320T181500
DTEND;TZID=Europe/Paris:20180320T181500
DTSTAMP:20260426T052518
CREATED:20180131T112623Z
LAST-MODIFIED:20180131T112623Z
UID:10000863-1521569700-1521569700@www.ekg-hechtsheim.de
SUMMARY:Jugendgruppe Hechtsheim - Für alle Vor-\, Ex-und aktuellen Konfirmanden
DESCRIPTION:
URL:https://www.ekg-hechtsheim.de/veranstaltungen/jugendgruppe-hechtsheim-fuer-alle-vor-ex-und-aktuellen-konfirmanden/
LOCATION:Gemeindehaus Frankenhöhe\, Bodenheimer Straße 58\, Mainz\, 55129\, Deutschland
CATEGORIES:Gemeinde
GEO:49.9667007;8.2872534
X-APPLE-STRUCTURED-LOCATION;VALUE=URI;X-ADDRESS=Gemeindehaus Frankenhöhe Bodenheimer Straße 58 Mainz 55129 Deutschland;X-APPLE-RADIUS=500;X-TITLE=Bodenheimer Straße 58:geo:8.2872534,49.9667007
END:VEVENT
BEGIN:VEVENT
DTSTART;TZID=Europe/Paris:20180320T190000
DTEND;TZID=Europe/Paris:20180320T220000
DTSTAMP:20260426T052518
CREATED:20180131T112735Z
LAST-MODIFIED:20180131T112735Z
UID:10000864-1521572400-1521583200@www.ekg-hechtsheim.de
SUMMARY:Kreisversammlung CVJM
DESCRIPTION:
URL:https://www.ekg-hechtsheim.de/veranstaltungen/kreisversammlung-cvjm/
LOCATION:16:00 - \, Deutschland
CATEGORIES:Sonstiges
END:VEVENT
BEGIN:VEVENT
DTSTART;TZID=Europe/Paris:20180321T190000
DTEND;TZID=Europe/Paris:20180321T190000
DTSTAMP:20260426T052518
CREATED:20180131T112845Z
LAST-MODIFIED:20180131T112845Z
UID:10000866-1521658800-1521658800@www.ekg-hechtsheim.de
SUMMARY:Abendgebet in der Passionszeit
DESCRIPTION:
URL:https://www.ekg-hechtsheim.de/veranstaltungen/abendgebet-in-der-passionszeit-8/
LOCATION:16:00 - \, Deutschland
CATEGORIES:Gottesdienste
END:VEVENT
BEGIN:VEVENT
DTSTART;TZID=Europe/Paris:20180322T160000
DTEND;TZID=Europe/Paris:20180322T170000
DTSTAMP:20260426T052518
CREATED:20180131T112950Z
LAST-MODIFIED:20180131T112950Z
UID:10000868-1521734400-1521738000@www.ekg-hechtsheim.de
SUMMARY:Werktagsgottesdienst mit Abendmahl
DESCRIPTION:
URL:https://www.ekg-hechtsheim.de/veranstaltungen/werktagsgottesdienst-mit-abendmahl-31/
LOCATION:16:00 - \, Deutschland
CATEGORIES:Gottesdienste
END:VEVENT
BEGIN:VEVENT
DTSTART;TZID=Europe/Paris:20180322T190000
DTEND;TZID=Europe/Paris:20180322T190000
DTSTAMP:20260426T052518
CREATED:20180221T104839Z
LAST-MODIFIED:20180221T104839Z
UID:10000883-1521745200-1521745200@www.ekg-hechtsheim.de
SUMMARY:Elternabend zur Konfirmation im Gemeindehaus
DESCRIPTION:
URL:https://www.ekg-hechtsheim.de/veranstaltungen/elternabend-zur-konfirmation-im-gemeindehaus/
LOCATION:Gemeindehaus Frankenhöhe\, Bodenheimer Straße 58\, Mainz\, 55129\, Deutschland
CATEGORIES:Gemeinde
GEO:49.9667007;8.2872534
X-APPLE-STRUCTURED-LOCATION;VALUE=URI;X-ADDRESS=Gemeindehaus Frankenhöhe Bodenheimer Straße 58 Mainz 55129 Deutschland;X-APPLE-RADIUS=500;X-TITLE=Bodenheimer Straße 58:geo:8.2872534,49.9667007
END:VEVENT
BEGIN:VEVENT
DTSTART;TZID=Europe/Paris:20180325T100000
DTEND;TZID=Europe/Paris:20180325T100000
DTSTAMP:20260426T052518
CREATED:20180221T105119Z
LAST-MODIFIED:20180221T105119Z
UID:10000885-1521972000-1521972000@www.ekg-hechtsheim.de
SUMMARY:"Wir gehen hinauf nach Jerusalem." - Gottesdienst an Palmsonntag
DESCRIPTION:
URL:https://www.ekg-hechtsheim.de/veranstaltungen/wir-gehen-hinauf-nach-jerusalem-gottesdienst-an-palmsonntag/
LOCATION:16:00 - \, Deutschland
CATEGORIES:Gottesdienste
END:VEVENT
BEGIN:VEVENT
DTSTART;TZID=Europe/Paris:20180325T110000
DTEND;TZID=Europe/Paris:20180325T110000
DTSTAMP:20260426T052518
CREATED:20180221T105246Z
LAST-MODIFIED:20180221T105246Z
UID:10000886-1521975600-1521975600@www.ekg-hechtsheim.de
SUMMARY:"Ich weiche nicht zurück." (Jesaja 50) - Gottesdienst an Palmsonntag
DESCRIPTION:
URL:https://www.ekg-hechtsheim.de/veranstaltungen/ich-weiche-nicht-zurueck-jesaja-50-gottesdienst-an-palmsonntag/
LOCATION:Gemeindehaus Frankenhöhe\, Bodenheimer Straße 58\, Mainz\, 55129\, Deutschland
CATEGORIES:Gottesdienste
GEO:49.9667007;8.2872534
X-APPLE-STRUCTURED-LOCATION;VALUE=URI;X-ADDRESS=Gemeindehaus Frankenhöhe Bodenheimer Straße 58 Mainz 55129 Deutschland;X-APPLE-RADIUS=500;X-TITLE=Bodenheimer Straße 58:geo:8.2872534,49.9667007
END:VEVENT
BEGIN:VEVENT
DTSTART;VALUE=DATE:20180326
DTEND;VALUE=DATE:20180330
DTSTAMP:20260426T052518
CREATED:20180321T081518Z
LAST-MODIFIED:20180321T081518Z
UID:10000949-1522022400-1522367999@www.ekg-hechtsheim.de
SUMMARY:KiTa geschlossen wegen Konzeptionstagen
DESCRIPTION:
URL:https://www.ekg-hechtsheim.de/veranstaltungen/kita-geschlossen-wegen-konzeptionstagen/
LOCATION:Außengelände der Evang. Kindertagesstätte\, Lion-Feuchtwanger-Straße 18\, Mainz\, Rheinland-Pfalz\, 55129\, Deutschland
CATEGORIES:Gemeinde
GEO:49.9611488;8.2732788
X-APPLE-STRUCTURED-LOCATION;VALUE=URI;X-ADDRESS=Außengelände der Evang. Kindertagesstätte Lion-Feuchtwanger-Straße 18 Mainz Rheinland-Pfalz 55129 Deutschland;X-APPLE-RADIUS=500;X-TITLE=Lion-Feuchtwanger-Straße 18:geo:8.2732788,49.9611488
END:VEVENT
BEGIN:VEVENT
DTSTART;TZID=Europe/Paris:20180326T170000
DTEND;TZID=Europe/Paris:20180326T190000
DTSTAMP:20260426T052518
CREATED:20180126T105357Z
LAST-MODIFIED:20180126T105446Z
UID:10000859-1522083600-1522090800@www.ekg-hechtsheim.de
SUMMARY:Regelmäßig stattfindendes CAFÉ DER BEGEGNUNG (Flüchtlingsinitiative AIH)
DESCRIPTION:Jeden zweiten und vierten Montag des Monats findet das „Café der Begegnung“ unserer ökumen. Flüchtlingsinitiative „Ankommen in Hechtsheim AIH“ statt.\nHier treffen sich Alt- und Neu-Hechtsheimer bei Kaffee und Kuchen zu netten Gesprächen. \nSchnuppern Sie doch mal rein\, wir freuen uns auf Sie …..
URL:https://www.ekg-hechtsheim.de/veranstaltungen/regelmaessig-stattfindendes-cafe-der-begegnung-fluechtlingsinitiative-aih-22/
LOCATION:Gemeindezentrum Lion-Feuchtwanger-Straße\, Lion-Feuchtwanger Str. 14\, Mainz\, 55129\, Deutschland
CATEGORIES:Kultur,Sonstiges
GEO:49.9621;8.2738908
X-APPLE-STRUCTURED-LOCATION;VALUE=URI;X-ADDRESS=Gemeindezentrum Lion-Feuchtwanger-Straße Lion-Feuchtwanger Str. 14 Mainz 55129 Deutschland;X-APPLE-RADIUS=500;X-TITLE=Lion-Feuchtwanger Str. 14:geo:8.2738908,49.9621
END:VEVENT
BEGIN:VEVENT
DTSTART;TZID=Europe/Paris:20180328T180000
DTEND;TZID=Europe/Paris:20180328T180000
DTSTAMP:20260426T052518
CREATED:20171206T081932Z
LAST-MODIFIED:20180904T083801Z
UID:10000774-1522260000-1522260000@www.ekg-hechtsheim.de
SUMMARY:Lust auf Singen?! - Ökumenisches Angebot zum Gemeinsamen Singen von Weltlichen und Geistlichen Liedern mit Klavierbegleitung
DESCRIPTION:
URL:https://www.ekg-hechtsheim.de/veranstaltungen/lust-auf-singen-oekumenisches-angebot-zum-gemeinsamen-singen-von-weltlichen-und-geistlichen-liedern-mit-klavierbegleitung/2018-03-28/
LOCATION:16:00 - \, Deutschland
CATEGORIES:Gemeinde
END:VEVENT
BEGIN:VEVENT
DTSTART;TZID=Europe/Paris:20180329T170000
DTEND;TZID=Europe/Paris:20180329T170000
DTSTAMP:20260426T052518
CREATED:20180221T105415Z
LAST-MODIFIED:20180325T183147Z
UID:10000893-1522342800-1522342800@www.ekg-hechtsheim.de
SUMMARY:Gemeindezentrum Hechtsheim - "Das Mahl der Freiheit" - Abendmahlsgottesdienst an Tischen
DESCRIPTION:
URL:https://www.ekg-hechtsheim.de/veranstaltungen/das-mahl-der-freiheit-abendmahlsgottesdienst-an-tischen-2/
LOCATION:16:00 - \, Deutschland
CATEGORIES:Gottesdienste
END:VEVENT
END:VCALENDAR